Workbook

Sheet ÖSSZEFÜGGÉSEK
A2: Költségvetési rendelet űrlapjainak összefüggései:
A5: 2024. évi előirányzat BEVÉTELEK
A7: 1. sz. melléklet Bevételek táblázat C. oszlop 9 sora = | B7: 3. számú melléklet C. oszlop 13. sor + 4. számú melléklet C. oszlop 12. sor
A8: 1. sz. melléklet Bevételek táblázat C. oszlop 17 sora = | B8: 3. számú melléklet C. oszlop 24. sor + 4. számú melléklet C. oszlop 25. sor
A9: 1. sz. melléklet Bevételek táblázat C. oszlop 18 sora = | B9: 3. számú melléklet C. oszlop 25. sor + 4. számú melléklet C. oszlop 26. sor
A12: =+CONCATENATE(LEFT(A5,4),". évi előirányzat KIADÁSOK") -> 2024. évi előirányzat KIADÁSOK
A14: 1. sz. melléklet Kiadások táblázat C. oszlop 3 sora = | B14: 3. számú melléklet E. oszlop 13. sor + 4. számú melléklet E. oszlop 12. sor
A15: 1. sz. melléklet Kiadások táblázat C. oszlop 10 sora = | B15: 3. számú melléklet E. oszlop 24. sor + 4. számú melléklet E. oszlop 25. sor
A16: 1. sz. melléklet Kiadások táblázat C. oszlop 11 sora = | B16: 3. számú melléklet E. oszlop 25. sor + 4. számú melléklet E. oszlop 26. sor

Sheet 1. melléklet
A1: B E V É T E L E K
A2: 1. sz. táblázat | C2: Forintban
A3: Sor- szám | B3: Bevételi jogcím | C3: 2024. évi eredeti előirányzat
A4: A | B4: B | C4: C
A5: 1. | B5: Önkormányzat működési támogatásai (1.1.+…+.1.6.) | C5: =+C6+C7+C8+C10+C11+C12+C9 -> 227984154
A6: 1.1. | B6: Helyi önkormányzatok működésének általános támogatása | C6: 89307853
A7: 1.2. | B7: Önkormányzatok egyes köznevelési feladatainak támogatása | C7: 58048685
A8: 1.3. | B8: Önkormányzatok szociális és gyermekjóléti feladatainak támogatása | C8: 43005100
A9: 1.3.1. | B9: Önkormányzatok gyermekétkeztetési feladatainak támogatása | C9: 34898313
A10: 1.4. | B10: Önkormányzatok kulturális feladatainak támogatása | C10: 2724203
A11: 1.5. | B11: Működési célú kvi támogatások és kiegészítő támogatások
A12: 1.6. | B12: Elszámolásból származó bevételek
A13: 2. | B13: Működési célú támogatások államháztartáson belülről (2.1.+…+.2.5.) | C13: =+C14+C15+C16+C17+C18 -> 0
A14: 2.1. | B14: Elvonások és befizetések bevételei
A15: 2.2. | B15: Működési célú garancia- és kezességvállalásból megtérülések
A16: 2.3. | B16: Működési célú visszatérítendő támogatások, kölcsönök visszatérülése
A17: 2.4. | B17: Működési célú visszatérítendő támogatások, kölcsönök igénybevétele
A18: 2.5. | B18: Egyéb működési célú támogatások bevételei
A19: 2.6. | B19: 2.5.-ből EU-s támogatás
A20: 3. | B20: Felhalmozási célú támogatások államháztartáson belülről (3.1.+…+3.5.) | C20: =+C21+C22+C23+C24+C25 -> 0
A21: 3.1. | B21: Felhalmozási célú önkormányzati támogatások
A22: 3.2. | B22: Felhalmozási célú garancia- és kezességvállalásból megtérülések
A23: 3.3. | B23: Felhalmozási célú visszatérítendő támogatások, kölcsönök visszatérülése
A24: 3.4. | B24: Felhalmozási célú visszatérítendő támogatások, kölcsönök igénybevétele
A25: 3.5. | B25: Egyéb felhalmozási célú támogatások bevételei
A26: 3.6. | B26: 3.5.-ből EU-s támogatás
A27: 4. | B27: Közhatalmi bevételek (4.1.+4.2.+4.3.+4.4.) | C27: =SUM(C28+C29+C30+C31+C32+C33+C34) -> 33000000
A28: 4.1. | B28: Helyi adók (4.1.1.+...+4.1.3.)
A29: 4.1.1. | B29: - Vagyoni típusú adók | C29: 33000000
A30: 4.1.2. | B30: - Termékek és szolgáltatások adói
A31: 4.1.3. | B31: - Értékesítési és forgalmi adók (iparűzési adó)
A32: 4.2. | B32: Gépjárműadó
A33: 4.3. | B33: Egyéb áruhasználati és szolgáltatási adók
A34: 4.4. | B34: Egyéb közhatalmi bevételek
A35: 5. | B35: Működési bevételek (5.1.+…+ 5.11.) | C35: =SUM(C36:C46) -> 92971193
A36: 5.1. | B36: Készletértékesítés ellenértéke | C36: 450000
A37: 5.2. | B37: Szolgáltatások ellenértéke | C37: 3000000
A38: 5.3. | B38: Közvetített szolgáltatások értéke
A39: 5.4. | B39: Tulajdonosi bevételek (bérleti díjak)
A40: 5.5. | B40: Ellátási díjak (térítési díjak)
A41: 5.6. | B41: Kiszámlázott általános forgalmi adó | C41: 1000000
A42: 5.7. | B42: Általános forgalmi adó visszatérítése
A43: 5.8. | B43: Kamatbevételek
A44: 5.9. | B44: Egyéb pénzügyi műveletek bevételei
A45: 5.10. | B45: Biztosító által fizetett kártérítés
A46: 5.11. | B46: Egyéb működési bevételek | C46: 88521193
A47: 6. | B47: Felhalmozási bevételek (6.1.+…+6.5.) | C47: =SUM(C48:C52) -> 0
A48: 6.1. | B48: Immateriális javak értékesítése
A49: 6.2. | B49: Ingatlanok értékesítése
A50: 6.3. | B50: Egyéb tárgyi eszközök értékesítése
A51: 6.4. | B51: Részesedések értékesítése
A52: 6.5. | B52: Részesedések megszűnéséhez kapcsolódó bevételek
A53: 7. | B53: Működési célú átvett pénzeszközök (7.1. + … + 7.3.) | C53: =SUM(C54:C57) -> 0
A54: 7.1. | B54: Működési célú garancia- és kezességvállalásból megtérülések ÁH-n kívülről
A55: 7.2. | B55: Működési célú visszatérítendő támogatások, kölcsönök visszatér. ÁH-n kívülről
A56: 7.3. | B56: Egyéb működési célú átvett pénzeszköz
A57: 7.4. | B57: 7.3.-ból EU-s támogatás (közvetlen)
A58: 8. | B58: Felhalmozási célú átvett pénzeszközök (8.1.+8.2.+8.3.) | C58: =SUM(C59:C61) -> 0
A59: 8.1. | B59: Felhalm. célú garancia- és kezességvállalásból megtérülések ÁH-n kívülről
A60: 8.2. | B60: Felhalm. célú visszatérítendő támogatások, kölcsönök visszatér. ÁH-n kívülről
A61: 8.3. | B61: Egyéb felhalmozási célú átvett pénzeszköz
A62: 8.4. | B62: 8.3.-ból EU-s támogatás (közvetlen)
A63: 9. | B63: KÖLTSÉGVETÉSI BEVÉTELEK ÖSSZESEN: (1+…+8) | C63: =+C5+C13+C20+C27+C35+C47+C53+C58 -> 353955347
A64: 10. | B64: Hitel-, kölcsönfelvétel államháztartáson kívülről (10.1.+10.3.) | C64: =SUM(C65:C67) -> 0
A65: 10.1. | B65: Hosszú lejáratú hitelek, kölcsönök felvétele
A66: 10.2. | B66: Likviditási célú hitelek, kölcsönök felvétele pénzügyi vállalkozástól
A67: 10.3. | B67: Rövid lejáratú hitelek, kölcsönök felvétele
A68: 11. | B68: Belföldi értékpapírok bevételei (11.1. +…+ 11.4.) | C68: =SUM(C69:C72) -> 0
A69: 11.1. | B69: Forgatási célú belföldi értékpapírok beváltása, értékesítése
A70: 11.2. | B70: Forgatási célú belföldi értékpapírok kibocsátása
A71: 11.3. | B71: Befektetési célú belföldi értékpapírok beváltása, értékesítése
A72: 11.4. | B72: Befektetési célú belföldi értékpapírok kibocsátása
A73: 12. | B73: Maradvány igénybevétele (12.1. + 12.2.) | C73: =SUM(C74:C75) -> 29661694
A74: 12.1. | B74: Előző év költségvetési maradványának igénybevétele | C74: 29661694
A75: 12.2. | B75: Előző év vállalkozási maradványának igénybevétele
A76: 13. | B76: Belföldi finanszírozás bevételei (13.1. + … + 13.3.) | C76: =SUM(C77:C80) -> 0
A77: 13.1. | B77: Államháztartáson belüli megelőlegezések
A78: 13.2. | B78: Államháztartáson belüli megelőlegezések törlesztése
A79: 13.3. | B79: Központi, irányító szervi támogatás
A80: 13.4. | B80: Betétek megszüntetése
A81: 14. | B81: Külföldi finanszírozás bevételei (14.1.+…14.4.) | C81: =SUM(C82:C85) -> 0
A82: 14.1. | B82: Forgatási célú külföldi értékpapírok beváltása, értékesítése
A83: 14.2. | B83: Befektetési célú külföldi értékpapírok beváltása, értékesítése
A84: 14.3. | B84: Külföldi értékpapírok kibocsátása
A85: 14.4. | B85: Külföldi hitelek, kölcsönök felvétele
A86: 15. | B86: Váltóbevételek
A87: 16. | B87: Adóssághoz nem kapcsolódó származékos ügyletek bevételei
A88: 17. | B88: FINANSZÍROZÁSI BEVÉTELEK ÖSSZESEN: (10. + … +16.) | C88: =+C64+C68+C73+C76+C81+C87+C86 -> 29661694
A89: 18. | B89: KÖLTSÉGVETÉSI ÉS FINANSZÍROZÁSI BEVÉTELEK ÖSSZESEN: (9+17) | C89: =+C63+C88 -> 383617041
A92: K I A D Á S O K
A93: 2. sz. táblázat
A94: Sor- szám | B94: Kiadási jogcímek | C94: =+C3 -> 2024. évi eredeti előirányzat
A95: A | B95: B | C95: C
A96: 1. | B96: Működési költségvetés kiadásai (1.1+…+1.5.+1.18.) | C96: =C97+C98+C99+C100+C101 -> 381810946
A97: 1.1. | B97: Személyi juttatások | C97: 214168434
A98: 1.2. | B98: Munkaadókat terhelő járulékok és szociális hozzájárulási adó | C98: 23553745
A99: 1.3. | B99: Dologi kiadások | C99: 112176507
A100: 1.4. | B100: Ellátottak pénzbeli juttatásai | C100: 31912260
A101: 1.5 | B101: Egyéb működési célú kiadások
A102: 1.6. | B102: - az 1.5-ből: - Előző évi elszámolásból származó befizetések | C102: ='11. melléklet'!C101 -> 0
...

Sheet 2. melléklet 
A1: B E V É T E L E K
A2: 1. sz. táblázat | C2: Forintban
A3: Sor- szám | B3: Bevételi jogcím | C3: 2024.évi eredeti előirányzat
A4: A | B4: B | C4: C
A5: 1. | B5: Önkormányzat működési támogatásai (1.1.+…+.1.6.) | C5: =+C6+C7+C8+C10+C11+C12+C9 -> 227984154
A6: 1.1. | B6: Helyi önkormányzatok működésének általános támogatása | C6: ='1. melléklet'!C6 -> 89307853
A7: 1.2. | B7: Önkormányzatok egyes köznevelési feladatainak támogatása | C7: ='1. melléklet'!C7 -> 58048685
A8: 1.3. | B8: Önkormányzatok szociális és gyermekjóléti feladatainak támogatása | C8: ='1. melléklet'!C8 -> 43005100
A9: 1.3.1. | B9: Önkormányzatok gyermekétkeztetési feladatainak támogatása | C9: 34898313
A10: 1.4. | B10: Önkormányzatok kulturális feladatainak támogatása | C10: ='1. melléklet'!C10 -> 2724203
A11: 1.5. | B11: Működési célú kvi támogatások és kiegészítő támogatások | C11: ='1. melléklet'!C11 -> 0
A12: 1.6. | B12: Elszámolásból származó bevételek | C12: ='1. melléklet'!C12 -> 0
A13: 2. | B13: Működési célú támogatások államháztartáson belülről (2.1.+…+.2.5.) | C13: =+C14+C15+C16+C17+C18 -> 0
A14: 2.1. | B14: Elvonások és befizetések bevételei
A15: 2.2. | B15: Működési célú garancia- és kezességvállalásból megtérülések
A16: 2.3. | B16: Működési célú visszatérítendő támogatások, kölcsönök visszatérülése
A17: 2.4. | B17: Működési célú visszatérítendő támogatások, kölcsönök igénybevétele
A18: 2.5. | B18: Egyéb működési célú támogatások bevételei | C18: ='1. melléklet'!C18 -> 0
A19: 2.6. | B19: 2.5.-ből EU-s támogatás
A20: 3. | B20: Felhalmozási célú támogatások államháztartáson belülről (3.1.+…+3.5.) | C20: =+C21+C22+C23+C24+C25 -> 0
A21: 3.1. | B21: Felhalmozási célú önkormányzati támogatások
A22: 3.2. | B22: Felhalmozási célú garancia- és kezességvállalásból megtérülések
A23: 3.3. | B23: Felhalmozási célú visszatérítendő támogatások, kölcsönök visszatérülése
A24: 3.4. | B24: Felhalmozási célú visszatérítendő támogatások, kölcsönök igénybevétele
A25: 3.5. | B25: Egyéb felhalmozási célú támogatások bevételei
A26: 3.6. | B26: 3.5.-ből EU-s támogatás
A27: 4. | B27: Közhatalmi bevételek (4.1.+4.2.+4.3.+4.4.) | C27: =SUM(C28+C29+C30+C31+C32+C33+C34) -> 33000000
A28: 4.1. | B28: Helyi adók (4.1.1.+...+4.1.3.)
A29: 4.1.1. | B29: - Vagyoni típusú adók | C29: 33000000
A30: 4.1.2. | B30: - Termékek és szolgáltatások adói
A31: 4.1.3. | B31: - Értékesítési és forgalmi adók (iparűzési adó) | C31: ='1. melléklet'!C31 -> 0
A32: 4.2. | B32: Gépjárműadó | C32: ='1. melléklet'!C32 -> 0
A33: 4.3. | B33: Egyéb áruhasználati és szolgáltatási adók
A34: 4.4. | B34: Egyéb közhatalmi bevételek
A35: 5. | B35: Működési bevételek (5.1.+…+ 5.11.) | C35: =SUM(C36:C46) -> 92971193
A36: 5.1. | B36: Készletértékesítés ellenértéke | C36: 450000
A37: 5.2. | B37: Szolgáltatások ellenértéke | C37: ='1. melléklet'!C37 -> 3000000
A38: 5.3. | B38: Közvetített szolgáltatások értéke
A39: 5.4. | B39: Tulajdonosi bevételek | C39: ='1. melléklet'!C39 -> 0
A40: 5.5. | B40: Ellátási díjak | C40: ='1. melléklet'!C40 -> 0
A41: 5.6. | B41: Kiszámlázott általános forgalmi adó | C41: ='1. melléklet'!C41 -> 1000000
A42: 5.7. | B42: Általános forgalmi adó visszatérítése
A43: 5.8. | B43: Kamatbevételek | C43: ='1. melléklet'!C43 -> 0
A44: 5.9. | B44: Egyéb pénzügyi műveletek bevételei
A45: 5.10. | B45: Biztosító által fizetett kártérítés
A46: 5.11. | B46: Egyéb működési bevételek | C46: 88521193
A47: 6. | B47: Felhalmozási bevételek (6.1.+…+6.5.) | C47: =SUM(C48:C52) -> 0
A48: 6.1. | B48: Immateriális javak értékesítése
A49: 6.2. | B49: Ingatlanok értékesítése
A50: 6.3. | B50: Egyéb tárgyi eszközök értékesítése
A51: 6.4. | B51: Részesedések értékesítése
A52: 6.5. | B52: Részesedések megszűnéséhez kapcsolódó bevételek
A53: 7. | B53: Működési célú átvett pénzeszközök (7.1. + … + 7.3.) | C53: =SUM(C54:C56) -> 0
A54: 7.1. | B54: Működési célú garancia- és kezességvállalásból megtérülések ÁH-n kívülről
A55: 7.2. | B55: Működési célú visszatérítendő támogatások, kölcsönök visszatér. ÁH-n kívülről
A56: 7.3. | B56: Egyéb működési célú átvett pénzeszköz | C56: ='1. melléklet'!C56 -> 0
A57: 7.4. | B57: 7.3.-ból EU-s támogatás (közvetlen)
A58: 8. | B58: Felhalmozási célú átvett pénzeszközök (8.1.+8.2.+8.3.) | C58: =SUM(C59:C61) -> 0
A59: 8.1. | B59: Felhalm. célú garancia- és kezességvállalásból megtérülések ÁH-n kívülről
A60: 8.2. | B60: Felhalm. célú visszatérítendő támogatások, kölcsönök visszatér. ÁH-n kívülről
A61: 8.3. | B61: Egyéb felhalmozási célú átvett pénzeszköz | C61: ='1. melléklet'!C61 -> 0
A62: 8.4. | B62: 8.3.-ból EU-s támogatás (közvetlen)
A63: 9. | B63: KÖLTSÉGVETÉSI BEVÉTELEK ÖSSZESEN: (1+…+8) | C63: =+C5+C13+C20+C27+C35+C47+C53+C58 -> 353955347
A64: 10. | B64: Hitel-, kölcsönfelvétel államháztartáson kívülről (10.1.+10.3.) | C64: =SUM(C65:C67) -> 0
A65: 10.1. | B65: Hosszú lejáratú hitelek, kölcsönök felvétele
A66: 10.2. | B66: Likviditási célú hitelek, kölcsönök felvétele pénzügyi vállalkozástól
A67: 10.3. | B67: Rövid lejáratú hitelek, kölcsönök felvétele
A68: 11. | B68: Belföldi értékpapírok bevételei (11.1. +…+ 11.4.) | C68: =SUM(C69:C72) -> 0
A69: 11.1. | B69: Forgatási célú belföldi értékpapírok beváltása, értékesítése
A70: 11.2. | B70: Forgatási célú belföldi értékpapírok kibocsátása
A71: 11.3. | B71: Befektetési célú belföldi értékpapírok beváltása, értékesítése
A72: 11.4. | B72: Befektetési célú belföldi értékpapírok kibocsátása
A73: 12. | B73: Maradvány igénybevétele (12.1. + 12.2.) | C73: =SUM(C74:C75) -> 29661694
A74: 12.1. | B74: Előző év költségvetési maradványának igénybevétele | C74: ='1. melléklet'!C74 -> 29661694
A75: 12.2. | B75: Előző év vállalkozási maradványának igénybevétele
A76: 13. | B76: Belföldi finanszírozás bevételei (13.1. + … + 13.3.) | C76: =SUM(C77:C80) -> 0
A77: 13.1. | B77: Államháztartáson belüli megelőlegezések
A78: 13.2. | B78: Államháztartáson belüli megelőlegezések törlesztése
A79: 13.3. | B79: Központi, irányító szervi támogatás | C79: ='1. melléklet'!C79 -> 0
A80: 13.4. | B80: Betétek megszüntetése
A81: 14. | B81: Külföldi finanszírozás bevételei (14.1.+…14.4.) | C81: =SUM(C82:C85) -> 0
A82: 14.1. | B82: Forgatási célú külföldi értékpapírok beváltása, értékesítése
A83: 14.2. | B83: Befektetési célú külföldi értékpapírok beváltása, értékesítése
A84: 14.3. | B84: Külföldi értékpapírok kibocsátása
A85: 14.4. | B85: Külföldi hitelek, kölcsönök felvétele
A86: 15. | B86: Váltóbevételek
A87: 16. | B87: Adóssághoz nem kapcsolódó származékos ügyletek bevételei
A88: 17. | B88: FINANSZÍROZÁSI BEVÉTELEK ÖSSZESEN: (10. + … +16.) | C88: =+C64+C68+C73+C76+C81+C87+C86 -> 29661694
A89: 18. | B89: KÖLTSÉGVETÉSI ÉS FINANSZÍROZÁSI BEVÉTELEK ÖSSZESEN: (9+17) | C89: =+C63+C88 -> 383617041
A91: K I A D Á S O K
A92: 2. sz. táblázat
A93: Sor- szám | B93: Kiadási jogcímek | C93: =+C3 -> 2024.évi eredeti előirányzat
A94: A | B94: B | C94: C
A95: 1. | B95: Működési költségvetés kiadásai (1.1+…+1.5.+1.18.) | C95: =C96+C97+C98+C99+C100 -> 381810946
A96: 1.1. | B96: Személyi juttatások | C96: ='1. melléklet'!C97 -> 214168434
A97: 1.2. | B97: Munkaadókat terhelő járulékok és szociális hozzájárulási adó | C97: ='1. melléklet'!C98 -> 23553745
A98: 1.3. | B98: Dologi kiadások | C98: ='1. melléklet'!C99 -> 112176507
A99: 1.4. | B99: Ellátottak pénzbeli juttatásai | C99: ='1. melléklet'!C100 -> 31912260
A100: 1.5 | B100: Egyéb működési célú kiadások | C100: ='1. melléklet'!C101 -> 0
A101: 1.6. | B101: - az 1.5-ből: - Előző évi elszámolásból származó befizetések | C101: ='1. melléklet'!C102 -> 0
...

Sheet 1.3.sz.mell.
A1: B E V É T E L E K
A2: 1. sz. táblázat | C2: Ezer forintban
A3: Sor- szám | B3: Bevételi jogcím | C3: =+CONCATENATE(LEFT(ÖSSZEFÜGGÉSEK!A5,4),". évi előirányzat") -> 2024. évi előirányzat
A4: A | B4: B | C4: C
A5: 1. | B5: Önkormányzat működési támogatásai (1.1.+…+.1.6.) | C5: =+C6+C7+C8+C9+C10+C11 -> 0
A6: 1.1. | B6: Helyi önkormányzatok működésének általános támogatása
A7: 1.2. | B7: Önkormányzatok egyes köznevelési feladatainak támogatása
A8: 1.3. | B8: Önkormányzatok szociális és gyermekjóléti feladatainak támogatása
A9: 1.4. | B9: Önkormányzatok kulturális feladatainak támogatása
A10: 1.5. | B10: Működési célú kvi támogatások és kiegészítő támogatások
A11: 1.6. | B11: Elszámolásból származó bevételek
A12: 2. | B12: Működési célú támogatások államháztartáson belülről (2.1.+…+.2.5.) | C12: =+C13+C14+C15+C16+C17 -> 0
A13: 2.1. | B13: Elvonások és befizetések bevételei
A14: 2.2. | B14: Működési célú garancia- és kezességvállalásból megtérülések
A15: 2.3. | B15: Működési célú visszatérítendő támogatások, kölcsönök visszatérülése
A16: 2.4. | B16: Működési célú visszatérítendő támogatások, kölcsönök igénybevétele
A17: 2.5. | B17: Egyéb működési célú támogatások bevételei
A18: 2.6. | B18: 2.5.-ből EU-s támogatás
A19: 3. | B19: Felhalmozási célú támogatások államháztartáson belülről (3.1.+…+3.5.) | C19: =+C20+C21+C22+C23+C24 -> 0
A20: 3.1. | B20: Felhalmozási célú önkormányzati támogatások
A21: 3.2. | B21: Felhalmozási célú garancia- és kezességvállalásból megtérülések
A22: 3.3. | B22: Felhalmozási célú visszatérítendő támogatások, kölcsönök visszatérülése
A23: 3.4. | B23: Felhalmozási célú visszatérítendő támogatások, kölcsönök igénybevétele
A24: 3.5. | B24: Egyéb felhalmozási célú támogatások bevételei
A25: 3.6. | B25: 3.5.-ből EU-s támogatás
A26: 4. | B26: Közhatalmi bevételek (4.1.+4.2.+4.3.+4.4.) | C26: =+C27+C31+C32+C33 -> 0
A27: 4.1. | B27: Helyi adók (4.1.1.+...+4.1.3.) | C27: =+C28+C29+C30 -> 0
A28: 4.1.1. | B28: - Vagyoni típusú adók
A29: 4.1.2. | B29: - Termékek és szolgáltatások adói
A30: 4.1.3. | B30: - Értékesítési és forgalmi adók (iparűzési adó)
A31: 4.2. | B31: Gépjárműadó
A32: 4.3. | B32: Egyéb áruhasználati és szolgáltatási adók
A33: 4.4. | B33: Egyéb közhatalmi bevételek
A34: 5. | B34: Működési bevételek (5.1.+…+ 5.11.) | C34: =SUM(C35:C45) -> 0
A35: 5.1. | B35: Készletértékesítés ellenértéke
A36: 5.2. | B36: Szolgáltatások ellenértéke
A37: 5.3. | B37: Közvetített szolgáltatások értéke
A38: 5.4. | B38: Tulajdonosi bevételek
A39: 5.5. | B39: Ellátási díjak
A40: 5.6. | B40: Kiszámlázott általános forgalmi adó
A41: 5.7. | B41: Általános forgalmi adó visszatérítése
A42: 5.8. | B42: Kamatbevételek
A43: 5.9. | B43: Egyéb pénzügyi műveletek bevételei
A44: 5.10. | B44: Biztosító által fizetett kártérítés
A45: 5.11. | B45: Egyéb működési bevételek
A46: 6. | B46: Felhalmozási bevételek (6.1.+…+6.5.) | C46: =SUM(C47:C51) -> 0
A47: 6.1. | B47: Immateriális javak értékesítése
A48: 6.2. | B48: Ingatlanok értékesítése
A49: 6.3. | B49: Egyéb tárgyi eszközök értékesítése
A50: 6.4. | B50: Részesedések értékesítése
A51: 6.5. | B51: Részesedések megszűnéséhez kapcsolódó bevételek
A52: 7. | B52: Működési célú átvett pénzeszközök (7.1. + … + 7.3.) | C52: =SUM(C53:C55) -> 0
A53: 7.1. | B53: Működési célú garancia- és kezességvállalásból megtérülések ÁH-n kívülről
A54: 7.2. | B54: Működési célú visszatérítendő támogatások, kölcsönök visszatér. ÁH-n kívülről
A55: 7.3. | B55: Egyéb működési célú átvett pénzeszköz
A56: 7.4. | B56: 7.3.-ból EU-s támogatás (közvetlen)
A57: 8. | B57: Felhalmozási célú átvett pénzeszközök (8.1.+8.2.+8.3.) | C57: =SUM(C58:C60) -> 0
A58: 8.1. | B58: Felhalm. célú garancia- és kezességvállalásból megtérülések ÁH-n kívülről
A59: 8.2. | B59: Felhalm. célú visszatérítendő támogatások, kölcsönök visszatér. ÁH-n kívülről
A60: 8.3. | B60: Egyéb felhalmozási célú átvett pénzeszköz
A61: 8.4. | B61: 8.3.-ból EU-s támogatás (közvetlen)
A62: 9. | B62: KÖLTSÉGVETÉSI BEVÉTELEK ÖSSZESEN: (1+…+8) | C62: =+C5+C12+C19+C26+C34+C46+C52+C57 -> 0
A63: 10. | B63: Hitel-, kölcsönfelvétel államháztartáson kívülről (10.1.+10.3.) | C63: =SUM(C64:C66) -> 0
A64: 10.1. | B64: Hosszú lejáratú hitelek, kölcsönök felvétele
A65: 10.2. | B65: Likviditási célú hitelek, kölcsönök felvétele pénzügyi vállalkozástól
A66: 10.3. | B66: Rövid lejáratú hitelek, kölcsönök felvétele
A67: 11. | B67: Belföldi értékpapírok bevételei (11.1. +…+ 11.4.) | C67: =SUM(C68:C71) -> 0
A68: 11.1. | B68: Forgatási célú belföldi értékpapírok beváltása, értékesítése
A69: 11.2. | B69: Forgatási célú belföldi értékpapírok kibocsátása
A70: 11.3. | B70: Befektetési célú belföldi értékpapírok beváltása, értékesítése
A71: 11.4. | B71: Befektetési célú belföldi értékpapírok kibocsátása
A72: 12. | B72: Maradvány igénybevétele (12.1. + 12.2.) | C72: =SUM(C73:C74) -> 0
A73: 12.1. | B73: Előző év költségvetési maradványának igénybevétele
A74: 12.2. | B74: Előző év vállalkozási maradványának igénybevétele
A75: 13. | B75: Belföldi finanszírozás bevételei (13.1. + … + 13.3.) | C75: =SUM(C76:C79) -> 0
A76: 13.1. | B76: Államháztartáson belüli megelőlegezések
A77: 13.2. | B77: Államháztartáson belüli megelőlegezések törlesztése
A78: 13.3. | B78: Központi, irányító szervi támogatás (óvoda) | C78: 0
A79: 13.4. | B79: Betétek megszüntetése
A80: 14. | B80: Külföldi finanszírozás bevételei (14.1.+…14.4.) | C80: =SUM(C81:C84) -> 0
A81: 14.1. | B81: Forgatási célú külföldi értékpapírok beváltása, értékesítése
A82: 14.2. | B82: Befektetési célú külföldi értékpapírok beváltása, értékesítése
A83: 14.3. | B83: Külföldi értékpapírok kibocsátása
A84: 14.4. | B84: Külföldi hitelek, kölcsönök felvétele
A85: 15. | B85: Váltóbevételek
A86: 16. | B86: Adóssághoz nem kapcsolódó származékos ügyletek bevételei
A87: 17. | B87: FINANSZÍROZÁSI BEVÉTELEK ÖSSZESEN: (10. + … +16.) | C87: =+C63+C67+C72+C75+C80+C86+C85 -> 0
A88: 18. | B88: KÖLTSÉGVETÉSI ÉS FINANSZÍROZÁSI BEVÉTELEK ÖSSZESEN: (9+17) | C88: =+C62+C87 -> 0
A90: K I A D Á S O K
A91: 2. sz. táblázat | C91: Ezer forintban
A92: Sor- szám | B92: Kiadási jogcímek | C92: =+C3 -> 2024. évi előirányzat
A93: A | B93: B | C93: C
A94: 1. | B94: Működési költségvetés kiadásai (1.1+…+1.5.+1.18.) | C94: =C95+C96+C97+C98+C99+C112 -> 0
A95: 1.1. | B95: Személyi juttatások
A96: 1.2. | B96: Munkaadókat terhelő járulékok és szociális hozzájárulási adó
A97: 1.3. | B97: Dologi kiadások
A98: 1.4. | B98: Ellátottak pénzbeli juttatásai
A99: 1.5 | B99: Egyéb működési célú kiadások
A100: 1.6. | B100: - az 1.5-ből: - Előző évi elszámolásból származó befizetések
A101: 1.7. | B101: - Törvényi előíráson alapuló befizetések
...

Sheet 1.4.sz.mell.
A1: B E V É T E L E K
A2: 1. sz. táblázat | C2: Ezer forintban
A3: Sor- szám | B3: Bevételi jogcím | C3: =+CONCATENATE(LEFT(ÖSSZEFÜGGÉSEK!A5,4),". évi előirányzat") -> 2024. évi előirányzat
A4: A | B4: B | C4: C
A5: 1. | B5: Önkormányzat működési támogatásai (1.1.+…+.1.6.) | C5: =+C6+C7+C8+C9+C10+C11 -> 0
A6: 1.1. | B6: Helyi önkormányzatok működésének általános támogatása
A7: 1.2. | B7: Önkormányzatok egyes köznevelési feladatainak támogatása
A8: 1.3. | B8: Önkormányzatok szociális és gyermekjóléti feladatainak támogatása
A9: 1.4. | B9: Önkormányzatok kulturális feladatainak támogatása
A10: 1.5. | B10: Működési célú kvi támogatások és kiegészítő támogatások
A11: 1.6. | B11: Elszámolásból származó bevételek
A12: 2. | B12: Működési célú támogatások államháztartáson belülről (2.1.+…+.2.5.) | C12: =+C13+C14+C15+C16+C17 -> 0
A13: 2.1. | B13: Elvonások és befizetések bevételei
A14: 2.2. | B14: Működési célú garancia- és kezességvállalásból megtérülések
A15: 2.3. | B15: Működési célú visszatérítendő támogatások, kölcsönök visszatérülése
A16: 2.4. | B16: Működési célú visszatérítendő támogatások, kölcsönök igénybevétele
A17: 2.5. | B17: Egyéb működési célú támogatások bevételei
A18: 2.6. | B18: 2.5.-ből EU-s támogatás
A19: 3. | B19: Felhalmozási célú támogatások államháztartáson belülről (3.1.+…+3.5.) | C19: =+C20+C21+C22+C23+C24 -> 0
A20: 3.1. | B20: Felhalmozási célú önkormányzati támogatások
A21: 3.2. | B21: Felhalmozási célú garancia- és kezességvállalásból megtérülések
A22: 3.3. | B22: Felhalmozási célú visszatérítendő támogatások, kölcsönök visszatérülése
A23: 3.4. | B23: Felhalmozási célú visszatérítendő támogatások, kölcsönök igénybevétele
A24: 3.5. | B24: Egyéb felhalmozási célú támogatások bevételei
A25: 3.6. | B25: 3.5.-ből EU-s támogatás
A26: 4. | B26: Közhatalmi bevételek (4.1.+4.2.+4.3.+4.4.) | C26: =+C27+C31+C32+C33 -> 0
A27: 4.1. | B27: Helyi adók (4.1.1.+...+4.1.3.) | C27: =+C28+C29+C30 -> 0
A28: 4.1.1. | B28: - Vagyoni típusú adók
A29: 4.1.2. | B29: - Termékek és szolgáltatások adói
A30: 4.1.3. | B30: - Értékesítési és forgalmi adók (iparűzési adó)
A31: 4.2. | B31: Gépjárműadó
A32: 4.3. | B32: Egyéb áruhasználati és szolgáltatási adók
A33: 4.4. | B33: Egyéb közhatalmi bevételek
A34: 5. | B34: Működési bevételek (5.1.+…+ 5.11.) | C34: =SUM(C35:C45) -> 0
A35: 5.1. | B35: Készletértékesítés ellenértéke
A36: 5.2. | B36: Szolgáltatások ellenértéke
A37: 5.3. | B37: Közvetített szolgáltatások értéke
A38: 5.4. | B38: Tulajdonosi bevételek
A39: 5.5. | B39: Ellátási díjak
A40: 5.6. | B40: Kiszámlázott általános forgalmi adó
A41: 5.7. | B41: Általános forgalmi adó visszatérítése
A42: 5.8. | B42: Kamatbevételek
A43: 5.9. | B43: Egyéb pénzügyi műveletek bevételei
A44: 5.10. | B44: Biztosító által fizetett kártérítés
A45: 5.11. | B45: Egyéb működési bevételek
A46: 6. | B46: Felhalmozási bevételek (6.1.+…+6.5.) | C46: =SUM(C47:C51) -> 0
A47: 6.1. | B47: Immateriális javak értékesítése
A48: 6.2. | B48: Ingatlanok értékesítése
A49: 6.3. | B49: Egyéb tárgyi eszközök értékesítése
A50: 6.4. | B50: Részesedések értékesítése
A51: 6.5. | B51: Részesedések megszűnéséhez kapcsolódó bevételek
A52: 7. | B52: Működési célú átvett pénzeszközök (7.1. + … + 7.3.) | C52: =SUM(C53:C55) -> 0
A53: 7.1. | B53: Működési célú garancia- és kezességvállalásból megtérülések ÁH-n kívülről
A54: 7.2. | B54: Működési célú visszatérítendő támogatások, kölcsönök visszatér. ÁH-n kívülről
A55: 7.3. | B55: Egyéb működési célú átvett pénzeszköz
A56: 7.4. | B56: 7.3.-ból EU-s támogatás (közvetlen)
A57: 8. | B57: Felhalmozási célú átvett pénzeszközök (8.1.+8.2.+8.3.) | C57: =SUM(C58:C60) -> 0
A58: 8.1. | B58: Felhalm. célú garancia- és kezességvállalásból megtérülések ÁH-n kívülről
A59: 8.2. | B59: Felhalm. célú visszatérítendő támogatások, kölcsönök visszatér. ÁH-n kívülről
A60: 8.3. | B60: Egyéb felhalmozási célú átvett pénzeszköz
A61: 8.4. | B61: 8.3.-ból EU-s támogatás (közvetlen)
A62: 9. | B62: KÖLTSÉGVETÉSI BEVÉTELEK ÖSSZESEN: (1+…+8) | C62: =+C5+C12+C19+C26+C34+C46+C52+C57 -> 0
A63: 10. | B63: Hitel-, kölcsönfelvétel államháztartáson kívülről (10.1.+10.3.) | C63: =SUM(C64:C66) -> 0
A64: 10.1. | B64: Hosszú lejáratú hitelek, kölcsönök felvétele
A65: 10.2. | B65: Likviditási célú hitelek, kölcsönök felvétele pénzügyi vállalkozástól
A66: 10.3. | B66: Rövid lejáratú hitelek, kölcsönök felvétele
A67: 11. | B67: Belföldi értékpapírok bevételei (11.1. +…+ 11.4.) | C67: =SUM(C68:C71) -> 0
A68: 11.1. | B68: Forgatási célú belföldi értékpapírok beváltása, értékesítése
A69: 11.2. | B69: Forgatási célú belföldi értékpapírok kibocsátása
A70: 11.3. | B70: Befektetési célú belföldi értékpapírok beváltása, értékesítése
A71: 11.4. | B71: Befektetési célú belföldi értékpapírok kibocsátása
A72: 12. | B72: Maradvány igénybevétele (12.1. + 12.2.) | C72: =SUM(C73:C74) -> 0
A73: 12.1. | B73: Előző év költségvetési maradványának igénybevétele
A74: 12.2. | B74: Előző év vállalkozási maradványának igénybevétele
A75: 13. | B75: Belföldi finanszírozás bevételei (13.1. + … + 13.3.) | C75: =SUM(C76:C78) -> 0
A76: 13.1. | B76: Államháztartáson belüli megelőlegezések
A77: 13.2. | B77: Államháztartáson belüli megelőlegezések törlesztése
A78: 13.3. | B78: Betétek megszüntetése
A79: 14. | B79: Külföldi finanszírozás bevételei (14.1.+…14.4.) | C79: =SUM(C80:C83) -> 0
A80: 14.1. | B80: Forgatási célú külföldi értékpapírok beváltása, értékesítése
A81: 14.2. | B81: Befektetési célú külföldi értékpapírok beváltása, értékesítése
A82: 14.3. | B82: Külföldi értékpapírok kibocsátása
A83: 14.4. | B83: Külföldi hitelek, kölcsönök felvétele
A84: 15. | B84: Váltóbevételek
A85: 16. | B85: Adóssághoz nem kapcsolódó származékos ügyletek bevételei
A86: 17. | B86: FINANSZÍROZÁSI BEVÉTELEK ÖSSZESEN: (10. + … +16.) | C86: =+C63+C67+C72+C75+C79+C85+C84 -> 0
A87: 18. | B87: KÖLTSÉGVETÉSI ÉS FINANSZÍROZÁSI BEVÉTELEK ÖSSZESEN: (9+17) | C87: =+C62+C86 -> 0
A89: K I A D Á S O K
A90: 2. sz. táblázat | C90: Ezer forintban
A91: Sor- szám | B91: Kiadási jogcímek | C91: =+C3 -> 2024. évi előirányzat
A92: A | B92: B | C92: C
A93: 1. | B93: Működési költségvetés kiadásai (1.1+…+1.5.+1.18.) | C93: =C94+C95+C96+C97+C98+C111 -> 0
A94: 1.1. | B94: Személyi juttatások
A95: 1.2. | B95: Munkaadókat terhelő járulékok és szociális hozzájárulási adó
A96: 1.3. | B96: Dologi kiadások
A97: 1.4. | B97: Ellátottak pénzbeli juttatásai
A98: 1.5 | B98: Egyéb működési célú kiadások
A99: 1.6. | B99: - az 1.5-ből: - Előző évi elszámolásból származó befizetések
A100: 1.7. | B100: - Törvényi előíráson alapuló befizetések
A101: 1.8. | B101: - Elvonások és befizetések
...

Sheet 3. melléklet
B1: I. Működési célú bevételek és kiadások mérlege (Önkormányzati szinten) | F1: =+CONCATENATE("3. melléklet a……... /",LEFT(ÖSSZEFÜGGÉSEK!A5,4),". (………...) önkormányzati rendelethez") -> 3. melléklet a……... /2024. (………...) önkormányzati rendelethez
E2: Forintban !
A3: Sor- szám | B3: Bevételek | D3: Kiadások
B4: Megnevezés | C4: ='3. melléklet'!C42022=+'3. melléklet'!C4 -> 0 | D4: Megnevezés | E4: 2024. évi eredeti előirányzat
A5: A | B5: B | C5: C | D5: D | E5: E
A6: 1. | B6: Önkormányzatok működési támogatásai | C6: ='1. melléklet'!C5 -> 227984154 | D6: Személyi juttatások | E6: ='1. melléklet'!C97 -> 214168434
A7: 2. | B7: Működési célú támogatások államháztartáson belülről | C7: ='1. melléklet'!C13 -> 0 | D7: Munkaadókat terhelő járulékok és szociális hozzájárulási adó | E7: ='1. melléklet'!C98 -> 23553745
A8: 3. | B8: 2.-ból EU-s támogatás | D8: Dologi kiadások | E8: ='1. melléklet'!C99 -> 112176507
A9: 4. | B9: Közhatalmi bevételek | C9: ='1. melléklet'!C27 -> 33000000 | D9: Ellátottak pénzbeli juttatásai | E9: ='1. melléklet'!C100 -> 31912260
A10: 5. | B10: Működési bevételek | C10: ='1. melléklet'!C35 -> 92971193 | D10: Egyéb működési célú kiadások | E10: ='1. melléklet'!C101 -> 0
A11: 6. | B11: Működési célú átvett pénzeszközök | C11: ='1. melléklet'!C53 -> 0 | D11: Tartalékok
A12: 7. | B12: 6.-ból EU-s támogatás (közvetlen)
A13: 8.
A14: 9.
A15: 10.
A16: 11.
A17: 12.
A18: 13. | B18: Költségvetési bevételek összesen (1.+2.+4.+5.+6.+8.+…+12.) | C18: =SUM(C6:C11)-C8 -> 353955347 | D18: Költségvetési kiadások összesen (1.+...+12.) | E18: =SUM(E6:E17) -> 381810946
A19: 14. | B19: Hiány belső finanszírozásának bevételei (15.+…+18. ) | C19: 29661694 | D19: Értékpapír vásárlása, visszavásárlása
A20: 15. | B20: Költségvetési maradvány igénybevétele | C20: 29661694 | D20: Likviditási célú hitelek törlesztése
A21: 16. | B21: Vállalkozási maradvány igénybevétele | D21: Rövid lejáratú hitelek törlesztése
A22: 17. | B22: Betét visszavonásából származó bevétel | D22: Hosszú lejáratú hitelek törlesztése
A23: 18. | B23: Egyéb belső finanszírozási bevételek | C23: ='1. melléklet'!C79 -> 0 | D23: Kölcsön törlesztése
A24: 19. | B24: Hiány külső finanszírozásának bevételei (20.+…+21.) | C24: =+C25+C26 -> 0 | D24: Forgatási célú belföldi, külföldi értékpapírok vásárlása
A25: 20. | B25: Likviditási célú hitelek, kölcsönök felvétele | D25: Pénzeszközök lekötött betétként elhelyezése
A26: 21. | B26: Értékpapírok bevételei | D26: Adóssághoz nem kapcsolódó származékos ügyletek
A27: 22. | B27: Váltóbevételek | D27: Váltókiadások
A28: 23. | B28: Adóssághoz nem kapcsolódó származékos ügyletek bevételei | D28: Központi, irányító szervi támogatás (óvoda,hivatal) | E28: ='1. melléklet'!C146 -> 0
A29: 24. | B29: Működési célú finanszírozási bevételek összesen (14.+19.+22.+23.) | C29: =+C19+C24+C27+C28 -> 29661694 | D29: Működési célú finanszírozási kiadások összesen (14.+...+23.) | E29: =SUM(E19:E28) -> 0
A30: 25. | B30: BEVÉTEL ÖSSZESEN (13.+24.) | C30: =+C18+C29 -> 383617041 | D30: KIADÁSOK ÖSSZESEN (13.+24.) | E30: =+E18+E29 -> 381810946
A31: 26. | B31: Tárgyévi hiány: | C31: =IF(C18+C29-E30<0,E30-(C18+C29),"-") -> - | D31: Tárgyévi többlet: | E31: =IF(C18+C29-E30>0,C18+C29-E30,"-") -> 1806095

Sheet 4. melléklet
B1: II. Felhalmozási célú bevételek és kiadások mérlege (Önkormányzati szinten) | F1: =+CONCATENATE("4. melléklet a ……../",LEFT(ÖSSZEFÜGGÉSEK!A5,4),". (……….) önkormányzati rendelethez") -> 4. melléklet a ……../2024. (……….) önkormányzati rendelethez
E2: forintban !
A3: Sor- szám | B3: Bevételek | D3: Kiadások
B4: Megnevezés | C4: =+'3. melléklet'!C4 -> 0 | D4: Megnevezés | E4: 2023. évi eredeti előirányzat
A5: A | B5: B | C5: C | D5: D | E5: E
A6: 1. | B6: Felhalmozási célú támogatások államháztartáson belülről | C6: ='1. melléklet'!C59 -> 0 | D6: Beruházások | E6: ='1. melléklet'!C118 -> 1806095
A7: 2. | B7: 1.-ből EU-s támogatás | D7: 1.-ből EU-s forrásból megvalósuló beruházás | E7: ='1. melléklet'!C119 -> 0
A8: 3. | B8: Felhalmozási bevételek | D8: Felújítások | E8: ='1. melléklet'!C120 -> 0
A9: 4. | B9: Felhalmozási célú átvett pénzeszközök átvétele | D9: 3.-ból EU-s forrásból megvalósuló felújítás | E9: ='1. melléklet'!C121 -> 0
A10: 5. | B10: 4.-ből EU-s támogatás (közvetlen) | D10: Egyéb felhalmozási kiadások | E10: ='1. melléklet'!C122 -> 0
A11: 6. | B11: Egyéb felhalmozási célú bevételek
A12: 7.
A13: 8.
A14: 9.
A15: 10.
A16: 11. | D16: Tartalékok
A17: 12. | B17: Költségvetési bevételek összesen: (1.+3.+4.+6.+…+11.) | C17: =+C6+C8+C9+C11+C12+C13+C14+C15+C16 -> 0 | D17: Költségvetési kiadások összesen: (1.+3.+5.+...+11.) | E17: =+E6+E8+E10+E11+E12+E13+E14+E15+E16 -> 1806095
A18: 13. | B18: Hiány belső finanszírozás bevételei ( 14+…+18) | D18: Értékpapír vásárlása, visszavásárlása
A19: 14. | B19: Költségvetési maradvány igénybevétele | C19: 29661694 | D19: Hitelek törlesztése
A20: 15. | B20: Vállalkozási maradvány igénybevétele | D20: Rövid lejáratú hitelek törlesztése
A21: 16. | B21: Betét visszavonásából származó bevétel | D21: Hosszú lejáratú hitelek törlesztése
A22: 17. | B22: Értékpapír értékesítése | D22: Kölcsön törlesztése
A23: 18. | B23: Egyéb belső finanszírozási bevételek | D23: Befektetési célú belföldi, külföldi értékpapírok vásárlása
A24: 19. | B24: Hiány külső finanszírozásának bevételei (20+…+24 ) | C24: =+C25+C26+C27+C28+C29 -> 0 | D24: Betét elhelyezése
A25: 20. | B25: Hosszú lejáratú hitelek, kölcsönök felvétele | D25: Pénzügyi lízing kiadásai
A26: 21. | B26: Likviditási célú hitelek, kölcsönök felvétele
A27: 22. | B27: Rövid lejáratú hitelek, kölcsönök felvétele
A28: 23. | B28: Értékpapírok kibocsátása
A29: 24. | B29: Egyéb külső finanszírozási bevételek
A30: 25. | B30: Felhalmozási célú finanszírozási bevételek összesen (13.+19.) | C30: =+C18+C24 -> 0 | D30: Felhalmozási célú finanszírozási kiadások összesen (13.+...+24.) | E30: =SUM(E18:E29) -> 0
A31: 26. | B31: BEVÉTEL ÖSSZESEN (12+25) | C31: =+C17+C30 -> 0 | D31: KIADÁSOK ÖSSZESEN (12+25) | E31: =+E17+E30 -> 1806095
A32: 27. | B32: Költségvetési hiány: | C32: =IF(C17-E17<0,E17-C17,"-") -> 1806095 | D32: Költségvetési többlet: | E32: =IF(C17-E17>0,C17-E17,"-") -> -
A33: 28. | B33: Tárgyévi hiány: | C33: =IF(C17+C30-E26<0,E26-(C17+C30),"-") -> - | D33: Tárgyévi többlet: | E33: =C31-E31 -> -1806095

Sheet ELLENŐRZÉS-1.sz.2.a.sz.2.b.sz.
A1: Költségvetési rendelet űrlapjainak összefüggései: | E1: ELTÉRÉS
A4: =+ÖSSZEFÜGGÉSEK!A5 -> 2024. évi előirányzat BEVÉTELEK
A6: 1. sz. melléklet Bevételek táblázat C. oszlop 9 sora = | B6: =+'1. melléklet'!C63 -> 353955347 | C6: 3. számú melléklet C. oszlop 13. sor + 4. számú melléklet C. oszlop 12. sor | D6: =+'3. melléklet'!C18+'4. melléklet'!C17 -> 353955347 | E6: =+B6-D6 -> 0
A7: 1. sz. melléklet Bevételek táblázat C. oszlop 17 sora = | B7: =+'1. melléklet'!C88 -> 29661694 | C7: 3. számú melléklet C. oszlop 24. sor + 4. számú melléklet C. oszlop 25. sor | D7: =+'3. melléklet'!C29+'4. melléklet'!C30 -> 29661694 | E7: =+B7-D7 -> 0
A8: 1.sz. melléklet Bevételek táblázat C. oszlop 18 sora = | B8: =+'1. melléklet'!C89 -> 383617041 | C8: 3. számú melléklet C. oszlop 25. sor + 4. számú melléklet C. oszlop 26. sor | D8: =+'3. melléklet'!C30+'4. melléklet'!C31 -> 383617041 | E8: =+B8-D8 -> 0
A11: =+ÖSSZEFÜGGÉSEK!A12 -> 2024. évi előirányzat KIADÁSOK
A13: 1. sz. melléklet Kiadások táblázat C. oszlop 3 sora = | B13: =+'1. melléklet'!C131 -> 383617041 | C13: 3. számú melléklet E. oszlop 13. sor + 4. számú melléklet E. oszlop 12. sor | D13: =+'3. melléklet'!E18+'4. melléklet'!E17 -> 383617041 | E13: =+B13-D13 -> 0
A14: 1. sz. melléklet Kiadások táblázat C. oszlop 10 sora = | B14: =+'1. melléklet'!C157 -> 0 | C14: 3. számú melléklet E. oszlop 24. sor + 4. számú melléklet E. oszlop 25. sor | D14: =+'3. melléklet'!E29+'4. melléklet'!E30 -> 0 | E14: =+B14-D14 -> 0
A15: 1. sz. melléklet Kiadások táblázat C. oszlop 11 sora = | B15: =+'1. melléklet'!C158 -> 383617041 | C15: 3. számú melléklet E. oszlop 25. sor + 4. számú melléklet E. oszlop 26. sor | D15: =+'3. melléklet'!E30+'4. melléklet'!E31 -> 383617041 | E15: =+B15-D15 -> 0

Sheet 5. melléklet
A1: Hencida Község Önkormányzata adósságot keletkeztető ügyletekből és kezességvállalásokból fennálló kötelezettségei
E2: Forintban !
A3: Sor-szám | B3: MEGNEVEZÉS | C3: Évek | F3: Összesen (F=C+D+E)
C4: =+LEFT(ÖSSZEFÜGGÉSEK!A5,4)+1 -> 2025 | D4: =+C4+1 -> 2026 | E4: =+D4+1 -> 2027
A5: A | B5: B | C5: C | D5: D | E5: E | F5: F
A6: 1. | F6: =SUM(C6:E6) -> 0
A7: 2. | F7: =SUM(C7:E7) -> 0
A8: 3. | C8: NEMLEGES! | F8: =SUM(C8:E8) -> 0
A9: 4. | F9: =SUM(C9:E9) -> 0
A10: 5. | F10: =SUM(C10:E10) -> 0
A11: 6. | B11: ÖSSZES KÖTELEZETTSÉG | C11: =SUM(C6:C10) -> 0 | D11: =SUM(D6:D10) -> 0 | E11: =SUM(E6:E10) -> 0 | F11: =SUM(F6:F10) -> 0

Sheet 6. melléklet 
A1: Hencida Község Önkormányzata saját bevételeinek részletezése az adósságot keletkeztető ügyletből származó tárgyévi fizetési kötelezettség megállapításához
C2: Forintban !
A3: Sor-szám | B3: Bevételi jogcímek | C3: =+'1. melléklet'!C3 -> 2024. évi eredeti előirányzat
A4: A | B4: B | C4: C
A5: 1. | B5: Helyi adóból és a települési adóból származó bevétel | C5: NEMLEGES
A6: 2. | B6: Az önkormányzati vagyon és az önkormányzatot megillető vagyoni értékű jog értékesítéséből és hasznosításából származó bevétel
A7: 3. | B7: Osztalék, koncessziós díj és hozambevétel
A8: 4. | B8: Tárgyi eszköz és az immateriális jószág, részvény, részesedés, vállalat értékesítéséből vagy privatizációból származó bevétel
A9: 5. | B9: Bírság-, pótlék- és díjbevétel
A10: 6. | B10: Kezesség-, illetve garanciavállalással kapcsolatos megtérülés
A11: SAJÁT BEVÉTELEK ÖSSZESEN* | C11: =SUM(C5:C10) -> 0
A12: *Az adósságot keletkeztető ügyletekhez történő hozzájárulás részletes szabályairól szóló 353/2011. (XII.31.) Korm. Rendelet 2.§ (1) bekezdése alapján.

Sheet 7. melléklet
A1: =+CONCATENATE("Hencida Község Önkotmányzata ",CONCATENATE(LEFT(ÖSSZEFÜGGÉSEK!A5,4),". évi adósságot keletkeztető fejlesztési céljai")) -> Hencida Község Önkotmányzata 2024. évi adósságot keletkeztető fejlesztési céljai
C2: Forintban !
A3: Sor-szám | B3: Fejlesztési cél leírása | C3: Fejlesztés várható kiadása
A4: A | B4: B | C4: C
A5: 1.
A6: 2. | B6: NEMLEGES!
A7: 3.
A8: 4. | B8: ADÓSSÁGOT KELETKEZTETŐ ÜGYLETEK VÁRHATÓ EGYÜTTES ÖSSZEGE | C8: =SUM(C5:C7) -> 0

Sheet 8. melléklet
A1: Beruházási (felhalmozási) kiadások előirányzata beruházásonként
F2: Forintban !
A3: Beruházás megnevezése | B3: Teljes költség | C3: Kivitelezés kezdési és befejezési éve | D3: =+CONCATENATE("Felhasználás ",LEFT(ÖSSZEFÜGGÉSEK!A5,4)-1,". XII. 31-ig") -> Felhasználás 2023. XII. 31-ig | E3: =+'1. melléklet'!C3 -> 2024. évi eredeti előirányzat | F3: =+CONCATENATE(LEFT(ÖSSZEFÜGGÉSEK!A5,4),". utáni szükséglet") -> 2024. utáni szükséglet
A4: A | B4: B | C4: C | D4: D | E4: E | F4: F=(B-D-E)
F5: =B5-D5-E5 -> 0
A6: Konyha felújítás | B6: 45000000 | C6: 2024 | D6: 43193905 | E6: 1806095 | F6: =B6-D6-E6 -> 0
F7: =B7-D7-E7 -> 0
F8: =B8-D8-E8 -> 0
F9: =B9-D9-E9 -> 0
F10: =B10-D10-E10 -> 0
F11: =B11-D11-E11 -> 0
F12: =B12-D12-E12 -> 0
F13: =B13-D13-E13 -> 0
F14: =B14-D14-E14 -> 0
F15: =B15-D15-E15 -> 0
F16: =B16-D16-E16 -> 0
F17: =B17-D17-E17 -> 0
F18: =B18-D18-E18 -> 0
... F22: =B22-D22-E22 -> 0
A23: ÖSSZESEN: | B23: =SUM(B5:B22) -> 45000000 | D23: =SUM(D5:D22) -> 43193905 | E23: =SUM(E5:E22) -> 1806095 | F23: =SUM(F5:F22) -> 0

Sheet 9.melléklet
A1: Felújítási kiadások előirányzata felújításonként
F2: Forintban !
A3: Felújítás megnevezése | B3: Teljes költség | C3: Kivitelezés kezdési és befejezési éve | D3: =+'8. melléklet'!D3 -> Felhasználás 2023. XII. 31-ig | E3: =+'8. melléklet'!E3 -> 2024. évi eredeti előirányzat | F3: =+CONCATENATE(LEFT(ÖSSZEFÜGGÉSEK!A5,4),". utáni szükséglet ",CHAR(10),"(F=B - D - E)") -> 2024. utáni szükséglet (F=B - D - E)
A4: A | B4: B | C4: C | D4: D | E4: E | F4: F
A5: NEMLEGES! | F5: =B5-D5-E5 -> 0
F6: =B6-D6-E6 -> 0
F7: =B7-D7-E7 -> 0
F8: =B8-D8-E8 -> 0
F9: =B9-D9-E9 -> 0
F10: =B10-D10-E10 -> 0
F11: =B11-D11-E11 -> 0
F12: =B12-D12-E12 -> 0
F13: =B13-D13-E13 -> 0
F14: =B14-D14-E14 -> 0
F15: =B15-D15-E15 -> 0
F16: =B16-D16-E16 -> 0
F17: =B17-D17-E17 -> 0
... F23: =B23-D23-E23 -> 0
A24: ÖSSZESEN: | B24: =SUM(B5:B23) -> 0 | D24: =SUM(D5:D23) -> 0 | E24: =SUM(E5:E23) -> 0 | F24: =SUM(F5:F23) -> 0

Sheet 10. melléklet
A2: EU-s projekt neve, azonosítója:
D3: Forintban!
A4: Források | B4: =CONCATENATE((LEFT(ÖSSZEFÜGGÉSEK!A5,4)),".") -> 2024. | C4: =CONCATENATE((LEFT(ÖSSZEFÜGGÉSEK!A5,4))+1,".") -> 2025. | D4: =CONCATENATE((LEFT(ÖSSZEFÜGGÉSEK!A5,4))+1,". után") -> 2025. után | E4: Összesen
A5: Saját erő | B5: 0 | C5: 0 | D5: 0 | E5: =SUM(B5:D5) -> 0
A6: - saját erőből központi támogatás | E6: =SUM(B6:D6) -> 0
A7: EU-s forrás | E7: =SUM(B7:D7) -> 0
A8: Társfinanszírozás | E8: =SUM(B8:D8) -> 0
A9: Hitel | E9: =SUM(B9:D9) -> 0
A10: Egyéb forrás | E10: =SUM(B10:D10) -> 0
E11: =SUM(B11:D11) -> 0
A12: Források összesen: | B12: =B5+SUM(B7:B11) -> 0 | C12: =C5+SUM(C7:C11) -> 0 | D12: =D5+SUM(D7:D11) -> 0 | E12: =E5+SUM(E7:E11) -> 0
A14: Kiadások, költségek | B14: =+B4 -> 2024. | C14: =+C4 -> 2025. | D14: =+D4 -> 2025. után | E14: Összesen
A15: Személyi jellegű | B15: 0 | C15: 0 | D15: 0 | E15: =SUM(B15:D15) -> 0
A16: Beruházások, beszerzések | E16: =SUM(B16:D16) -> 0
A17: Szolgáltatások igénybe vétele | E17: =SUM(B17:D17) -> 0
A18: Adminisztratív költségek | E18: =SUM(B18:D18) -> 0
A19: Felújítás | E19: =SUM(B19:D19) -> 0
E20: =SUM(B20:D20) -> 0
E21: =SUM(B21:D21) -> 0
A22: Összesen: | B22: =SUM(B15:B21) -> 0 | C22: =SUM(C15:C21) -> 0 | D22: =SUM(D15:D21) -> 0 | E22: =SUM(E15:E21) -> 0
A25: EU-s projekt neve, azonosítója: | B25: NEMLEGES
D26: Forintban!
A27: Források | B27: =+B14 -> 2024. | C27: =+C14 -> 2025. | D27: =+D14 -> 2025. után | E27: Összesen
A28: Saját erő | E28: =SUM(B28:D28) -> 0
A29: - saját erőből központi támogatás | E29: =SUM(B29:D29) -> 0
A30: EU-s forrás | E30: =SUM(B30:D30) -> 0
A31: Társfinanszírozás | E31: =SUM(B31:D31) -> 0
A32: Hitel | E32: =SUM(B32:D32) -> 0
A33: Egyéb forrás | E33: =SUM(B33:D33) -> 0
E34: =SUM(B34:D34) -> 0
A35: Források összesen: | B35: =B28+SUM(B30:B34) -> 0 | C35: =C28+SUM(C30:C34) -> 0 | D35: =D28+SUM(D30:D34) -> 0 | E35: =E28+SUM(E30:E34) -> 0
A37: Kiadások, költségek | B37: =+B27 -> 2024. | C37: =+C27 -> 2025. | D37: =+D27 -> 2025. után | E37: Összesen
A38: Személyi jellegű | E38: =SUM(B38:D38) -> 0
A39: Beruházások, beszerzések | E39: =SUM(B39:D39) -> 0
A40: Szolgáltatások igénybe vétele | E40: =SUM(B40:D40) -> 0
A41: Adminisztratív költségek | E41: =SUM(B41:D41) -> 0
A42: Felújítás | E42: =SUM(B42:D42) -> 0
E43: =SUM(B43:D43) -> 0
E44: =SUM(B44:D44) -> 0
A45: Összesen: | B45: =SUM(B38:B44) -> 0 | C45: =SUM(C38:C44) -> 0 | D45: =SUM(D38:D44) -> 0 | E45: =SUM(E38:E44) -> 0
A47: =+CONCATENATE("Önkormányzaton kívüli EU-s projektekhez történő hozzájárulás ",LEFT(ÖSSZEFÜGGÉSEK!A5,4),". évi előirányzat") -> Önkormányzaton kívüli EU-s projektekhez történő hozzájárulás 2024. évi előirányzat
A49: Támogatott neve | D49: Hozzájárulás (E Ft)
A52: Összesen: | D52: =SUM(D50:E51) -> 0

Sheet 11. melléklet
C1: =+CONCATENATE("11. melléklet a ../",LEFT(ÖSSZEFÜGGÉSEK!A5,4),". (……….) önkormányzati rendelethez") -> 11. melléklet a ../2024. (……….) önkormányzati rendelethez
A2: Megnevezés | B2: Hencida Község Önkormányzata összesen | C2: 01
A3: Feladat megnevezése | B3: Összes bevétel, kiadás | C3: 01
C4: Forintban !
A5: Száma | B5: Előirányzat-csoport, kiemelt előirányzat megnevezése | C5: Előirányzat
A6: A | B6: B | C6: C
B7: Bevételek
A8: 1. | B8: Önkormányzat működési támogatásai (1.1.+…+.1.6.) | C8: =SUM(C9+C10+C11+C12+C13) -> 227984154
A9: 1.1. | B9: Helyi önkormányzatok működésének általános támogatása | C9: 89307853
A10: 1.2. | B10: Önkormányzatok egyes köznevelési feladatainak támogatása | C10: 58048685
A11: 1.3. | B11: Önkormányzatok szociális és gyermekjóléti feladatainak támogatása | C11: 43005100
A12: 1.3.1 | B12: Önkormányzatok gyermekétkeztetési feladatainak támogatása | C12: 34898313
A13: 1.4. | B13: Önkormányzatok kulturális feladatainak támogatása | C13: 2724203
A14: 1.5. | B14: Működési célú kvi támogatások és kiegészítő támogatások | C14: ='1. melléklet'!C11 -> 0
A15: 1.6. | B15: Elszámolásból származó bevételek
A16: 2. | B16: Működési célú támogatások államháztartáson belülről (2.1.+…+.2.5.) | C16: =+C17+C18+C19+C20+C21 -> 88521193
A17: 2.1. | B17: Elvonások és befizetések bevételei
A18: 2.2. | B18: Működési célú garancia- és kezességvállalásból megtérülések
A19: 2.3. | B19: Működési célú visszatérítendő támogatások, kölcsönök visszatérülése
A20: 2.4. | B20: Működési célú visszatérítendő támogatások, kölcsönök igénybevétele
A21: 2.5. | B21: Egyéb működési célú támogatások bevételei | C21: 88521193
A22: 2.6. | B22: 2.5.-ből EU-s támogatás
A23: 3. | B23: Felhalmozási célú támogatások államháztartáson belülről (3.1.+…+3.5.) | C23: =+C24+C25+C26+C27+C28 -> 0
A24: 3.1. | B24: Felhalmozási célú önkormányzati támogatások
A25: 3.2. | B25: Felhalmozási célú garancia- és kezességvállalásból megtérülések
A26: 3.3. | B26: Felhalmozási célú visszatérítendő támogatások, kölcsönök visszatérülése
A27: 3.4. | B27: Felhalmozási célú visszatérítendő támogatások, kölcsönök igénybevétele
A28: 3.5. | B28: Egyéb felhalmozási célú támogatások bevételei
A29: 3.6. | B29: 3.5.-ből EU-s támogatás
A30: 4. | B30: Közhatalmi bevételek (4.1.+4.2.+4.3.+4.4.) | C30: =SUM(C31+C32+C33+C34+C35+C36+C37) -> 33000000
A31: 4.1. | B31: Helyi adók (4.1.1.+…+4.1.3.)
A32: 4.1.1. | B32: - Vagyoni típusú adók | C32: 33000000
A33: 4.1.2. | B33: - Termékek és szolgáltatások adói
A34: 4.1.3. | B34: - Értékesítési és forgalmi adók (iparűzési adó)
A35: 4.2. | B35: Gépjárműadó
A36: 4.3. | B36: Egyéb áruhasználati és szolgáltatási adók
A37: 4.4. | B37: Egyéb közhatalmi bevételek
A38: 5. | B38: Működési bevételek (5.1.+…+ 5.11.) | C38: =SUM(C39:C49) -> 4450000
A39: 5.1. | B39: Készletértékesítés ellenértéke | C39: 450000
A40: 5.2. | B40: Szolgáltatások ellenértéke | C40: 3000000
A41: 5.3. | B41: Közvetített szolgáltatások értéke
A42: 5.4. | B42: Tulajdonosi bevételek (bérleti díjak)
A43: 5.5. | B43: Ellátási díjak
A44: 5.6. | B44: Kiszámlázott általános forgalmi adó | C44: 1000000
A45: 5.7. | B45: Általános forgalmi adó visszatérítése
A46: 5.8. | B46: Kamatbevételek
A47: 5.9. | B47: Egyéb pénzügyi műveletek bevételei
A48: 5.10. | B48: Biztosító által fizetett kártérítés
A49: 5.11. | B49: Egyéb működési bevételek
A50: 6. | B50: Felhalmozási bevételek (6.1.+…+6.5.) | C50: =SUM(C51:C55) -> 0
A51: 6.1. | B51: Immateriális javak értékesítése
A52: 6.2. | B52: Ingatlanok értékesítése
A53: 6.3. | B53: Egyéb tárgyi eszközök értékesítése
A54: 6.4. | B54: Részesedések értékesítése
A55: 6.5. | B55: Részesedések megszűnéséhez kapcsolódó bevételek
A56: 7. | B56: Működési célú átvett pénzeszközök (7.1. + … + 7.3.) | C56: =SUM(C57:C59) -> 0
A57: 7.1. | B57: Működési célú garancia- és kezességvállalásból megtérülések ÁH-n kívülről
A58: 7.2. | B58: Működési célú visszatérítendő támogatások, kölcsönök visszatér. ÁH-n kívülről
A59: 7.3. | B59: Egyéb működési célú átvett pénzeszköz
A60: 7.4. | B60: 7.3.-ból EU-s támogatás (közvetlen)
A61: 8. | B61: Felhalmozási célú átvett pénzeszközök (8.1.+8.2.+8.3.) | C61: =SUM(C62:C64) -> 0
A62: 8.1. | B62: Felhalm. célú garancia- és kezességvállalásból megtérülések ÁH-n kívülről
A63: 8.2. | B63: Felhalm. célú visszatérítendő támogatások, kölcsönök visszatér. ÁH-n kívülről
A64: 8.3. | B64: Egyéb felhalmozási célú átvett pénzeszköz
A65: 8.4. | B65: 8.3.-ból EU-s támogatás (közvetlen)
A66: 9. | B66: KÖLTSÉGVETÉSI BEVÉTELEK ÖSSZESEN: (1+…+8) | C66: =+C8+C16+C23+C30+C38+C50+C56+C61 -> 353955347
A67: 10. | B67: Hitel-, kölcsönfelvétel államháztartáson kívülről (10.1.+10.3.) | C67: =SUM(C68:C70) -> 0
A68: 10.1. | B68: Hosszú lejáratú hitelek, kölcsönök felvétele
A69: 10.2. | B69: Likviditási célú hitelek, kölcsönök felvétele pénzügyi vállalkozástól
A70: 10.3. | B70: Rövid lejáratú hitelek, kölcsönök felvétele
A71: 11. | B71: Belföldi értékpapírok bevételei (11.1. +…+ 11.4.) | C71: =SUM(C72:C75) -> 0
A72: 11.1. | B72: Forgatási célú belföldi értékpapírok beváltása, értékesítése
A73: 11.2. | B73: Forgatási célú belföldi értékpapírok kibocsátása
A74: 11.3. | B74: Befektetési célú belföldi értékpapírok beváltása, értékesítése
A75: 11.4. | B75: Befektetési célú belföldi értékpapírok kibocsátása
A76: 12. | B76: Maradvány igénybevétele (12.1. + 12.2.) | C76: =SUM(C77:C78) -> 29661694
A77: 12.1. | B77: Előző év költségvetési maradványának igénybevétele | C77: 29661694
A78: 12.2. | B78: Előző év vállalkozási maradványának igénybevétele
A79: 13. | B79: Belföldi finanszírozás bevételei (13.1. + … + 13.3.) | C79: =SUM(C80:C83) -> 0
A80: 13.1. | B80: Államháztartáson belüli megelőlegezések
A81: 13.2. | B81: Államháztartáson belüli megelőlegezések törlesztése
A82: 13.3. | B82: Központi, irányító szervi támogatás
A83: 13.4. | B83: Betétek megszüntetése
A84: 14. | B84: Külföldi finanszírozás bevételei (14.1.+…14.4.) | C84: =SUM(C85:C88) -> 0
A85: 14.1. | B85: Forgatási célú külföldi értékpapírok beváltása, értékesítése
A86: 14.2. | B86: Befektetési célú külföldi értékpapírok beváltása, értékesítése
A87: 14.3. | B87: Külföldi értékpapírok kibocsátása
A88: 14.4. | B88: Külföldi hitelek, kölcsönök felvétele
A89: 15. | B89: Váltóbevételek
A90: 16. | B90: Adóssághoz nem kapcsolódó származékos ügyletek bevételei
A91: 17. | B91: FINANSZÍROZÁSI BEVÉTELEK ÖSSZESEN: (10. + … +16.) | C91: =+C67+C71+C76+C79+C84+C90+C89 -> 29661694
A92: 18. | B92: BEVÉTELEK ÖSSZESEN: (9+17) | C92: =+C66+C91 -> 383617041
B94: Kiadások
A95: 1. | B95: Működési költségvetés kiadásai (1.1+…+1.5+1.18.) | C95: =+C96+C97+C98+C99+C100+C113 -> 260832841
A96: 1.1. | B96: Személyi juttatások | C96: 112360248
A97: 1.2. | B97: Munkaadókat terhelő járulékok és szociális hozzájárulási adó | C97: 10011679
A98: 1.3. | B98: Dologi kiadások | C98: 138460914
A99: 1.4. | B99: Ellátottak pénzbeli juttatásai
A100: 1.5 | B100: Egyéb működési célú kiadások
A101: 1.6. | B101: az 1.5-ből: - Előző évi elszámolásból származó befizetések
...

Sheet 12. melléklet
C1: =+CONCATENATE("12. melléklet a ../",LEFT(ÖSSZEFÜGGÉSEK!A5,4),". (……….) önkormányzati rendelethez") -> 12. melléklet a ../2024. (……….) önkormányzati rendelethez
A2: Megnevezés | B2: Hencidai Közös Önkormányzati Hivatal | C2: 01
A3: Feladat megnevezése | B3: Összes bevétel, kiadás | C3: 01
C4: Forintban !
A5: Száma | B5: Előirányzat-csoport, kiemelt előirányzat megnevezése | C5: Előirányzat
A6: A | B6: B | C6: C
B7: Bevételek
A8: 1. | B8: Önkormányzat működési támogatásai (1.1.+…+.1.6.) | C8: =+C9+C10+C11+C12+C13+C14 -> 0
A9: 1.1. | B9: Helyi önkormányzatok működésének általános támogatása
A10: 1.2. | B10: Önkormányzatok egyes köznevelési feladatainak támogatása
A11: 1.3. | B11: Önkormányzatok szociális és gyermekjóléti feladatainak támogatása
A12: 1.4. | B12: Önkormányzatok kulturális feladatainak támogatása
A13: 1.5. | B13: Működési célú kvi támogatások és kiegészítő támogatások
A14: 1.6. | B14: Elszámolásból származó bevételek
A15: 2. | B15: Működési célú támogatások államháztartáson belülről (2.1.+…+.2.5.) | C15: =+C16+C17+C18+C19+C20 -> 0
A16: 2.1. | B16: Elvonások és befizetések bevételei
A17: 2.2. | B17: Működési célú garancia- és kezességvállalásból megtérülések
A18: 2.3. | B18: Működési célú visszatérítendő támogatások, kölcsönök visszatérülése
A19: 2.4. | B19: Működési célú visszatérítendő támogatások, kölcsönök igénybevétele
A20: 2.5. | B20: Egyéb működési célú támogatások bevételei | C20: ='1. melléklet'!C18 -> 0
A21: 2.6. | B21: 2.5.-ből EU-s támogatás
A22: 3. | B22: Felhalmozási célú támogatások államháztartáson belülről (3.1.+…+3.5.) | C22: =+C23+C24+C25+C26+C27 -> 0
A23: 3.1. | B23: Felhalmozási célú önkormányzati támogatások
A24: 3.2. | B24: Felhalmozási célú garancia- és kezességvállalásból megtérülések
A25: 3.3. | B25: Felhalmozási célú visszatérítendő támogatások, kölcsönök visszatérülése
A26: 3.4. | B26: Felhalmozási célú visszatérítendő támogatások, kölcsönök igénybevétele
A27: 3.5. | B27: Egyéb felhalmozási célú támogatások bevételei
A28: 3.6. | B28: 3.5.-ből EU-s támogatás
A29: 4. | B29: Közhatalmi bevételek (4.1.+4.2.+4.3.+4.4.) | C29: =+C30+C34+C35+C36 -> 0
A30: 4.1. | B30: Helyi adók (4.1.1.+…+4.1.3.)
A31: 4.1.1. | B31: - Vagyoni típusú adók
A32: 4.1.2. | B32: - Termékek és szolgáltatások adói
A33: 4.1.3. | B33: - Értékesítési és forgalmi adók (iparűzési adó)
A34: 4.2. | B34: Gépjárműadó
A35: 4.3. | B35: Egyéb áruhasználati és szolgáltatási adók
A36: 4.4. | B36: Egyéb közhatalmi bevételek
A37: 5. | B37: Működési bevételek (5.1.+…+ 5.11.) | C37: =SUM(C38:C48) -> 0
A38: 5.1. | B38: Készletértékesítés ellenértéke
A39: 5.2. | B39: Szolgáltatások ellenértéke
A40: 5.3. | B40: Közvetített szolgáltatások értéke
A41: 5.4. | B41: Tulajdonosi bevételek
A42: 5.5. | B42: Ellátási díjak
A43: 5.6. | B43: Kiszámlázott általános forgalmi adó
A44: 5.7. | B44: Általános forgalmi adó visszatérítése
A45: 5.8. | B45: Kamatbevételek
A46: 5.9. | B46: Egyéb pénzügyi műveletek bevételei
A47: 5.10. | B47: Biztosító által fizetett kártérítés
A48: 5.11. | B48: Egyéb működési bevételek
A49: 6. | B49: Felhalmozási bevételek (6.1.+…+6.5.) | C49: =SUM(C50:C54) -> 0
A50: 6.1. | B50: Immateriális javak értékesítése
A51: 6.2. | B51: Ingatlanok értékesítése
A52: 6.3. | B52: Egyéb tárgyi eszközök értékesítése
A53: 6.4. | B53: Részesedések értékesítése
A54: 6.5. | B54: Részesedések megszűnéséhez kapcsolódó bevételek
A55: 7. | B55: Működési célú átvett pénzeszközök (7.1. + … + 7.3.) | C55: =SUM(C56:C58) -> 0
A56: 7.1. | B56: Működési célú garancia- és kezességvállalásból megtérülések ÁH-n kívülről
A57: 7.2. | B57: Működési célú visszatérítendő támogatások, kölcsönök visszatér. ÁH-n kívülről
A58: 7.3. | B58: Egyéb működési célú átvett pénzeszköz
A59: 7.4. | B59: 7.3.-ból EU-s támogatás (közvetlen)
A60: 8. | B60: Felhalmozási célú átvett pénzeszközök (8.1.+8.2.+8.3.) | C60: =SUM(C61:C63) -> 0
A61: 8.1. | B61: Felhalm. célú garancia- és kezességvállalásból megtérülések ÁH-n kívülről
A62: 8.2. | B62: Felhalm. célú visszatérítendő támogatások, kölcsönök visszatér. ÁH-n kívülről
A63: 8.3. | B63: Egyéb felhalmozási célú átvett pénzeszköz
A64: 8.4. | B64: 8.3.-ból EU-s támogatás (közvetlen)
A65: 9. | B65: KÖLTSÉGVETÉSI BEVÉTELEK ÖSSZESEN: (1+…+8) | C65: =+C8+C15+C22+C29+C37+C49+C55+C60 -> 0
A66: 10. | B66: Hitel-, kölcsönfelvétel államháztartáson kívülről (10.1.+10.3.) | C66: =SUM(C67:C69) -> 0
A67: 10.1. | B67: Hosszú lejáratú hitelek, kölcsönök felvétele
A68: 10.2. | B68: Likviditási célú hitelek, kölcsönök felvétele pénzügyi vállalkozástól
A69: 10.3. | B69: Rövid lejáratú hitelek, kölcsönök felvétele
A70: 11. | B70: Belföldi értékpapírok bevételei (11.1. +…+ 11.4.) | C70: =SUM(C71:C74) -> 0
A71: 11.1. | B71: Forgatási célú belföldi értékpapírok beváltása, értékesítése
A72: 11.2. | B72: Forgatási célú belföldi értékpapírok kibocsátása
A73: 11.3. | B73: Befektetési célú belföldi értékpapírok beváltása, értékesítése
A74: 11.4. | B74: Befektetési célú belföldi értékpapírok kibocsátása
A75: 12. | B75: Maradvány igénybevétele (12.1. + 12.2.) | C75: =SUM(C76:C77) -> 0
A76: 12.1. | B76: Előző év költségvetési maradványának igénybevétele
A77: 12.2. | B77: Előző év vállalkozási maradványának igénybevétele
A78: 13. | B78: Belföldi finanszírozás bevételei (13.1. + … + 13.3.) | C78: =SUM(C79:C82) -> 64735515
A79: 13.1. | B79: Államháztartáson belüli megelőlegezések
A80: 13.2. | B80: Államháztartáson belüli megelőlegezések törlesztése
A81: 13.3. | B81: Központi, irányító szervi támogatás | C81: 64735515
A82: 13.4. | B82: Betétek megszüntetése
A83: 14. | B83: Külföldi finanszírozás bevételei (14.1.+…14.4.) | C83: =SUM(C84:C87) -> 0
A84: 14.1. | B84: Forgatási célú külföldi értékpapírok beváltása, értékesítése
A85: 14.2. | B85: Befektetési célú külföldi értékpapírok beváltása, értékesítése
A86: 14.3. | B86: Külföldi értékpapírok kibocsátása
A87: 14.4. | B87: Külföldi hitelek, kölcsönök felvétele
A88: 15. | B88: Váltóbevételek
A89: 16. | B89: Adóssághoz nem kapcsolódó származékos ügyletek bevételei
A90: 17. | B90: FINANSZÍROZÁSI BEVÉTELEK ÖSSZESEN: (10. + … +16.) | C90: =+C66+C70+C75+C78+C83+C89+C88 -> 64735515
A91: 18. | B91: BEVÉTELEK ÖSSZESEN: (9+17) | C91: =+C65+C90 -> 64735515
B93: Kiadások
A94: 1. | B94: Működési költségvetés kiadásai (1.1+…+1.5+1.18.) | C94: =+C95+C96+C97+C98+C99+C112 -> 64735515
A95: 1.1. | B95: Személyi juttatások | C95: 56263450
A96: 1.2. | B96: Munkaadókat terhelő járulékok és szociális hozzájárulási adó | C96: 7588329
A97: 1.3. | B97: Dologi kiadások | C97: 883736
A98: 1.4. | B98: Ellátottak pénzbeli juttatásai
A99: 1.5 | B99: Egyéb működési célú kiadások
A100: 1.6. | B100: az 1.5-ből: - Előző évi elszámolásból származó befizetések
A101: 1.7. | B101: - Törvényi előíráson alapuló befizetések
...

Sheet 9.1.1. sz. mell 
C1: =+CONCATENATE("9.1.1. melléklet a ../",LEFT(ÖSSZEFÜGGÉSEK!A5,4),". (……….) önkormányzati rendelethez") -> 9.1.1. melléklet a ../2024. (……….) önkormányzati rendelethez
A2: Megnevezés | B2: Hencida Község Önkormányzata összesen | C2: 01
A3: Feladat megnevezése | B3: Kötelező feladatok bevétel, kiadás | C3: 01
C4: Forintban !
A5: Száma | B5: Előirányzat-csoport, kiemelt előirányzat megnevezése | C5: Előirányzat
A6: A | B6: B | C6: C
B7: Bevételek
A8: 1. | B8: Önkormányzat működési támogatásai (1.1.+…+.1.6.) | C8: =+C9+C10+C11+C12+C13+C14 -> 193085841
A9: 1.1. | B9: Helyi önkormányzatok működésének általános támogatása | C9: ='11. melléklet'!C9 -> 89307853
A10: 1.2. | B10: Önkormányzatok egyes köznevelési feladatainak támogatása | C10: ='11. melléklet'!C10 -> 58048685
A11: 1.3. | B11: Önkormányzatok szociális és gyermekjóléti feladatainak támogatása | C11: ='11. melléklet'!C11 -> 43005100
A12: 1.4. | B12: Önkormányzatok kulturális feladatainak támogatása | C12: ='11. melléklet'!C13 -> 2724203
A13: 1.5. | B13: Működési célú kvi támogatások és kiegészítő támogatások | C13: ='11. melléklet'!C14 -> 0
A14: 1.6. | B14: Elszámolásból származó bevételek | C14: ='11. melléklet'!C15 -> 0
A15: 2. | B15: Működési célú támogatások államháztartáson belülről (2.1.+…+.2.5.) | C15: =+C16+C17+C18+C19+C20 -> 88521193
A16: 2.1. | B16: Elvonások és befizetések bevételei
A17: 2.2. | B17: Működési célú garancia- és kezességvállalásból megtérülések
A18: 2.3. | B18: Működési célú visszatérítendő támogatások, kölcsönök visszatérülése
A19: 2.4. | B19: Működési célú visszatérítendő támogatások, kölcsönök igénybevétele
A20: 2.5. | B20: Egyéb működési célú támogatások bevételei | C20: ='11. melléklet'!C21 -> 88521193
A21: 2.6. | B21: 2.5.-ből EU-s támogatás
A22: 3. | B22: Felhalmozási célú támogatások államháztartáson belülről (3.1.+…+3.5.) | C22: =+C23+C24+C25+C26+C27 -> 0
A23: 3.1. | B23: Felhalmozási célú önkormányzati támogatások
A24: 3.2. | B24: Felhalmozási célú garancia- és kezességvállalásból megtérülések
A25: 3.3. | B25: Felhalmozási célú visszatérítendő támogatások, kölcsönök visszatérülése
A26: 3.4. | B26: Felhalmozási célú visszatérítendő támogatások, kölcsönök igénybevétele
A27: 3.5. | B27: Egyéb felhalmozási célú támogatások bevételei
A28: 3.6. | B28: 3.5.-ből EU-s támogatás
A29: 4. | B29: Közhatalmi bevételek (4.1.+4.2.+4.3.+4.4.) | C29: =+C30+C34+C35+C36 -> 0
A30: 4.1. | B30: Helyi adók (4.1.1.+…+4.1.3.) | C30: =C33 -> 0
A31: 4.1.1. | B31: - Vagyoni típusú adók
A32: 4.1.2. | B32: - Termékek és szolgáltatások adói
A33: 4.1.3. | B33: - Értékesítési és forgalmi adók (iparűzési adó) | C33: ='11. melléklet'!C34 -> 0
A34: 4.2. | B34: Gépjárműadó | C34: ='11. melléklet'!C35 -> 0
A35: 4.3. | B35: Egyéb áruhasználati és szolgáltatási adók
A36: 4.4. | B36: Egyéb közhatalmi bevételek
A37: 5. | B37: Működési bevételek (5.1.+…+ 5.11.) | C37: =SUM(C38:C48) -> 4000000
A38: 5.1. | B38: Készletértékesítés ellenértéke
A39: 5.2. | B39: Szolgáltatások ellenértéke (mezőőri) | C39: ='11. melléklet'!C40 -> 3000000
A40: 5.3. | B40: Közvetített szolgáltatások értéke
A41: 5.4. | B41: Tulajdonosi bevételek (bérleti díjak) | C41: ='11. melléklet'!C42 -> 0
A42: 5.5. | B42: Ellátási díjak | C42: ='11. melléklet'!C43 -> 0
A43: 5.6. | B43: Kiszámlázott általános forgalmi adó | C43: ='11. melléklet'!C44 -> 1000000
A44: 5.7. | B44: Általános forgalmi adó visszatérítése
A45: 5.8. | B45: Kamatbevételek | C45: ='11. melléklet'!C46 -> 0
A46: 5.9. | B46: Egyéb pénzügyi műveletek bevételei
A47: 5.10. | B47: Biztosító által fizetett kártérítés
A48: 5.11. | B48: Egyéb működési bevételek
A49: 6. | B49: Felhalmozási bevételek (6.1.+…+6.5.) | C49: =SUM(C50:C54) -> 0
A50: 6.1. | B50: Immateriális javak értékesítése
A51: 6.2. | B51: Ingatlanok értékesítése
A52: 6.3. | B52: Egyéb tárgyi eszközök értékesítése
A53: 6.4. | B53: Részesedések értékesítése
A54: 6.5. | B54: Részesedések megszűnéséhez kapcsolódó bevételek
A55: 7. | B55: Működési célú átvett pénzeszközök (7.1. + … + 7.3.) | C55: =SUM(C56:C58) -> 0
A56: 7.1. | B56: Működési célú garancia- és kezességvállalásból megtérülések ÁH-n kívülről
A57: 7.2. | B57: Működési célú visszatérítendő támogatások, kölcsönök visszatér. ÁH-n kívülről
A58: 7.3. | B58: Egyéb működési célú átvett pénzeszköz | C58: ='11. melléklet'!C59 -> 0
A59: 7.4. | B59: 7.3.-ból EU-s támogatás (közvetlen)
A60: 8. | B60: Felhalmozási célú átvett pénzeszközök (8.1.+8.2.+8.3.) | C60: =SUM(C61:C63) -> 0
A61: 8.1. | B61: Felhalm. célú garancia- és kezességvállalásból megtérülések ÁH-n kívülről
A62: 8.2. | B62: Felhalm. célú visszatérítendő támogatások, kölcsönök visszatér. ÁH-n kívülről
A63: 8.3. | B63: Egyéb felhalmozási célú átvett pénzeszköz | C63: ='11. melléklet'!C64 -> 0
A64: 8.4. | B64: 8.3.-ból EU-s támogatás (közvetlen)
A65: 9. | B65: KÖLTSÉGVETÉSI BEVÉTELEK ÖSSZESEN: (1+…+8) | C65: =+C8+C15+C22+C29+C37+C49+C55+C60 -> 285607034
A66: 10. | B66: Hitel-, kölcsönfelvétel államháztartáson kívülről (10.1.+10.3.) | C66: =SUM(C67:C69) -> 0
A67: 10.1. | B67: Hosszú lejáratú hitelek, kölcsönök felvétele
A68: 10.2. | B68: Likviditási célú hitelek, kölcsönök felvétele pénzügyi vállalkozástól
A69: 10.3. | B69: Rövid lejáratú hitelek, kölcsönök felvétele
A70: 11. | B70: Belföldi értékpapírok bevételei (11.1. +…+ 11.4.) | C70: =SUM(C71:C74) -> 0
A71: 11.1. | B71: Forgatási célú belföldi értékpapírok beváltása, értékesítése
A72: 11.2. | B72: Forgatási célú belföldi értékpapírok kibocsátása
A73: 11.3. | B73: Befektetési célú belföldi értékpapírok beváltása, értékesítése
A74: 11.4. | B74: Befektetési célú belföldi értékpapírok kibocsátása
A75: 12. | B75: Maradvány igénybevétele (12.1. + 12.2.) | C75: =SUM(C76:C77) -> 29661694
A76: 12.1. | B76: Előző év költségvetési maradványának igénybevétele | C76: ='11. melléklet'!C77 -> 29661694
A77: 12.2. | B77: Előző év vállalkozási maradványának igénybevétele
A78: 13. | B78: Belföldi finanszírozás bevételei (13.1. + … + 13.3.) | C78: =SUM(C79:C82) -> 0
A79: 13.1. | B79: Államháztartáson belüli megelőlegezések
A80: 13.2. | B80: Államháztartáson belüli megelőlegezések törlesztése
A81: 13.3. | B81: Központi, irányító szervi támogatás (óvoda)
A82: 13.4. | B82: Betétek megszüntetése
A83: 14. | B83: Külföldi finanszírozás bevételei (14.1.+…14.4.) | C83: =SUM(C84:C87) -> 0
A84: 14.1. | B84: Forgatási célú külföldi értékpapírok beváltása, értékesítése
A85: 14.2. | B85: Befektetési célú külföldi értékpapírok beváltása, értékesítése
A86: 14.3. | B86: Külföldi értékpapírok kibocsátása
A87: 14.4. | B87: Külföldi hitelek, kölcsönök felvétele
A88: 15. | B88: Váltóbevételek
A89: 16. | B89: Adóssághoz nem kapcsolódó származékos ügyletek bevételei
A90: 17. | B90: FINANSZÍROZÁSI BEVÉTELEK ÖSSZESEN: (10. + … +16.) | C90: =+C66+C70+C75+C78+C83+C89+C88 -> 29661694
A91: 18. | B91: BEVÉTELEK ÖSSZESEN: (9+17) | C91: =+C65+C90 -> 315268728
B93: Kiadások
A94: 1. | B94: Működési költségvetés kiadásai (1.1+…+1.5+1.18.) | C94: =+C95+C96+C97+C98+C99+C112 -> 260832841
A95: 1.1. | B95: Személyi juttatások | C95: ='11. melléklet'!C96 -> 112360248
A96: 1.2. | B96: Munkaadókat terhelő járulékok és szociális hozzájárulási adó | C96: ='11. melléklet'!C97 -> 10011679
A97: 1.3. | B97: Dologi kiadások | C97: ='11. melléklet'!C98 -> 138460914
A98: 1.4. | B98: Ellátottak pénzbeli juttatásai | C98: ='11. melléklet'!C99 -> 0
A99: 1.5 | B99: Egyéb működési célú kiadások | C99: ='11. melléklet'!C100 -> 0
A100: 1.6. | B100: az 1.5-ből: - Előző évi elszámolásból származó befizetések | C100: ='11. melléklet'!C101 -> 0
A101: 1.7. | B101: - Törvényi előíráson alapuló befizetések | C101: ='11. melléklet'!C102 -> 0
...

Sheet 9.2.1. sz. mell 
C1: =+CONCATENATE("9.2.1. melléklet a ../",LEFT(ÖSSZEFÜGGÉSEK!A5,4),". (……….) önkormányzati rendelethez") -> 9.2.1. melléklet a ../2024. (……….) önkormányzati rendelethez
A2: Megnevezés | B2: Hencidai Közös Önkormányzati Hivatal | C2: 01
A3: Feladat megnevezése | B3: Kötelező feladatok bevétel, kiadás | C3: 01
C4: Forintban !
A5: Száma | B5: Előirányzat-csoport, kiemelt előirányzat megnevezése | C5: Előirányzat
A6: A | B6: B | C6: C
B7: Bevételek
A8: 1. | B8: Önkormányzat működési támogatásai (1.1.+…+.1.6.) | C8: =+C9+C10+C11+C12+C13+C14 -> 0
A9: 1.1. | B9: Helyi önkormányzatok működésének általános támogatása | C9: ='9.2. sz. mell'!C9 -> 0
A10: 1.2. | B10: Önkormányzatok egyes köznevelési feladatainak támogatása
A11: 1.3. | B11: Önkormányzatok szociális és gyermekjóléti feladatainak támogatása
A12: 1.4. | B12: Önkormányzatok kulturális feladatainak támogatása
A13: 1.5. | B13: Működési célú kvi támogatások és kiegészítő támogatások
A14: 1.6. | B14: Elszámolásból származó bevételek | C14: ='11. melléklet'!C15 -> 0
A15: 2. | B15: Működési célú támogatások államháztartáson belülről (2.1.+…+.2.5.) | C15: =+C16+C17+C18+C19+C20 -> 88521193
A16: 2.1. | B16: Elvonások és befizetések bevételei
A17: 2.2. | B17: Működési célú garancia- és kezességvállalásból megtérülések
A18: 2.3. | B18: Működési célú visszatérítendő támogatások, kölcsönök visszatérülése
A19: 2.4. | B19: Működési célú visszatérítendő támogatások, kölcsönök igénybevétele
A20: 2.5. | B20: Egyéb működési célú támogatások bevételei | C20: ='11. melléklet'!C21 -> 88521193
A21: 2.6. | B21: 2.5.-ből EU-s támogatás
A22: 3. | B22: Felhalmozási célú támogatások államháztartáson belülről (3.1.+…+3.5.) | C22: =+C23+C24+C25+C26+C27 -> 0
A23: 3.1. | B23: Felhalmozási célú önkormányzati támogatások
A24: 3.2. | B24: Felhalmozási célú garancia- és kezességvállalásból megtérülések
A25: 3.3. | B25: Felhalmozási célú visszatérítendő támogatások, kölcsönök visszatérülése
A26: 3.4. | B26: Felhalmozási célú visszatérítendő támogatások, kölcsönök igénybevétele
A27: 3.5. | B27: Egyéb felhalmozási célú támogatások bevételei
A28: 3.6. | B28: 3.5.-ből EU-s támogatás
A29: 4. | B29: Közhatalmi bevételek (4.1.+4.2.+4.3.+4.4.) | C29: =+C30+C34+C35+C36 -> 0
A30: 4.1. | B30: Helyi adók (4.1.1.+…+4.1.3.)
A31: 4.1.1. | B31: - Vagyoni típusú adók
A32: 4.1.2. | B32: - Termékek és szolgáltatások adói
A33: 4.1.3. | B33: - Értékesítési és forgalmi adók (iparűzési adó)
A34: 4.2. | B34: Gépjárműadó
A35: 4.3. | B35: Egyéb áruhasználati és szolgáltatási adók
A36: 4.4. | B36: Egyéb közhatalmi bevételek
A37: 5. | B37: Működési bevételek (5.1.+…+ 5.11.) | C37: =SUM(C38:C48) -> 0
A38: 5.1. | B38: Készletértékesítés ellenértéke
A39: 5.2. | B39: Szolgáltatások ellenértéke
A40: 5.3. | B40: Közvetített szolgáltatások értéke
A41: 5.4. | B41: Tulajdonosi bevételek
A42: 5.5. | B42: Ellátási díjak | C42: ='11. melléklet'!C43 -> 0
A43: 5.6. | B43: Kiszámlázott általános forgalmi adó
A44: 5.7. | B44: Általános forgalmi adó visszatérítése
A45: 5.8. | B45: Kamatbevételek
A46: 5.9. | B46: Egyéb pénzügyi műveletek bevételei
A47: 5.10. | B47: Biztosító által fizetett kártérítés
A48: 5.11. | B48: Egyéb működési bevételek
A49: 6. | B49: Felhalmozási bevételek (6.1.+…+6.5.) | C49: =SUM(C50:C54) -> 0
A50: 6.1. | B50: Immateriális javak értékesítése
A51: 6.2. | B51: Ingatlanok értékesítése
A52: 6.3. | B52: Egyéb tárgyi eszközök értékesítése
A53: 6.4. | B53: Részesedések értékesítése
A54: 6.5. | B54: Részesedések megszűnéséhez kapcsolódó bevételek
A55: 7. | B55: Működési célú átvett pénzeszközök (7.1. + … + 7.3.) | C55: =SUM(C56:C58) -> 0
A56: 7.1. | B56: Működési célú garancia- és kezességvállalásból megtérülések ÁH-n kívülről
A57: 7.2. | B57: Működési célú visszatérítendő támogatások, kölcsönök visszatér. ÁH-n kívülről
A58: 7.3. | B58: Egyéb működési célú átvett pénzeszköz | C58: ='12. melléklet'!C58 -> 0
A59: 7.4. | B59: 7.3.-ból EU-s támogatás (közvetlen)
A60: 8. | B60: Felhalmozási célú átvett pénzeszközök (8.1.+8.2.+8.3.) | C60: =SUM(C61:C63) -> 0
A61: 8.1. | B61: Felhalm. célú garancia- és kezességvállalásból megtérülések ÁH-n kívülről
A62: 8.2. | B62: Felhalm. célú visszatérítendő támogatások, kölcsönök visszatér. ÁH-n kívülről
A63: 8.3. | B63: Egyéb felhalmozási célú átvett pénzeszköz
A64: 8.4. | B64: 8.3.-ból EU-s támogatás (közvetlen)
A65: 9. | B65: KÖLTSÉGVETÉSI BEVÉTELEK ÖSSZESEN: (1+…+8) | C65: =+C8+C15+C22+C29+C37+C49+C55+C60 -> 88521193
A66: 10. | B66: Hitel-, kölcsönfelvétel államháztartáson kívülről (10.1.+10.3.) | C66: =SUM(C67:C69) -> 0
A67: 10.1. | B67: Hosszú lejáratú hitelek, kölcsönök felvétele
A68: 10.2. | B68: Likviditási célú hitelek, kölcsönök felvétele pénzügyi vállalkozástól
A69: 10.3. | B69: Rövid lejáratú hitelek, kölcsönök felvétele
A70: 11. | B70: Belföldi értékpapírok bevételei (11.1. +…+ 11.4.) | C70: =SUM(C71:C74) -> 0
A71: 11.1. | B71: Forgatási célú belföldi értékpapírok beváltása, értékesítése
A72: 11.2. | B72: Forgatási célú belföldi értékpapírok kibocsátása
A73: 11.3. | B73: Befektetési célú belföldi értékpapírok beváltása, értékesítése
A74: 11.4. | B74: Befektetési célú belföldi értékpapírok kibocsátása
A75: 12. | B75: Maradvány igénybevétele (12.1. + 12.2.) | C75: =SUM(C76:C77) -> 0
A76: 12.1. | B76: Előző év költségvetési maradványának igénybevétele | C76: ='12. melléklet'!C76 -> 0
A77: 12.2. | B77: Előző év vállalkozási maradványának igénybevétele
A78: 13. | B78: Belföldi finanszírozás bevételei (13.1. + … + 13.3.) | C78: =SUM(C79:C82) -> 64735515
A79: 13.1. | B79: Államháztartáson belüli megelőlegezések
A80: 13.2. | B80: Államháztartáson belüli megelőlegezések törlesztése
A81: 13.3. | B81: Központi, irányító szervi támogatás | C81: ='12. melléklet'!C81 -> 64735515
A82: 13.4. | B82: Betétek megszüntetése
A83: 14. | B83: Külföldi finanszírozás bevételei (14.1.+…14.4.) | C83: =SUM(C84:C87) -> 0
A84: 14.1. | B84: Forgatási célú külföldi értékpapírok beváltása, értékesítése
A85: 14.2. | B85: Befektetési célú külföldi értékpapírok beváltása, értékesítése
A86: 14.3. | B86: Külföldi értékpapírok kibocsátása
A87: 14.4. | B87: Külföldi hitelek, kölcsönök felvétele
A88: 15. | B88: Váltóbevételek
A89: 16. | B89: Adóssághoz nem kapcsolódó származékos ügyletek bevételei
A90: 17. | B90: FINANSZÍROZÁSI BEVÉTELEK ÖSSZESEN: (10. + … +16.) | C90: =+C66+C70+C75+C78+C83+C89+C88 -> 64735515
A91: 18. | B91: BEVÉTELEK ÖSSZESEN: (9+17) | C91: =+C65+C90 -> 153256708
B93: Kiadások
A94: 1. | B94: Működési költségvetés kiadásai (1.1+…+1.5+1.18.) | C94: =+C95+C96+C97+C98+C99+C112 -> 64735515
A95: 1.1. | B95: Személyi juttatások | C95: ='12. melléklet'!C95 -> 56263450
A96: 1.2. | B96: Munkaadókat terhelő járulékok és szociális hozzájárulási adó | C96: ='12. melléklet'!C96 -> 7588329
A97: 1.3. | B97: Dologi kiadások | C97: ='12. melléklet'!C97 -> 883736
A98: 1.4. | B98: Ellátottak pénzbeli juttatásai
A99: 1.5 | B99: Egyéb működési célú kiadások
A100: 1.6. | B100: az 1.5-ből: - Előző évi elszámolásból származó befizetések
A101: 1.7. | B101: - Törvényi előíráson alapuló befizetések
...

Sheet 9.1.2. sz. mell 
C1: =+CONCATENATE("9.1.2. melléklet a ……/",LEFT(ÖSSZEFÜGGÉSEK!A5,4),". (….) önkormányzati rendelethez") -> 9.1.2. melléklet a ……/2024. (….) önkormányzati rendelethez
A2: Megnevezés | B2: Szentpéterszeg Községi Önkormányzat | C2: 01
A3: Feladat megnevezése | B3: Önként vállalt feladatok bevételei, kiadása | C3: 03
C4: Ezer forintban !
A5: Száma | B5: Előirányzat-csoport, kiemelt előirányzat megnevezése | C5: Előirányzat
A6: A | B6: B | C6: C
B7: Bevételek
A8: 1. | B8: Önkormányzat működési támogatásai (1.1.+…+.1.6.) | C8: =+C9+C10+C11+C12+C13+C14 -> 0
A9: 1.1. | B9: Helyi önkormányzatok működésének általános támogatása
A10: 1.2. | B10: Önkormányzatok egyes köznevelési feladatainak támogatása
A11: 1.3. | B11: Önkormányzatok szociális és gyermekjóléti feladatainak támogatása
A12: 1.4. | B12: Önkormányzatok kulturális feladatainak támogatása
A13: 1.5. | B13: Működési célú kvi támogatások és kiegészítő támogatások
A14: 1.6. | B14: Elszámolásból származó bevételek
A15: 2. | B15: Működési célú támogatások államháztartáson belülről (2.1.+…+.2.5.) | C15: =+C16+C17+C18+C19+C20 -> 0
A16: 2.1. | B16: Elvonások és befizetések bevételei
A17: 2.2. | B17: Működési célú garancia- és kezességvállalásból megtérülések
A18: 2.3. | B18: Működési célú visszatérítendő támogatások, kölcsönök visszatérülése
A19: 2.4. | B19: Működési célú visszatérítendő támogatások, kölcsönök igénybevétele
A20: 2.5. | B20: Egyéb működési célú támogatások bevételei
A21: 2.6. | B21: 2.5.-ből EU-s támogatás
A22: 3. | B22: Felhalmozási célú támogatások államháztartáson belülről (3.1.+…+3.5.) | C22: =+C23+C24+C25+C26+C27 -> 0
A23: 3.1. | B23: Felhalmozási célú önkormányzati támogatások
A24: 3.2. | B24: Felhalmozási célú garancia- és kezességvállalásból megtérülések
A25: 3.3. | B25: Felhalmozási célú visszatérítendő támogatások, kölcsönök visszatérülése
A26: 3.4. | B26: Felhalmozási célú visszatérítendő támogatások, kölcsönök igénybevétele
A27: 3.5. | B27: Egyéb felhalmozási célú támogatások bevételei
A28: 3.6. | B28: 3.5.-ből EU-s támogatás
A29: 4. | B29: Közhatalmi bevételek (4.1.+4.2.+4.3.+4.4.) | C29: =+C30+C34+C35+C36 -> 0
A30: 4.1. | B30: Helyi adók (4.1.1.+…+4.1.3.) | C30: =+C31+C32+C33 -> 0
A31: 4.1.1. | B31: - Vagyoni típusú adók
A32: 4.1.2. | B32: - Termékek és szolgáltatások adói
A33: 4.1.3. | B33: - Értékesítési és forgalmi adók (iparűzési adó)
A34: 4.2. | B34: Gépjárműadó
A35: 4.3. | B35: Egyéb áruhasználati és szolgáltatási adók
A36: 4.4. | B36: Egyéb közhatalmi bevételek
A37: 5. | B37: Működési bevételek (5.1.+…+ 5.11.) | C37: =SUM(C38:C48) -> 0
A38: 5.1. | B38: Készletértékesítés ellenértéke
A39: 5.2. | B39: Szolgáltatások ellenértéke
A40: 5.3. | B40: Közvetített szolgáltatások értéke
A41: 5.4. | B41: Tulajdonosi bevételek
A42: 5.5. | B42: Ellátási díjak
A43: 5.6. | B43: Kiszámlázott általános forgalmi adó
A44: 5.7. | B44: Általános forgalmi adó visszatérítése
A45: 5.8. | B45: Kamatbevételek
A46: 5.9. | B46: Egyéb pénzügyi műveletek bevételei
A47: 5.10. | B47: Biztosító által fizetett kártérítés
A48: 5.11. | B48: Egyéb működési bevételek
A49: 6. | B49: Felhalmozási bevételek (6.1.+…+6.5.) | C49: =SUM(C50:C54) -> 0
A50: 6.1. | B50: Immateriális javak értékesítése
A51: 6.2. | B51: Ingatlanok értékesítése
A52: 6.3. | B52: Egyéb tárgyi eszközök értékesítése
A53: 6.4. | B53: Részesedések értékesítése
A54: 6.5. | B54: Részesedések megszűnéséhez kapcsolódó bevételek
A55: 7. | B55: Működési célú átvett pénzeszközök (7.1. + … + 7.3.) | C55: =SUM(C56:C58) -> 0
A56: 7.1. | B56: Működési célú garancia- és kezességvállalásból megtérülések ÁH-n kívülről
A57: 7.2. | B57: Működési célú visszatérítendő támogatások, kölcsönök visszatér. ÁH-n kívülről
A58: 7.3. | B58: Egyéb működési célú átvett pénzeszköz
A59: 7.4. | B59: 7.3.-ból EU-s támogatás (közvetlen)
A60: 8. | B60: Felhalmozási célú átvett pénzeszközök (8.1.+8.2.+8.3.) | C60: =SUM(C61:C63) -> 0
A61: 8.1. | B61: Felhalm. célú garancia- és kezességvállalásból megtérülések ÁH-n kívülről
A62: 8.2. | B62: Felhalm. célú visszatérítendő támogatások, kölcsönök visszatér. ÁH-n kívülről
A63: 8.3. | B63: Egyéb felhalmozási célú átvett pénzeszköz
A64: 8.4. | B64: 8.3.-ból EU-s támogatás (közvetlen)
A65: 9. | B65: KÖLTSÉGVETÉSI BEVÉTELEK ÖSSZESEN: (1+…+8) | C65: =+C8+C15+C22+C29+C37+C49+C55+C60 -> 0
A66: 10. | B66: Hitel-, kölcsönfelvétel államháztartáson kívülről (10.1.+10.3.) | C66: =SUM(C67:C69) -> 0
A67: 10.1. | B67: Hosszú lejáratú hitelek, kölcsönök felvétele
A68: 10.2. | B68: Likviditási célú hitelek, kölcsönök felvétele pénzügyi vállalkozástól
A69: 10.3. | B69: Rövid lejáratú hitelek, kölcsönök felvétele
A70: 11. | B70: Belföldi értékpapírok bevételei (11.1. +…+ 11.4.) | C70: =SUM(C71:C74) -> 0
A71: 11.1. | B71: Forgatási célú belföldi értékpapírok beváltása, értékesítése
A72: 11.2. | B72: Forgatási célú belföldi értékpapírok kibocsátása
A73: 11.3. | B73: Befektetési célú belföldi értékpapírok beváltása, értékesítése
A74: 11.4. | B74: Befektetési célú belföldi értékpapírok kibocsátása
A75: 12. | B75: Maradvány igénybevétele (12.1. + 12.2.) | C75: =SUM(C76:C77) -> 0
A76: 12.1. | B76: Előző év költségvetési maradványának igénybevétele
A77: 12.2. | B77: Előző év vállalkozási maradványának igénybevétele
A78: 13. | B78: Belföldi finanszírozás bevételei (13.1. + … + 13.3.) | C78: =SUM(C79:C82) -> 0
A79: 13.1. | B79: Államháztartáson belüli megelőlegezések
A80: 13.2. | B80: Államháztartáson belüli megelőlegezések törlesztése
A81: 13.3. | B81: Központi, irányító szervi támogatás
A82: 13.4. | B82: Betétek megszüntetése
A83: 14. | B83: Külföldi finanszírozás bevételei (14.1.+…14.4.) | C83: =SUM(C84:C87) -> 0
A84: 14.1. | B84: Forgatási célú külföldi értékpapírok beváltása, értékesítése
A85: 14.2. | B85: Befektetési célú külföldi értékpapírok beváltása, értékesítése
A86: 14.3. | B86: Külföldi értékpapírok kibocsátása
A87: 14.4. | B87: Külföldi hitelek, kölcsönök felvétele
A88: 15. | B88: Váltóbevételek
A89: 16. | B89: Adóssághoz nem kapcsolódó származékos ügyletek bevételei
A90: 17. | B90: FINANSZÍROZÁSI BEVÉTELEK ÖSSZESEN: (10. + … +16.) | C90: =+C66+C70+C75+C78+C83+C89+C88 -> 0
A91: 18. | B91: BEVÉTELEK ÖSSZESEN: (9+17) | C91: =+C65+C90 -> 0
B93: Kiadások
A94: 1. | B94: Működési költségvetés kiadásai (1.1+…+1.5+1.18.) | C94: =+C95+C96+C97+C98+C99+C112 -> 0
A95: 1.1. | B95: Személyi juttatások
A96: 1.2. | B96: Munkaadókat terhelő járulékok és szociális hozzájárulási adó
A97: 1.3. | B97: Dologi kiadások
A98: 1.4. | B98: Ellátottak pénzbeli juttatásai
A99: 1.5 | B99: Egyéb működési célú kiadások
A100: 1.6. | B100: az 1.5-ből: - Előző évi elszámolásból származó befizetések
A101: 1.7. | B101: - Törvényi előíráson alapuló befizetések
...

Sheet 9.1.3. sz. mell
C1: =+CONCATENATE("9.1.3. melléklet a ……/",LEFT(ÖSSZEFÜGGÉSEK!A5,4),". (….) önkormányzati rendelethez") -> 9.1.3. melléklet a ……/2024. (….) önkormányzati rendelethez
A2: Megnevezés | B2: Szentpéterszeg Községi Önkormányzat | C2: 01
A3: Feladat megnevezése | B3: Államigazgatási feladatok bevételei, kiadása | C3: 04
C4: Ezer forintban !
A5: Száma | B5: Előirányzat-csoport, kiemelt előirányzat megnevezése | C5: Előirányzat
A6: A | B6: B | C6: C
B7: Bevételek
A8: 1. | B8: Önkormányzat működési támogatásai (1.1.+…+.1.6.) | C8: =+C9+C10+C11+C12+C13+C14 -> 0
A9: 1.1. | B9: Helyi önkormányzatok működésének általános támogatása
A10: 1.2. | B10: Önkormányzatok egyes köznevelési feladatainak támogatása
A11: 1.3. | B11: Önkormányzatok szociális és gyermekjóléti feladatainak támogatása
A12: 1.4. | B12: Önkormányzatok kulturális feladatainak támogatása
A13: 1.5. | B13: Működési célú kvi támogatások és kiegészítő támogatások
A14: 1.6. | B14: Elszámolásból származó bevételek
A15: 2. | B15: Működési célú támogatások államháztartáson belülről (2.1.+…+.2.5.) | C15: =+C16+C17+C18+C19+C20 -> 0
A16: 2.1. | B16: Elvonások és befizetések bevételei
A17: 2.2. | B17: Működési célú garancia- és kezességvállalásból megtérülések
A18: 2.3. | B18: Működési célú visszatérítendő támogatások, kölcsönök visszatérülése
A19: 2.4. | B19: Működési célú visszatérítendő támogatások, kölcsönök igénybevétele
A20: 2.5. | B20: Egyéb működési célú támogatások bevételei
A21: 2.6. | B21: 2.5.-ből EU-s támogatás
A22: 3. | B22: Felhalmozási célú támogatások államháztartáson belülről (3.1.+…+3.5.) | C22: =+C23+C24+C25+C26+C27 -> 0
A23: 3.1. | B23: Felhalmozási célú önkormányzati támogatások
A24: 3.2. | B24: Felhalmozási célú garancia- és kezességvállalásból megtérülések
A25: 3.3. | B25: Felhalmozási célú visszatérítendő támogatások, kölcsönök visszatérülése
A26: 3.4. | B26: Felhalmozási célú visszatérítendő támogatások, kölcsönök igénybevétele
A27: 3.5. | B27: Egyéb felhalmozási célú támogatások bevételei
A28: 3.6. | B28: 3.5.-ből EU-s támogatás
A29: 4. | B29: Közhatalmi bevételek (4.1.+4.2.+4.3.+4.4.) | C29: =+C30+C34+C35+C36 -> 0
A30: 4.1. | B30: Helyi adók (4.1.1.+…+4.1.3.) | C30: =+C31+C32+C33 -> 0
A31: 4.1.1. | B31: - Vagyoni típusú adók
A32: 4.1.2. | B32: - Termékek és szolgáltatások adói
A33: 4.1.3. | B33: - Értékesítési és forgalmi adók (iparűzési adó)
A34: 4.2. | B34: Gépjárműadó
A35: 4.3. | B35: Egyéb áruhasználati és szolgáltatási adók
A36: 4.4. | B36: Egyéb közhatalmi bevételek
A37: 5. | B37: Működési bevételek (5.1.+…+ 5.11.) | C37: =SUM(C38:C48) -> 0
A38: 5.1. | B38: Készletértékesítés ellenértéke
A39: 5.2. | B39: Szolgáltatások ellenértéke
A40: 5.3. | B40: Közvetített szolgáltatások értéke
A41: 5.4. | B41: Tulajdonosi bevételek
A42: 5.5. | B42: Ellátási díjak
A43: 5.6. | B43: Kiszámlázott általános forgalmi adó
A44: 5.7. | B44: Általános forgalmi adó visszatérítése
A45: 5.8. | B45: Kamatbevételek
A46: 5.9. | B46: Egyéb pénzügyi műveletek bevételei
A47: 5.10. | B47: Biztosító által fizetett kártérítés
A48: 5.11. | B48: Egyéb működési bevételek
A49: 6. | B49: Felhalmozási bevételek (6.1.+…+6.5.) | C49: =SUM(C50:C54) -> 0
A50: 6.1. | B50: Immateriális javak értékesítése
A51: 6.2. | B51: Ingatlanok értékesítése
A52: 6.3. | B52: Egyéb tárgyi eszközök értékesítése
A53: 6.4. | B53: Részesedések értékesítése
A54: 6.5. | B54: Részesedések megszűnéséhez kapcsolódó bevételek
A55: 7. | B55: Működési célú átvett pénzeszközök (7.1. + … + 7.3.) | C55: =SUM(C56:C58) -> 0
A56: 7.1. | B56: Működési célú garancia- és kezességvállalásból megtérülések ÁH-n kívülről
A57: 7.2. | B57: Működési célú visszatérítendő támogatások, kölcsönök visszatér. ÁH-n kívülről
A58: 7.3. | B58: Egyéb működési célú átvett pénzeszköz
A59: 7.4. | B59: 7.3.-ból EU-s támogatás (közvetlen)
A60: 8. | B60: Felhalmozási célú átvett pénzeszközök (8.1.+8.2.+8.3.) | C60: =SUM(C61:C63) -> 0
A61: 8.1. | B61: Felhalm. célú garancia- és kezességvállalásból megtérülések ÁH-n kívülről
A62: 8.2. | B62: Felhalm. célú visszatérítendő támogatások, kölcsönök visszatér. ÁH-n kívülről
A63: 8.3. | B63: Egyéb felhalmozási célú átvett pénzeszköz
A64: 8.4. | B64: 8.3.-ból EU-s támogatás (közvetlen)
A65: 9. | B65: KÖLTSÉGVETÉSI BEVÉTELEK ÖSSZESEN: (1+…+8) | C65: =+C8+C15+C22+C29+C37+C49+C55+C60 -> 0
A66: 10. | B66: Hitel-, kölcsönfelvétel államháztartáson kívülről (10.1.+10.3.) | C66: =SUM(C67:C69) -> 0
A67: 10.1. | B67: Hosszú lejáratú hitelek, kölcsönök felvétele
A68: 10.2. | B68: Likviditási célú hitelek, kölcsönök felvétele pénzügyi vállalkozástól
A69: 10.3. | B69: Rövid lejáratú hitelek, kölcsönök felvétele
A70: 11. | B70: Belföldi értékpapírok bevételei (11.1. +…+ 11.4.) | C70: =SUM(C71:C74) -> 0
A71: 11.1. | B71: Forgatási célú belföldi értékpapírok beváltása, értékesítése
A72: 11.2. | B72: Forgatási célú belföldi értékpapírok kibocsátása
A73: 11.3. | B73: Befektetési célú belföldi értékpapírok beváltása, értékesítése
A74: 11.4. | B74: Befektetési célú belföldi értékpapírok kibocsátása
A75: 12. | B75: Maradvány igénybevétele (12.1. + 12.2.) | C75: =SUM(C76:C77) -> 0
A76: 12.1. | B76: Előző év költségvetési maradványának igénybevétele
A77: 12.2. | B77: Előző év vállalkozási maradványának igénybevétele
A78: 13. | B78: Belföldi finanszírozás bevételei (13.1. + … + 13.3.) | C78: =SUM(C79:C81) -> 0
A79: 13.1. | B79: Államháztartáson belüli megelőlegezések
A80: 13.2. | B80: Államháztartáson belüli megelőlegezések törlesztése
A81: 13.3. | B81: Betétek megszüntetése
A82: 14. | B82: Külföldi finanszírozás bevételei (14.1.+…14.4.) | C82: =SUM(C83:C86) -> 0
A83: 14.1. | B83: Forgatási célú külföldi értékpapírok beváltása, értékesítése
A84: 14.2. | B84: Befektetési célú külföldi értékpapírok beváltása, értékesítése
A85: 14.3. | B85: Külföldi értékpapírok kibocsátása
A86: 14.4. | B86: Külföldi hitelek, kölcsönök felvétele
A87: 15. | B87: Váltóbevételek
A88: 16. | B88: Adóssághoz nem kapcsolódó származékos ügyletek bevételei
A89: 17. | B89: FINANSZÍROZÁSI BEVÉTELEK ÖSSZESEN: (10. + … +16.) | C89: =+C66+C70+C75+C78+C82+C88+C87 -> 0
A90: 18. | B90: BEVÉTELEK ÖSSZESEN: (9+17) | C90: =+C65+C89 -> 0
B92: Kiadások
A93: 1. | B93: Működési költségvetés kiadásai (1.1+…+1.5+1.18.) | C93: =+C94+C95+C96+C97+C98+C111 -> 0
A94: 1.1. | B94: Személyi juttatások
A95: 1.2. | B95: Munkaadókat terhelő járulékok és szociális hozzájárulási adó
A96: 1.3. | B96: Dologi kiadások
A97: 1.4. | B97: Ellátottak pénzbeli juttatásai
A98: 1.5 | B98: Egyéb működési célú kiadások
A99: 1.6. | B99: az 1.5-ből: - Előző évi elszámolásból származó befizetések
A100: 1.7. | B100: - Törvényi előíráson alapuló befizetések
A101: 1.8. | B101: - Elvonások és befizetések
...

Sheet 9.2. sz. mell
C1: =+CONCATENATE("9.2. melléklet a ……/",LEFT(ÖSSZEFÜGGÉSEK!A5,4),". (….) önkormányzati rendelethez") -> 9.2. melléklet a ……/2024. (….) önkormányzati rendelethez
A2: Költségvetési szerv megnevezése | B2: Polgármesteri /közös/ hivatal | C2: 02
A3: Feladat megnevezése | B3: Összes bevétel, kiadás | C3: 01
C4: Ezer forintban !
A5: Száma | B5: Előirányzat-csoport, kiemelt előirányzat megnevezése | C5: Előirányzat
A6: A | B6: B | C6: C
B7: Bevételek
A8: 1. | B8: Működési bevételek (1.1.+…+1.11.) | C8: =SUM(C9:C19) -> 0
A9: 1.1. | B9: Készletértékesítés ellenértéke
A10: 1.2. | B10: Szolgáltatások ellenértéke
A11: 1.3. | B11: Közvetített szolgáltatások értéke
A12: 1.4. | B12: Tulajdonosi bevételek
A13: 1.5. | B13: Ellátási díjak
A14: 1.6. | B14: Kiszámlázott általános forgalmi adó
A15: 1.7. | B15: Általános forgalmi adó visszatérülése
A16: 1.8. | B16: Kamatbevételek
A17: 1.9. | B17: Egyéb pénzügyi műveletek bevételei
A18: 1.10. | B18: Biztosító által fizetett kártérítés
A19: 1.11. | B19: Egyéb működési bevételek
A20: 2. | B20: Működési célú támogatások államháztartáson belülről (2.1.+…+2.3.) | C20: =SUM(C21:C23) -> 0
A21: 2.1. | B21: Elvonások és befizetések bevételei
A22: 2.2. | B22: Visszatérítendő támogatások, kölcsönök visszatérülése ÁH-n belülről
A23: 2.3. | B23: Egyéb működési célú támogatások bevételei államháztartáson belülről
A24: 2.4. | B24: 2.3-ból EU támogatás
A25: 3. | B25: Közhatalmi bevételek
A26: 4. | B26: Felhalmozási célú támogatások államháztartáson belülről (4.1.+…+4.3.) | C26: =+C27+C28+C29 -> 0
A27: 4.1. | B27: Felhalmozási célú önkormányzati támogatások
A28: 4.2. | B28: Visszatérítendő támogatások, kölcsönök visszatérülése ÁH-n belülről
A29: 4.3. | B29: Egyéb felhalmozási célú támogatások bevételei államháztartáson belülről
A30: 4.4. | B30: 4.3.-ból EU-s támogatás
A31: 5. | B31: Felhalmozási bevételek (5.1.+…+5.3.) | C31: =+C32+C33+C34 -> 0
A32: 5.1. | B32: Immateriális javak értékesítése
A33: 5.2. | B33: Ingatlanok értékesítése
A34: 5.3. | B34: Egyéb tárgyi eszközök értékesítése
A35: 6. | B35: Működési célú átvett pénzeszközök
A36: 7. | B36: Felhalmozási célú átvett pénzeszközök
A37: 8. | B37: Költségvetési bevételek összesen (1.+…+7.) | C37: =+C8+C20+C25+C26+C31+C35+C36 -> 0
A38: 9. | B38: Finanszírozási bevételek (9.1.+…+9.3.) | C38: =+C39+C40+C41 -> 0
A39: 9.1. | B39: Költségvetési maradvány igénybevétele
A40: 9.2. | B40: Vállalkozási maradvány igénybevétele
A41: 9.3. | B41: Irányító szervi (önkormányzati) támogatás (intézményfinanszírozás)
A42: 10. | B42: BEVÉTELEK ÖSSZESEN: (8.+9.) | C42: =+C37+C38 -> 0
B45: Kiadások
A46: 1. | B46: Működési költségvetés kiadásai (1.1+…+1.5.) | C46: =SUM(C47:C51) -> 0
A47: 1.1. | B47: Személyi juttatások
A48: 1.2. | B48: Munkaadókat terhelő járulékok és szociális hozzájárulási adó
A49: 1.3. | B49: Dologi kiadások
A50: 1.4. | B50: Ellátottak pénzbeli juttatásai
A51: 1.5. | B51: Egyéb működési célú kiadások
A52: 2. | B52: Felhalmozási költségvetés kiadásai (2.1.+…+2.3.) | C52: =SUM(C53:C55) -> 0
A53: 2.1. | B53: Beruházások
A54: 2.2. | B54: Felújítások
A55: 2.3. | B55: Egyéb fejlesztési célú kiadások
A56: 2.4. | B56: 2.3.-ból EU-s támogatásból megvalósuló programok, projektek kiadása
A57: 3. | B57: Finanszírozási kiadások
A58: 4. | B58: KIADÁSOK ÖSSZESEN: (1.+2.+3.) | C58: =+C46+C52+C57 -> 0
A60: Éves tervezett létszám előirányzat (fő)
A61: Közfoglalkoztatottak létszáma (fő)

Sheet 9.2.1. sz. mell
C1: =+CONCATENATE("9.2.1. melléklet a ……/",LEFT(ÖSSZEFÜGGÉSEK!A5,4),". (….) önkormányzati rendelethez") -> 9.2.1. melléklet a ……/2024. (….) önkormányzati rendelethez
A2: Költségvetési szerv megnevezése | B2: Polgármesteri /közös/ hivatal | C2: 02
A3: Feladat megnevezése | B3: Kötelező feladatok bevételei, kiadásai | C3: 02
C4: Ezer forintban !
A5: Száma | B5: Előirányzat-csoport, kiemelt előirányzat megnevezése | C5: Előirányzat
A6: A | B6: B | C6: C
B7: Bevételek
A8: 1. | B8: Működési bevételek (1.1.+…+1.11.) | C8: =SUM(C9:C19) -> 0
A9: 1.1. | B9: Készletértékesítés ellenértéke
A10: 1.2. | B10: Szolgáltatások ellenértéke
A11: 1.3. | B11: Közvetített szolgáltatások értéke
A12: 1.4. | B12: Tulajdonosi bevételek
A13: 1.5. | B13: Ellátási díjak
A14: 1.6. | B14: Kiszámlázott általános forgalmi adó
A15: 1.7. | B15: Általános forgalmi adó visszatérülése
A16: 1.8. | B16: Kamatbevételek
A17: 1.9. | B17: Egyéb pénzügyi műveletek bevételei
A18: 1.10. | B18: Biztosító által fizetett kártérítés
A19: 1.11. | B19: Egyéb működési bevételek
A20: 2. | B20: Működési célú támogatások államháztartáson belülről (2.1.+…+2.3.) | C20: =SUM(C21:C23) -> 0
A21: 2.1. | B21: Elvonások és befizetések bevételei
A22: 2.2. | B22: Visszatérítendő támogatások, kölcsönök visszatérülése ÁH-n belülről
A23: 2.3. | B23: Egyéb működési célú támogatások bevételei államháztartáson belülről
A24: 2.4. | B24: 2.3-ból EU támogatás
A25: 3. | B25: Közhatalmi bevételek
A26: 4. | B26: Felhalmozási célú támogatások államháztartáson belülről (4.1.+…+4.3.) | C26: =+C27+C28+C29 -> 0
A27: 4.1. | B27: Felhalmozási célú önkormányzati támogatások
A28: 4.2. | B28: Visszatérítendő támogatások, kölcsönök visszatérülése ÁH-n belülről
A29: 4.3. | B29: Egyéb felhalmozási célú támogatások bevételei államháztartáson belülről
A30: 4.4. | B30: 4.3.-ból EU-s támogatás
A31: 5. | B31: Felhalmozási bevételek (5.1.+…+5.3.) | C31: =+C32+C33+C34 -> 0
A32: 5.1. | B32: Immateriális javak értékesítése
A33: 5.2. | B33: Ingatlanok értékesítése
A34: 5.3. | B34: Egyéb tárgyi eszközök értékesítése
A35: 6. | B35: Működési célú átvett pénzeszközök
A36: 7. | B36: Felhalmozási célú átvett pénzeszközök
A37: 8. | B37: Költségvetési bevételek összesen (1.+…+7.) | C37: =+C8+C20+C25+C26+C31+C35+C36 -> 0
A38: 9. | B38: Finanszírozási bevételek (9.1.+…+9.3.) | C38: =+C39+C40+C41 -> 0
A39: 9.1. | B39: Költségvetési maradvány igénybevétele
A40: 9.2. | B40: Vállalkozási maradvány igénybevétele
A41: 9.3. | B41: Irányító szervi (önkormányzati) támogatás (intézményfinanszírozás)
A42: 10. | B42: BEVÉTELEK ÖSSZESEN: (8.+9.) | C42: =+C37+C38 -> 0
B45: Kiadások
A46: 1. | B46: Működési költségvetés kiadásai (1.1+…+1.5.) | C46: =SUM(C47:C51) -> 0
A47: 1.1. | B47: Személyi juttatások
A48: 1.2. | B48: Munkaadókat terhelő járulékok és szociális hozzájárulási adó
A49: 1.3. | B49: Dologi kiadások
A50: 1.4. | B50: Ellátottak pénzbeli juttatásai
A51: 1.5. | B51: Egyéb működési célú kiadások
A52: 2. | B52: Felhalmozási költségvetés kiadásai (2.1.+…+2.3.) | C52: =SUM(C53:C55) -> 0
A53: 2.1. | B53: Beruházások
A54: 2.2. | B54: Felújítások
A55: 2.3. | B55: Egyéb fejlesztési célú kiadások
A56: 2.4. | B56: 2.3.-ból EU-s támogatásból megvalósuló programok, projektek kiadása
A57: 3. | B57: Finanszírozási kiadások
A58: 4. | B58: KIADÁSOK ÖSSZESEN: (1.+2.+3.) | C58: =+C46+C52+C57 -> 0
A60: Éves tervezett létszám előirányzat (fő)
A61: Közfoglalkoztatottak létszáma (fő)

Sheet 9.2.2. sz.  mell
C1: =+CONCATENATE("9.2.2. melléklet a ……/",LEFT(ÖSSZEFÜGGÉSEK!A5,4),". (….) önkormányzati rendelethez") -> 9.2.2. melléklet a ……/2024. (….) önkormányzati rendelethez
A2: Költségvetési szerv megnevezése | B2: Polgármesteri /közös/ hivatal | C2: 02
A3: Feladat megnevezése | B3: Önként vállalt feladatok bevételei, kiadásai | C3: 03
C4: Ezer forintban !
A5: Száma | B5: Előirányzat-csoport, kiemelt előirányzat megnevezése | C5: Előirányzat
A6: A | B6: B | C6: C
B7: Bevételek
A8: 1. | B8: Működési bevételek (1.1.+…+1.11.) | C8: =SUM(C9:C19) -> 0
A9: 1.1. | B9: Készletértékesítés ellenértéke
A10: 1.2. | B10: Szolgáltatások ellenértéke
A11: 1.3. | B11: Közvetített szolgáltatások értéke
A12: 1.4. | B12: Tulajdonosi bevételek
A13: 1.5. | B13: Ellátási díjak
A14: 1.6. | B14: Kiszámlázott általános forgalmi adó
A15: 1.7. | B15: Általános forgalmi adó visszatérülése
A16: 1.8. | B16: Kamatbevételek
A17: 1.9. | B17: Egyéb pénzügyi műveletek bevételei
A18: 1.10. | B18: Biztosító által fizetett kártérítés
A19: 1.11. | B19: Egyéb működési bevételek
A20: 2. | B20: Működési célú támogatások államháztartáson belülről (2.1.+…+2.3.) | C20: =SUM(C21:C23) -> 0
A21: 2.1. | B21: Elvonások és befizetések bevételei
A22: 2.2. | B22: Visszatérítendő támogatások, kölcsönök visszatérülése ÁH-n belülről
A23: 2.3. | B23: Egyéb működési célú támogatások bevételei államháztartáson belülről
A24: 2.4. | B24: 2.3-ból EU támogatás
A25: 3. | B25: Közhatalmi bevételek
A26: 4. | B26: Felhalmozási célú támogatások államháztartáson belülről (4.1.+…+4.3.) | C26: =+C27+C28+C29 -> 0
A27: 4.1. | B27: Felhalmozási célú önkormányzati támogatások
A28: 4.2. | B28: Visszatérítendő támogatások, kölcsönök visszatérülése ÁH-n belülről
A29: 4.3. | B29: Egyéb felhalmozási célú támogatások bevételei államháztartáson belülről
A30: 4.4. | B30: 4.3.-ból EU-s támogatás
A31: 5. | B31: Felhalmozási bevételek (5.1.+…+5.3.) | C31: =+C32+C33+C34 -> 0
A32: 5.1. | B32: Immateriális javak értékesítése
A33: 5.2. | B33: Ingatlanok értékesítése
A34: 5.3. | B34: Egyéb tárgyi eszközök értékesítése
A35: 6. | B35: Működési célú átvett pénzeszközök
A36: 7. | B36: Felhalmozási célú átvett pénzeszközök
A37: 8. | B37: Költségvetési bevételek összesen (1.+…+7.) | C37: =+C8+C20+C25+C26+C31+C35+C36 -> 0
A38: 9. | B38: Finanszírozási bevételek (9.1.+…+9.3.) | C38: =+C39+C40+C41 -> 0
A39: 9.1. | B39: Költségvetési maradvány igénybevétele
A40: 9.2. | B40: Vállalkozási maradvány igénybevétele
A41: 9.3. | B41: Irányító szervi (önkormányzati) támogatás (intézményfinanszírozás)
A42: 10. | B42: BEVÉTELEK ÖSSZESEN: (8.+9.) | C42: =+C37+C38 -> 0
B45: Kiadások
A46: 1. | B46: Működési költségvetés kiadásai (1.1+…+1.5.) | C46: =SUM(C47:C51) -> 0
A47: 1.1. | B47: Személyi juttatások
A48: 1.2. | B48: Munkaadókat terhelő járulékok és szociális hozzájárulási adó
A49: 1.3. | B49: Dologi kiadások
A50: 1.4. | B50: Ellátottak pénzbeli juttatásai
A51: 1.5. | B51: Egyéb működési célú kiadások
A52: 2. | B52: Felhalmozási költségvetés kiadásai (2.1.+…+2.3.) | C52: =SUM(C53:C55) -> 0
A53: 2.1. | B53: Beruházások
A54: 2.2. | B54: Felújítások
A55: 2.3. | B55: Egyéb fejlesztési célú kiadások
A56: 2.4. | B56: 2.3.-ból EU-s támogatásból megvalósuló programok, projektek kiadása
A57: 3. | B57: Finanszírozási kiadások
A58: 4. | B58: KIADÁSOK ÖSSZESEN: (1.+2.+3.) | C58: =+C46+C52+C57 -> 0
A60: Éves tervezett létszám előirányzat (fő)
A61: Közfoglalkoztatottak létszáma (fő)

Sheet 9.2.3. sz. mell
C1: =+CONCATENATE("9.2.3. melléklet a ……/",LEFT(ÖSSZEFÜGGÉSEK!A5,4),". (….) önkormányzati rendelethez") -> 9.2.3. melléklet a ……/2024. (….) önkormányzati rendelethez
A2: Költségvetési szerv megnevezése | B2: Polgármesteri /közös/ hivatal | C2: 02
A3: Feladat megnevezése | B3: Államigazgatási feladatok bevételei, kiadásai | C3: 04
C4: Ezer forintban !
A5: Száma | B5: Előirányzat-csoport, kiemelt előirányzat megnevezése | C5: Előirányzat
A6: A | B6: B | C6: C
B7: Bevételek
A8: 1. | B8: Működési bevételek (1.1.+…+1.11.) | C8: =SUM(C9:C19) -> 0
A9: 1.1. | B9: Készletértékesítés ellenértéke
A10: 1.2. | B10: Szolgáltatások ellenértéke
A11: 1.3. | B11: Közvetített szolgáltatások értéke
A12: 1.4. | B12: Tulajdonosi bevételek
A13: 1.5. | B13: Ellátási díjak
A14: 1.6. | B14: Kiszámlázott általános forgalmi adó
A15: 1.7. | B15: Általános forgalmi adó visszatérülése
A16: 1.8. | B16: Kamatbevételek
A17: 1.9. | B17: Egyéb pénzügyi műveletek bevételei
A18: 1.10. | B18: Biztosító által fizetett kártérítés
A19: 1.11. | B19: Egyéb működési bevételek
A20: 2. | B20: Működési célú támogatások államháztartáson belülről (2.1.+…+2.3.) | C20: =SUM(C21:C23) -> 0
A21: 2.1. | B21: Elvonások és befizetések bevételei
A22: 2.2. | B22: Visszatérítendő támogatások, kölcsönök visszatérülése ÁH-n belülről
A23: 2.3. | B23: Egyéb működési célú támogatások bevételei államháztartáson belülről
A24: 2.4. | B24: 2.3-ból EU támogatás
A25: 3. | B25: Közhatalmi bevételek
A26: 4. | B26: Felhalmozási célú támogatások államháztartáson belülről (4.1.+…+4.3.) | C26: =+C27+C28+C29 -> 0
A27: 4.1. | B27: Felhalmozási célú önkormányzati támogatások
A28: 4.2. | B28: Visszatérítendő támogatások, kölcsönök visszatérülése ÁH-n belülről
A29: 4.3. | B29: Egyéb felhalmozási célú támogatások bevételei államháztartáson belülről
A30: 4.4. | B30: 4.3.-ból EU-s támogatás
A31: 5. | B31: Felhalmozási bevételek (5.1.+…+5.3.) | C31: =+C32+C33+C34 -> 0
A32: 5.1. | B32: Immateriális javak értékesítése
A33: 5.2. | B33: Ingatlanok értékesítése
A34: 5.3. | B34: Egyéb tárgyi eszközök értékesítése
A35: 6. | B35: Működési célú átvett pénzeszközök
A36: 7. | B36: Felhalmozási célú átvett pénzeszközök
A37: 8. | B37: Költségvetési bevételek összesen (1.+…+7.) | C37: =+C8+C20+C25+C26+C31+C35+C36 -> 0
A38: 9. | B38: Finanszírozási bevételek (9.1.+…+9.3.) | C38: =+C39+C40+C41 -> 0
A39: 9.1. | B39: Költségvetési maradvány igénybevétele
A40: 9.2. | B40: Vállalkozási maradvány igénybevétele
A41: 9.3. | B41: Irányító szervi (önkormányzati) támogatás (intézményfinanszírozás)
A42: 10. | B42: BEVÉTELEK ÖSSZESEN: (8.+9.) | C42: =+C37+C38 -> 0
B45: Kiadások
A46: 1. | B46: Működési költségvetés kiadásai (1.1+…+1.5.) | C46: =SUM(C47:C51) -> 0
A47: 1.1. | B47: Személyi juttatások
A48: 1.2. | B48: Munkaadókat terhelő járulékok és szociális hozzájárulási adó
A49: 1.3. | B49: Dologi kiadások
A50: 1.4. | B50: Ellátottak pénzbeli juttatásai
A51: 1.5. | B51: Egyéb működési célú kiadások
A52: 2. | B52: Felhalmozási költségvetés kiadásai (2.1.+…+2.3.) | C52: =SUM(C53:C55) -> 0
A53: 2.1. | B53: Beruházások
A54: 2.2. | B54: Felújítások
A55: 2.3. | B55: Egyéb fejlesztési célú kiadások
A56: 2.4. | B56: 2.3.-ból EU-s támogatásból megvalósuló programok, projektek kiadása
A57: 3. | B57: Finanszírozási kiadások
A58: 4. | B58: KIADÁSOK ÖSSZESEN: (1.+2.+3.) | C58: =+C46+C52+C57 -> 0
A60: Éves tervezett létszám előirányzat (fő)
A61: Közfoglalkoztatottak létszáma (fő)

Sheet 13. melléklet
C1: =+CONCATENATE("13. melléklet a ../",LEFT(ÖSSZEFÜGGÉSEK!A5,4),". (………..) önkormányzati rendelethez") -> 13. melléklet a ../2024. (………..) önkormányzati rendelethez
A2: Költségvetési szerv megnevezése | B2: Hencidai Gyermekmosoly Óvoda | C2: 03
A3: Feladat megnevezése | B3: Összes bevétel, kiadás | C3: 01
C4: Forintban !
A5: Száma | B5: Előirányzat-csoport, kiemelt előirányzat megnevezése | C5: Előirányzat
A6: A | B6: B | C6: C
B7: Bevételek
A8: 1. | B8: Önkormányzat működési támogatásai (1.1.+…+.1.6.) | C8: =+C9+C10+C11+C12+C13+C14 -> 0
A9: 1.1. | B9: Helyi önkormányzatok működésének általános támogatása
A10: 1.2. | B10: Önkormányzatok egyes köznevelési feladatainak támogatása
A11: 1.3. | B11: Önkormányzatok szociális és gyermekjóléti feladatainak támogatása
A12: 1.4. | B12: Önkormányzatok kulturális feladatainak támogatása
A13: 1.5. | B13: Működési célú kvi támogatások és kiegészítő támogatások
A14: 1.6. | B14: Elszámolásból származó bevételek
A15: 2. | B15: Működési célú támogatások államháztartáson belülről (2.1.+…+.2.5.) | C15: =+C16+C17+C18+C19+C20 -> 0
A16: 2.1. | B16: Elvonások és befizetések bevételei
A17: 2.2. | B17: Működési célú garancia- és kezességvállalásból megtérülések
A18: 2.3. | B18: Működési célú visszatérítendő támogatások, kölcsönök visszatérülése
A19: 2.4. | B19: Működési célú visszatérítendő támogatások, kölcsönök igénybevétele
A20: 2.5. | B20: Egyéb működési célú támogatások bevételei
A21: 2.6. | B21: 2.5.-ből EU-s támogatás
A22: 3. | B22: Felhalmozási célú támogatások államháztartáson belülről (3.1.+…+3.5.) | C22: =+C23+C24+C25+C26+C27 -> 0
A23: 3.1. | B23: Felhalmozási célú önkormányzati támogatások
A24: 3.2. | B24: Felhalmozási célú garancia- és kezességvállalásból megtérülések
A25: 3.3. | B25: Felhalmozási célú visszatérítendő támogatások, kölcsönök visszatérülése
A26: 3.4. | B26: Felhalmozási célú visszatérítendő támogatások, kölcsönök igénybevétele
A27: 3.5. | B27: Egyéb felhalmozási célú támogatások bevételei
A28: 3.6. | B28: 3.5.-ből EU-s támogatás
A29: 4. | B29: Közhatalmi bevételek (4.1.+4.2.+4.3.+4.4.) | C29: =+C30+C34+C35+C36 -> 0
A30: 4.1. | B30: Helyi adók (4.1.1.+…+4.1.3.) | C30: =+C31+C32+C33 -> 0
A31: 4.1.1. | B31: - Vagyoni típusú adók
A32: 4.1.2. | B32: - Termékek és szolgáltatások adói
A33: 4.1.3. | B33: - Értékesítési és forgalmi adók (iparűzési adó)
A34: 4.2. | B34: Gépjárműadó
A35: 4.3. | B35: Egyéb áruhasználati és szolgáltatási adók
A36: 4.4. | B36: Egyéb közhatalmi bevételek
A37: 5. | B37: Működési bevételek (5.1.+…+ 5.11.) | C37: =SUM(C38:C48) -> 0
A38: 5.1. | B38: Készletértékesítés ellenértéke
A39: 5.2. | B39: Szolgáltatások ellenértéke
A40: 5.3. | B40: Közvetített szolgáltatások értéke
A41: 5.4. | B41: Tulajdonosi bevételek
A42: 5.5. | B42: Ellátási díjak (térítési díjak)
A43: 5.6. | B43: Kiszámlázott általános forgalmi adó
A44: 5.7. | B44: Általános forgalmi adó visszatérítése
A45: 5.8. | B45: Kamatbevételek
A46: 5.9. | B46: Egyéb pénzügyi műveletek bevételei
A47: 5.10. | B47: Biztosító által fizetett kártérítés
A48: 5.11. | B48: Egyéb működési bevételek
A49: 6. | B49: Felhalmozási bevételek (6.1.+…+6.5.) | C49: =SUM(C50:C54) -> 0
A50: 6.1. | B50: Immateriális javak értékesítése
A51: 6.2. | B51: Ingatlanok értékesítése
A52: 6.3. | B52: Egyéb tárgyi eszközök értékesítése
A53: 6.4. | B53: Részesedések értékesítése
A54: 6.5. | B54: Részesedések megszűnéséhez kapcsolódó bevételek
A55: 7. | B55: Működési célú átvett pénzeszközök (7.1. + … + 7.3.) | C55: =SUM(C56:C58) -> 0
A56: 7.1. | B56: Működési célú garancia- és kezességvállalásból megtérülések ÁH-n kívülről
A57: 7.2. | B57: Működési célú visszatérítendő támogatások, kölcsönök visszatér. ÁH-n kívülről
A58: 7.3. | B58: Egyéb működési célú átvett pénzeszköz
A59: 7.4. | B59: 7.3.-ból EU-s támogatás (közvetlen)
A60: 8. | B60: Felhalmozási célú átvett pénzeszközök (8.1.+8.2.+8.3.) | C60: =SUM(C61:C63) -> 0
A61: 8.1. | B61: Felhalm. célú garancia- és kezességvállalásból megtérülések ÁH-n kívülről
A62: 8.2. | B62: Felhalm. célú visszatérítendő támogatások, kölcsönök visszatér. ÁH-n kívülről
A63: 8.3. | B63: Egyéb felhalmozási célú átvett pénzeszköz
A64: 8.4. | B64: 8.3.-ból EU-s támogatás (közvetlen)
A65: 9. | B65: KÖLTSÉGVETÉSI BEVÉTELEK ÖSSZESEN: (1+…+8) | C65: =+C8+C15+C22+C29+C37+C49+C55+C60 -> 0
A66: 10. | B66: Hitel-, kölcsönfelvétel államháztartáson kívülről (10.1.+10.3.) | C66: =SUM(C67:C69) -> 0
A67: 10.1. | B67: Hosszú lejáratú hitelek, kölcsönök felvétele
A68: 10.2. | B68: Likviditási célú hitelek, kölcsönök felvétele pénzügyi vállalkozástól
A69: 10.3. | B69: Rövid lejáratú hitelek, kölcsönök felvétele
A70: 11. | B70: Belföldi értékpapírok bevételei (11.1. +…+ 11.4.) | C70: =SUM(C71:C74) -> 0
A71: 11.1. | B71: Forgatási célú belföldi értékpapírok beváltása, értékesítése
A72: 11.2. | B72: Forgatási célú belföldi értékpapírok kibocsátása
A73: 11.3. | B73: Befektetési célú belföldi értékpapírok beváltása, értékesítése
A74: 11.4. | B74: Befektetési célú belföldi értékpapírok kibocsátása
A75: 12. | B75: Maradvány igénybevétele (12.1. + 12.2.) | C75: =SUM(C76:C77) -> 0
A76: 12.1. | B76: Előző év költségvetési maradványának igénybevétele
A77: 12.2. | B77: Előző év vállalkozási maradványának igénybevétele
A78: 13. | B78: Belföldi finanszírozás bevételei (13.1. + … + 13.3.) | C78: =SUM(C79:C82) -> 58048685
A79: 13.1. | B79: Államháztartáson belüli megelőlegezések
A80: 13.2. | B80: Államháztartáson belüli megelőlegezések törlesztése
A81: 13.3. | B81: Központi, irányító szervi támogatás | C81: 58048685
A82: 13.4. | B82: Betétek megszüntetése
A83: 14. | B83: Külföldi finanszírozás bevételei (14.1.+…14.4.) | C83: =SUM(C84:C87) -> 0
A84: 14.1. | B84: Forgatási célú külföldi értékpapírok beváltása, értékesítése
A85: 14.2. | B85: Befektetési célú külföldi értékpapírok beváltása, értékesítése
A86: 14.3. | B86: Külföldi értékpapírok kibocsátása
A87: 14.4. | B87: Külföldi hitelek, kölcsönök felvétele
A88: 15. | B88: Váltóbevételek
A89: 16. | B89: Adóssághoz nem kapcsolódó származékos ügyletek bevételei
A90: 17. | B90: FINANSZÍROZÁSI BEVÉTELEK ÖSSZESEN: (10. + … +16.) | C90: =+C66+C70+C75+C78+C83+C89+C88 -> 58048685
A91: 18. | B91: BEVÉTELEK ÖSSZESEN: (9+17) | C91: =+C65+C90 -> 58048685
B93: Kiadások
A94: 1. | B94: Működési költségvetés kiadásai (1.1+…+1.5+1.18.) | C94: =+C95+C96+C97+C98+C99+C100 -> 58048685
A95: 1.1. | B95: Személyi juttatások | C95: 45544736
A96: 1.2. | B96: Munkaadókat terhelő járulékok és szociális hozzájárulási adó | C96: 5953737
A97: 1.3. | B97: Dologi kiadások | C97: 6550212
A98: 1.4. | B98: Ellátottak pénzbeli juttatásai
A99: 1.5 | B99: Egyéb működési célú kiadások
A100: 1.14. | B100: Tartalékok
A101: 1.15. | B101: az 1.18-ból: - Általános tartalék
...

Sheet 9.3.1. sz. mell
C1: =+CONCATENATE("9.3.1. melléklet a .../",LEFT(ÖSSZEFÜGGÉSEK!A5,4),". (…………..) önkormányzati rendelethez") -> 9.3.1. melléklet a .../2024. (…………..) önkormányzati rendelethez
A2: Költségvetési szerv megnevezése | B2: Hencidai Napközi Otthonos Óvoda és Konyha | C2: 03
A3: Feladat megnevezése | B3: Kötelező feladatok bevételei, kiadásai | C3: 01
C4: Forintban !
A5: Száma | B5: Előirányzat-csoport, kiemelt előirányzat megnevezése | C5: Előirányzat
A6: A | B6: B | C6: C
B7: Bevételek
A8: 1. | B8: Önkormányzat működési támogatásai (1.1.+…+.1.6.) | C8: =+C9+C10+C11+C12+C13+C14 -> 0
A9: 1.1. | B9: Helyi önkormányzatok működésének általános támogatása
A10: 1.2. | B10: Önkormányzatok egyes köznevelési feladatainak támogatása
A11: 1.3. | B11: Önkormányzatok szociális és gyermekjóléti feladatainak támogatása
A12: 1.4. | B12: Önkormányzatok kulturális feladatainak támogatása
A13: 1.5. | B13: Működési célú kvi támogatások és kiegészítő támogatások
A14: 1.6. | B14: Elszámolásból származó bevételek
A15: 2. | B15: Működési célú támogatások államháztartáson belülről (2.1.+…+.2.5.) | C15: =+C16+C17+C18+C19+C20 -> 0
A16: 2.1. | B16: Elvonások és befizetések bevételei
A17: 2.2. | B17: Működési célú garancia- és kezességvállalásból megtérülések
A18: 2.3. | B18: Működési célú visszatérítendő támogatások, kölcsönök visszatérülése
A19: 2.4. | B19: Működési célú visszatérítendő támogatások, kölcsönök igénybevétele
A20: 2.5. | B20: Egyéb működési célú támogatások bevételei
A21: 2.6. | B21: 2.5.-ből EU-s támogatás
A22: 3. | B22: Felhalmozási célú támogatások államháztartáson belülről (3.1.+…+3.5.) | C22: =+C23+C24+C25+C26+C27 -> 0
A23: 3.1. | B23: Felhalmozási célú önkormányzati támogatások
A24: 3.2. | B24: Felhalmozási célú garancia- és kezességvállalásból megtérülések
A25: 3.3. | B25: Felhalmozási célú visszatérítendő támogatások, kölcsönök visszatérülése
A26: 3.4. | B26: Felhalmozási célú visszatérítendő támogatások, kölcsönök igénybevétele
A27: 3.5. | B27: Egyéb felhalmozási célú támogatások bevételei
A28: 3.6. | B28: 3.5.-ből EU-s támogatás
A29: 4. | B29: Közhatalmi bevételek (4.1.+4.2.+4.3.+4.4.) | C29: =+C30+C34+C35+C36 -> 0
A30: 4.1. | B30: Helyi adók (4.1.1.+…+4.1.3.) | C30: =+C31+C32+C33 -> 0
A31: 4.1.1. | B31: - Vagyoni típusú adók
A32: 4.1.2. | B32: - Termékek és szolgáltatások adói
A33: 4.1.3. | B33: - Értékesítési és forgalmi adók (iparűzési adó)
A34: 4.2. | B34: Gépjárműadó
A35: 4.3. | B35: Egyéb áruhasználati és szolgáltatási adók
A36: 4.4. | B36: Egyéb közhatalmi bevételek
A37: 5. | B37: Működési bevételek (5.1.+…+ 5.11.) | C37: =SUM(C38:C48) -> 0
A38: 5.1. | B38: Készletértékesítés ellenértéke
A39: 5.2. | B39: Szolgáltatások ellenértéke
A40: 5.3. | B40: Közvetített szolgáltatások értéke
A41: 5.4. | B41: Tulajdonosi bevételek
A42: 5.5. | B42: Ellátási díjak (térítési díjak) | C42: ='13. melléklet'!C42 -> 0
A43: 5.6. | B43: Kiszámlázott általános forgalmi adó
A44: 5.7. | B44: Általános forgalmi adó visszatérítése
A45: 5.8. | B45: Kamatbevételek | C45: ='13. melléklet'!C45 -> 0
A46: 5.9. | B46: Egyéb pénzügyi műveletek bevételei
A47: 5.10. | B47: Biztosító által fizetett kártérítés
A48: 5.11. | B48: Egyéb működési bevételek
A49: 6. | B49: Felhalmozási bevételek (6.1.+…+6.5.) | C49: =SUM(C50:C54) -> 0
A50: 6.1. | B50: Immateriális javak értékesítése
A51: 6.2. | B51: Ingatlanok értékesítése
A52: 6.3. | B52: Egyéb tárgyi eszközök értékesítése
A53: 6.4. | B53: Részesedések értékesítése
A54: 6.5. | B54: Részesedések megszűnéséhez kapcsolódó bevételek
A55: 7. | B55: Működési célú átvett pénzeszközök (7.1. + … + 7.3.) | C55: =SUM(C56:C58) -> 0
A56: 7.1. | B56: Működési célú garancia- és kezességvállalásból megtérülések ÁH-n kívülről
A57: 7.2. | B57: Működési célú visszatérítendő támogatások, kölcsönök visszatér. ÁH-n kívülről
A58: 7.3. | B58: Egyéb működési célú átvett pénzeszköz | C58: ='13. melléklet'!C58 -> 0
A59: 7.4. | B59: 7.3.-ból EU-s támogatás (közvetlen)
A60: 8. | B60: Felhalmozási célú átvett pénzeszközök (8.1.+8.2.+8.3.) | C60: =SUM(C61:C63) -> 0
A61: 8.1. | B61: Felhalm. célú garancia- és kezességvállalásból megtérülések ÁH-n k.
A62: 8.2. | B62: Felhalm. célú visszatérítendő támogatások, kölcsönök visszatér. ÁH-n kívülről
A63: 8.3. | B63: Egyéb felhalmozási célú átvett pénzeszköz
A64: 8.4. | B64: 8.3.-ból EU-s támogatás (közvetlen)
A65: 9. | B65: KÖLTSÉGVETÉSI BEVÉTELEK ÖSSZESEN: (1+…+8) | C65: =+C8+C15+C22+C29+C37+C49+C55+C60 -> 0
A66: 10. | B66: Hitel-, kölcsönfelvétel államháztartáson kívülről (10.1.+10.3.) | C66: =SUM(C67:C69) -> 0
A67: 10.1. | B67: Hosszú lejáratú hitelek, kölcsönök felvétele
A68: 10.2. | B68: Likviditási célú hitelek, kölcsönök felvétele pénzügyi vállalkozástól
A69: 10.3. | B69: Rövid lejáratú hitelek, kölcsönök felvétele
A70: 11. | B70: Belföldi értékpapírok bevételei (11.1. +…+ 11.4.) | C70: =SUM(C71:C74) -> 0
A71: 11.1. | B71: Forgatási célú belföldi értékpapírok beváltása, értékesítése
A72: 11.2. | B72: Forgatási célú belföldi értékpapírok kibocsátása
A73: 11.3. | B73: Befektetési célú belföldi értékpapírok beváltása, értékesítése
A74: 11.4. | B74: Befektetési célú belföldi értékpapírok kibocsátása
A75: 12. | B75: Maradvány igénybevétele (12.1. + 12.2.) | C75: =SUM(C76:C77) -> 0
A76: 12.1. | B76: Előző év költségvetési maradványának igénybevétele | C76: ='13. melléklet'!C76 -> 0
A77: 12.2. | B77: Előző év vállalkozási maradványának igénybevétele
A78: 13. | B78: Belföldi finanszírozás bevételei (13.1. + … + 13.3.) | C78: =SUM(C79:C82) -> 58048685
A79: 13.1. | B79: Államháztartáson belüli megelőlegezések
A80: 13.2. | B80: Államháztartáson belüli megelőlegezések törlesztése
A81: 13.3. | B81: Központi, irányító szervi támogatás | C81: ='13. melléklet'!C81 -> 58048685
A82: 13.4. | B82: Betétek megszüntetése
A83: 14. | B83: Külföldi finanszírozás bevételei (14.1.+…14.4.) | C83: =SUM(C84:C87) -> 0
A84: 14.1. | B84: Forgatási célú külföldi értékpapírok beváltása, értékesítése
A85: 14.2. | B85: Befektetési célú külföldi értékpapírok beváltása, értékesítése
A86: 14.3. | B86: Külföldi értékpapírok kibocsátása
A87: 14.4. | B87: Külföldi hitelek, kölcsönök felvétele
A88: 15. | B88: Váltóbevételek
A89: 16. | B89: Adóssághoz nem kapcsolódó származékos ügyletek bevételei
A90: 17. | B90: FINANSZÍROZÁSI BEVÉTELEK ÖSSZESEN: (10. + … +16.) | C90: =+C66+C70+C75+C78+C83+C89+C88 -> 58048685
A91: 18. | B91: BEVÉTELEK ÖSSZESEN: (9+17) | C91: =+C65+C90 -> 58048685
B93: Kiadások
A94: 1. | B94: Működési költségvetés kiadásai (1.1+…+1.5+1.18.) | C94: =+C95+C96+C97+C98+C99+C100 -> 58048685
A95: 1.1. | B95: Személyi juttatások | C95: ='13. melléklet'!C95 -> 45544736
A96: 1.2. | B96: Munkaadókat terhelő járulékok és szociális hozzájárulási adó | C96: ='13. melléklet'!C96 -> 5953737
A97: 1.3. | B97: Dologi kiadások | C97: ='13. melléklet'!C97 -> 6550212
A98: 1.4. | B98: Ellátottak pénzbeli juttatásai | C98: ='13. melléklet'!C98 -> 0
A99: 1.5 | B99: Egyéb működési célú kiadások | C99: ='13. melléklet'!C99 -> 0
A100: 1.14. | B100: Tartalékok
A101: 1.15. | B101: az 1.18-ból: - Általános tartalék
...

Sheet 9.3.2. sz. mell
C1: =+CONCATENATE("9.3.2. melléklet a ……./",LEFT(ÖSSZEFÜGGÉSEK!A5,4),". (II…...) önkormányzati rendelethez") -> 9.3.2. melléklet a ……./2024. (II…...) önkormányzati rendelethez
A2: Költségvetési szerv megnevezése | B2: Szentpéterszeg Mesevilág Óvoda | C2: 03
A3: Feladat megnevezése | B3: Önként vállalt feladatok bevételei, kiadásai | C3: 03
C4: Ezer forintban !
A5: Száma | B5: Előirányzat-csoport, kiemelt előirányzat megnevezése | C5: Előirányzat
A6: A | B6: B | C6: C
B7: Bevételek
A8: 1. | B8: Működési bevételek (1.1.+…+1.11.) | C8: =SUM(C9:C19) -> 0
A9: 1.1. | B9: Készletértékesítés ellenértéke
A10: 1.2. | B10: Szolgáltatások ellenértéke
A11: 1.3. | B11: Közvetített szolgáltatások értéke
A12: 1.4. | B12: Tulajdonosi bevételek
A13: 1.5. | B13: Ellátási díjak
A14: 1.6. | B14: Kiszámlázott általános forgalmi adó
A15: 1.7. | B15: Általános forgalmi adó visszatérülése
A16: 1.8. | B16: Kamatbevételek
A17: 1.9. | B17: Egyéb pénzügyi műveletek bevételei
A18: 1.10. | B18: Biztosító által fizetett kártérítés
A19: 1.11. | B19: Egyéb működési bevételek
A20: 2. | B20: Működési célú támogatások államháztartáson belülről (2.1.+…+2.3.) | C20: =SUM(C21:C23) -> 0
A21: 2.1. | B21: Elvonások és befizetések bevételei
A22: 2.2. | B22: Visszatérítendő támogatások, kölcsönök visszatérülése ÁH-n belülről
A23: 2.3. | B23: Egyéb működési célú támogatások bevételei államháztartáson belülről
A24: 2.4. | B24: 2.3.-ból EU támogatás
A25: 3. | B25: Közhatalmi bevételek
A26: 4. | B26: Felhalmozási célú támogatások államháztartáson belülről (4.1.+4.2.) | C26: =+C27+C28 -> 0
A27: 4.1. | B27: Visszatérítendő támogatások, kölcsönök visszatérülése ÁH-n belülről
A28: 4.2. | B28: Egyéb felhalmozási célú támogatások bevételei államháztartáson belülről
A29: 4.3. | B29: 4.2.-ből EU-s támogatás
A30: 5. | B30: Felhalmozási bevételek (5.1.+…+5.3.) | C30: =+C31+C32+C33 -> 0
A31: 5.1. | B31: Immateriális javak értékesítése
A32: 5.2. | B32: Ingatlanok értékesítése
A33: 5.3. | B33: Egyéb tárgyi eszközök értékesítése
A34: 6. | B34: Működési célú átvett pénzeszközök
A35: 7. | B35: Felhalmozási célú átvett pénzeszközök
A36: 8. | B36: KÖLTSÉGVETÉSI BEVÉTELEK ÖSSZESEN (1.+…+7.) | C36: =+C8+C20+C25+C26+C30+C34+C35 -> 0
A37: 9. | B37: Finanszírozási bevételek (9.1.+…+9.3.) | C37: =+C38+C39+C40 -> 0
A38: 9.1. | B38: Költségvetési maradvány igénybevétele
A39: 9.2. | B39: Vállalkozási maradvány igénybevétele
A40: 9.3. | B40: Irányító szervi (önkormányzati) támogatás (intézményfinanszírozás)
A41: 10. | B41: BEVÉTELEK ÖSSZESEN: (8.+9.) | C41: =+C36+C37 -> 0
B44: Kiadások
A45: 1. | B45: Működési költségvetés kiadásai (1.1+…+1.5.) | C45: =SUM(C46:C50) -> 0
A46: 1.1. | B46: Személyi juttatások
A47: 1.2. | B47: Munkaadókat terhelő járulékok és szociális hozzájárulási adó
A48: 1.3. | B48: Dologi kiadások
A49: 1.4. | B49: Ellátottak pénzbeli juttatásai
A50: 1.5. | B50: Egyéb működési célú kiadások
A51: 2. | B51: Felhalmozási költségvetés kiadásai (2.1.+…+2.3.) | C51: =SUM(C52:C54) -> 0
A52: 2.1. | B52: Beruházások
A53: 2.2. | B53: Felújítások
A54: 2.3. | B54: Egyéb fejlesztési célú kiadások
A55: 2.4. | B55: 2.3.-ból EU-s támogatásból megvalósuló programok, projektek kiadása
A56: 3. | B56: Finanszírozási kiadások
A57: 4. | B57: KIADÁSOK ÖSSZESEN: (1.+2.+3.) | C57: =+C45+C51+C56 -> 0
A59: Éves tervezett létszám előirányzat (fő)
A60: Közfoglalkoztatottak létszáma (fő)

Sheet 9.3.3. sz. mell
C1: =+CONCATENATE("9.3.3. melléklet a ……/",LEFT(ÖSSZEFÜGGÉSEK!A5,4),". (….) önkormányzati rendelethez") -> 9.3.3. melléklet a ……/2024. (….) önkormányzati rendelethez
A2: Költségvetési szerv megnevezése | B2: Költségvetési szerv I. | C2: 03
A3: Feladat megnevezése | B3: Államigazgatási feladatok bevételei, kiadásai | C3: 04
C4: Ezer forintban !
A5: Száma | B5: Előirányzat-csoport, kiemelt előirányzat megnevezése | C5: Előirányzat
A6: A | B6: B | C6: C
B7: Bevételek
A8: 1. | B8: Működési bevételek (1.1.+…+1.11.) | C8: =SUM(C9:C19) -> 0
A9: 1.1. | B9: Készletértékesítés ellenértéke
A10: 1.2. | B10: Szolgáltatások ellenértéke
A11: 1.3. | B11: Közvetített szolgáltatások értéke
A12: 1.4. | B12: Tulajdonosi bevételek
A13: 1.5. | B13: Ellátási díjak
A14: 1.6. | B14: Kiszámlázott általános forgalmi adó
A15: 1.7. | B15: Általános forgalmi adó visszatérülése
A16: 1.8. | B16: Kamatbevételek
A17: 1.9. | B17: Egyéb pénzügyi műveletek bevételei
A18: 1.10. | B18: Biztosító által fizetett kártérítés
A19: 1.11. | B19: Egyéb működési bevételek
A20: 2. | B20: Működési célú támogatások államháztartáson belülről (2.1.+…+2.3.) | C20: =SUM(C21:C23) -> 0
A21: 2.1. | B21: Elvonások és befizetések bevételei
A22: 2.2. | B22: Visszatérítendő támogatások, kölcsönök visszatérülése ÁH-n belülről
A23: 2.3. | B23: Egyéb működési célú támogatások bevételei államháztartáson belülről
A24: 2.4. | B24: 2.3.-ból EU támogatás
A25: 3. | B25: Közhatalmi bevételek
A26: 4. | B26: Felhalmozási célú támogatások államháztartáson belülről (4.1.+4.2.) | C26: =+C27+C28 -> 0
A27: 4.1. | B27: Visszatérítendő támogatások, kölcsönök visszatérülése ÁH-n belülről
A28: 4.2. | B28: Egyéb felhalmozási célú támogatások bevételei államháztartáson belülről
A29: 4.3. | B29: 4.2.-ből EU-s támogatás
A30: 5. | B30: Felhalmozási bevételek (5.1.+…+5.3.) | C30: =+C31+C32+C33 -> 0
A31: 5.1. | B31: Immateriális javak értékesítése
A32: 5.2. | B32: Ingatlanok értékesítése
A33: 5.3. | B33: Egyéb tárgyi eszközök értékesítése
A34: 6. | B34: Működési célú átvett pénzeszközök
A35: 7. | B35: Felhalmozási célú átvett pénzeszközök
A36: 8. | B36: KÖLTSÉGVETÉSI BEVÉTELEK ÖSSZESEN (1.+…+7.) | C36: =+C8+C20+C25+C26+C30+C34+C35 -> 0
A37: 9. | B37: Finanszírozási bevételek (9.1.+…+9.3.) | C37: =+C38+C39+C40 -> 0
A38: 9.1. | B38: Költségvetési maradvány igénybevétele
A39: 9.2. | B39: Vállalkozási maradvány igénybevétele
A40: 9.3. | B40: Irányító szervi (önkormányzati) támogatás (intézményfinanszírozás)
A41: 10. | B41: BEVÉTELEK ÖSSZESEN: (8.+9.) | C41: =+C36+C37 -> 0
B44: Kiadások
A45: 1. | B45: Működési költségvetés kiadásai (1.1+…+1.5.) | C45: =SUM(C46:C50) -> 0
A46: 1.1. | B46: Személyi juttatások
A47: 1.2. | B47: Munkaadókat terhelő járulékok és szociális hozzájárulási adó
A48: 1.3. | B48: Dologi kiadások
A49: 1.4. | B49: Ellátottak pénzbeli juttatásai
A50: 1.5. | B50: Egyéb működési célú kiadások
A51: 2. | B51: Felhalmozási költségvetés kiadásai (2.1.+…+2.3.) | C51: =SUM(C52:C54) -> 0
A52: 2.1. | B52: Beruházások
A53: 2.2. | B53: Felújítások
A54: 2.3. | B54: Egyéb fejlesztési célú kiadások
A55: 2.4. | B55: 2.3.-ból EU-s támogatásból megvalósuló programok, projektek kiadása
A56: 3. | B56: Finanszírozási kiadások
A57: 4. | B57: KIADÁSOK ÖSSZESEN: (1.+2.+3.) | C57: =+C45+C51+C56 -> 0
A59: Éves tervezett létszám előirányzat (fő)
A60: Közfoglalkoztatottak létszáma (fő)

Sheet 14. melléklet
A1: Adatszolgáltatás az elismert tartozásállományról
A3: Költségvetési szerv neve: Hencida Község Önkormányzata
A5: Költségvetési szerv számlaszáma: 11738046-15373003
A7: Éves eredeti kiadási előirányzat: 506 401 241 Ft
A8: ,
A9: 30 napon túli elismert tartozásállomány összesen: .- Ft
A12: Sor-szám | B12: Tartozásállomány megnevezése | C12: 30 nap alatti állomány | D12: 30-60 nap közötti állomány | E12: 60 napon túli állomány | F12: Át-ütemezett | G12: Összesen:
A13: 1. | B13: Állammal szembeni tartozások | G13: =SUM(C13:F13) -> 0
A14: 2. | B14: Központi költségvetéssel szemben fennálló tartozás | G14: =SUM(C14:F14) -> 0
A15: 3. | B15: Elkülönített állami pénzalapokkal szembeni tartozás | G15: =SUM(C15:F15) -> 0
A16: 4. | B16: TB alapokkal szembeni tartozás | G16: =SUM(C16:F16) -> 0
A17: 5. | B17: Tartozásállomány önkormányzatok és intézmények felé (Esztár, BÖTKT) | G17: =SUM(C17:F17) -> 0
A18: 6. | B18: Egyéb tartozásállomány | G18: =SUM(C18:F18) -> 0
A19: 7. | B19: Összesen: | C19: =SUM(C13:C18) -> 0 | D19: =SUM(D13:D18) -> 0 | E19: =SUM(E13:E18) -> 0 | F19: =SUM(F13:F18) -> 0 | G19: =SUM(C19:F19) -> 0
A23: =+CONCATENATE("Hencida, ",LEFT(ÖSSZEFÜGGÉSEK!A5,4),". ………………………….... nap") -> Hencida, 2024. ………………………….... nap
D27: költségvetési szerv vezetője s.k.

Sheet 1. sz tájékoztató t.
A1: B E V É T E L E K
A2: 1. sz. táblázat | C2: Forintban
A3: Sor- szám | B3: Bevételi jogcím | C3: =+'1. melléklet'!C3 -> 2024. évi eredeti előirányzat
A4: A | B4: B | C4: E
A5: 1. | B5: Önkormányzat működési támogatásai (1.1.+…+.1.6.) | C5: =+C6+C7+C8+C9+C10+C11 -> 193085841
A6: 1.1. | B6: Helyi önkormányzatok működésének általános támogatása | C6: ='1. melléklet'!C6 -> 89307853
A7: 1.2. | B7: Önkormányzatok egyes köznevelési feladatainak támogatása | C7: ='1. melléklet'!C7 -> 58048685
A8: 1.3. | B8: Önkormányzatok szociális és gyermekjóléti feladatainak támogatása | C8: ='1. melléklet'!C8 -> 43005100
A9: 1.4. | B9: Önkormányzatok kulturális feladatainak támogatása | C9: ='1. melléklet'!C10 -> 2724203
A10: 1.5. | B10: Működési célú kvi támogatások és kiegészítő támogatások | C10: ='1. melléklet'!C11 -> 0
A11: 1.6. | B11: Elszámolásból származó bevételek | C11: ='1. melléklet'!C12 -> 0
A12: 2. | B12: Működési célú támogatások államháztartáson belülről (2.1.+…+.2.5.) | C12: =+C13+C14+C15+C16+C17 -> 0
A13: 2.1. | B13: Elvonások és befizetések bevételei
A14: 2.2. | B14: Működési célú garancia- és kezességvállalásból megtérülések
A15: 2.3. | B15: Működési célú visszatérítendő támogatások, kölcsönök visszatérülése
A16: 2.4. | B16: Működési célú visszatérítendő támogatások, kölcsönök igénybevétele
A17: 2.5. | B17: Egyéb működési célú támogatások bevételei | C17: ='1. melléklet'!C18 -> 0
A18: 2.6. | B18: 2.5.-ből EU-s támogatás
A19: 3. | B19: Felhalmozási célú támogatások államháztartáson belülről (3.1.+…+3.5.) | C19: =+C20+C21+C22+C23+C24 -> 0
A20: 3.1. | B20: Felhalmozási célú önkormányzati támogatások
A21: 3.2. | B21: Felhalmozási célú garancia- és kezességvállalásból megtérülések
A22: 3.3. | B22: Felhalmozási célú visszatérítendő támogatások, kölcsönök visszatérülése
A23: 3.4. | B23: Felhalmozási célú visszatérítendő támogatások, kölcsönök igénybevétele
A24: 3.5. | B24: Egyéb felhalmozási célú támogatások bevételei
A25: 3.6. | B25: 3.5.-ből EU-s támogatás
A26: 4. | B26: Közhatalmi bevételek (4.1.+4.2.+4.3.+4.4.) | C26: =+C27+C31+C32+C33 -> 0
A27: 4.1. | B27: Helyi adók (4.1.1.+...+4.1.3.) | C27: =C30 -> 0
A28: 4.1.1. | B28: - Vagyoni típusú adók
A29: 4.1.2. | B29: - Termékek és szolgáltatások adói
A30: 4.1.3. | B30: - Értékesítési és forgalmi adók (iparűzési adó) | C30: ='1. melléklet'!C31 -> 0
A31: 4.2. | B31: Gépjárműadó | C31: ='1. melléklet'!C32 -> 0
A32: 4.3. | B32: Egyéb áruhasználati és szolgáltatási adók
A33: 4.4. | B33: Egyéb közhatalmi bevételek
A34: 5. | B34: Működési bevételek (5.1.+…+ 5.11.) | C34: =SUM(C35:C45) -> 4000000
A35: 5.1. | B35: Készletértékesítés ellenértéke
A36: 5.2. | B36: Szolgáltatások ellenértéke | C36: ='1. melléklet'!C37 -> 3000000
A37: 5.3. | B37: Közvetített szolgáltatások értéke
A38: 5.4. | B38: Tulajdonosi bevételek | C38: ='1. melléklet'!C39 -> 0
A39: 5.5. | B39: Ellátási díjak | C39: ='1. melléklet'!C40 -> 0
A40: 5.6. | B40: Kiszámlázott általános forgalmi adó | C40: ='1. melléklet'!C41 -> 1000000
A41: 5.7. | B41: Általános forgalmi adó visszatérítése
A42: 5.8. | B42: Kamatbevételek | C42: ='1. melléklet'!C43 -> 0
A43: 5.9. | B43: Egyéb pénzügyi műveletek bevételei
A44: 5.10. | B44: Biztosító által fizetett kártérítés
A45: 5.11. | B45: Egyéb működési bevételek | C45: ='1. melléklet'!C34 -> 0
A46: 6. | B46: Felhalmozási bevételek (6.1.+…+6.5.) | C46: =SUM(C47:C51) -> 0
A47: 6.1. | B47: Immateriális javak értékesítése
A48: 6.2. | B48: Ingatlanok értékesítése
A49: 6.3. | B49: Egyéb tárgyi eszközök értékesítése
A50: 6.4. | B50: Részesedések értékesítése
A51: 6.5. | B51: Részesedések megszűnéséhez kapcsolódó bevételek
A52: 7. | B52: Működési célú átvett pénzeszközök (7.1. + … + 7.3.) | C52: =SUM(C53:C55) -> 0
A53: 7.1. | B53: Működési célú garancia- és kezességvállalásból megtérülések ÁH-n kívülről
A54: 7.2. | B54: Működési célú visszatérítendő támogatások, kölcsönök visszatér. ÁH-n kívülről
A55: 7.3. | B55: Egyéb működési célú átvett pénzeszköz | C55: ='1. melléklet'!C56 -> 0
A56: 7.4. | B56: 7.3.-ból EU-s támogatás (közvetlen)
A57: 8. | B57: Felhalmozási célú átvett pénzeszközök (8.1.+8.2.+8.3.) | C57: =SUM(C58:C60) -> 0
A58: 8.1. | B58: Felhalm. célú garancia- és kezességvállalásból megtérülések ÁH-n kívülről
A59: 8.2. | B59: Felhalm. célú visszatérítendő támogatások, kölcsönök visszatér. ÁH-n kívülről
A60: 8.3. | B60: Egyéb felhalmozási célú átvett pénzeszköz | C60: ='1. melléklet'!C61 -> 0
A61: 8.4. | B61: 8.3.-ból EU-s támogatás (közvetlen)
A62: 9. | B62: KÖLTSÉGVETÉSI BEVÉTELEK ÖSSZESEN: (1+…+8) | C62: =+C5+C12+C19+C26+C34+C46+C52+C57 -> 197085841
A63: 10. | B63: Hitel-, kölcsönfelvétel államháztartáson kívülről (10.1.+…+10.3.) | C63: =SUM(C64:C66) -> 0
A64: 10.1. | B64: Hosszú lejáratú hitelek, kölcsönök felvétele
A65: 10.2. | B65: Likviditási célú hitelek, kölcsönök felvétele pénzügyi vállalkozástól
A66: 10.3. | B66: Rövid lejáratú hitelek, kölcsönök felvétele
A67: 11. | B67: Belföldi értékpapírok bevételei (11.1. +…+ 11.4.) | C67: =SUM(C68:C71) -> 0
A68: 11.1. | B68: Forgatási célú belföldi értékpapírok beváltása, értékesítése
A69: 11.2. | B69: Forgatási célú belföldi értékpapírok kibocsátása
A70: 11.3. | B70: Befektetési célú belföldi értékpapírok beváltása, értékesítése
A71: 11.4. | B71: Befektetési célú belföldi értékpapírok kibocsátása
A72: 12. | B72: Maradvány igénybevétele (12.1. + 12.2.) | C72: =SUM(C73:C74) -> 29661694
A73: 12.1. | B73: Előző év költségvetési maradványának igénybevétele | C73: ='1. melléklet'!C74 -> 29661694
A74: 12.2. | B74: Előző év vállalkozási maradványának igénybevétele
A75: 13. | B75: Belföldi finanszírozás bevételei (13.1. + … + 13.3.) | C75: =SUM(C76:C79) -> 0
A76: 13.1. | B76: Államháztartáson belüli megelőlegezések
A77: 13.2. | B77: Államháztartáson belüli megelőlegezések törlesztése
A78: 13.3. | B78: Intézményfinanszírozás | C78: ='1. melléklet'!C79 -> 0
A79: 14. | B79: Külföldi finanszírozás bevételei (14.1.+…14.4.) | C79: =SUM(C80:C83) -> 0
A80: 14.1. | B80: Forgatási célú külföldi értékpapírok beváltása, értékesítése
A81: 14.2. | B81: Befektetési célú külföldi értékpapírok beváltása, értékesítése
A82: 14.3. | B82: Külföldi értékpapírok kibocsátása
A83: 14.4. | B83: Külföldi hitelek, kölcsönök felvétele
A84: 15. | B84: Váltóbevételek
A85: 16. | B85: Adóssághoz nem kapcsolódó származékos ügyletek bevételei
A86: 17. | B86: FINANSZÍROZÁSI BEVÉTELEK ÖSSZESEN: (10. + … +16.) | C86: =+C63+C67+C72+C75+C79+C85+C84 -> 29661694
A87: 18. | B87: KÖLTSÉGVETÉSI ÉS FINANSZÍROZÁSI BEVÉTELEK ÖSSZESEN: (9+17) | C87: =+C62+C86 -> 226747535
A89: K I A D Á S O K
A90: 2. sz. táblázat | C90: Forintban
A91: Sor-szám | B91: Kiadási jogcímek | C91: =+C3 -> 2024. évi eredeti előirányzat
A92: A | B92: B | C92: E
A93: 1. | B93: Működési költségvetés kiadásai (1.1+…+1.5.+1.18.) | C93: =+C94+C95+C96+C97+C98+C105 -> 381810946
A94: 1.1. | B94: Személyi juttatások | C94: ='1. melléklet'!C97 -> 214168434
A95: 1.2. | B95: Munkaadókat terhelő járulékok és szociális hozzájárulási adó | C95: ='1. melléklet'!C98 -> 23553745
A96: 1.3. | B96: Dologi kiadások | C96: ='1. melléklet'!C99 -> 112176507
A97: 1.4. | B97: Ellátottak pénzbeli juttatásai | C97: ='1. melléklet'!C100 -> 31912260
A98: 1.5 | B98: Egyéb működési célú kiadások | C98: ='1. melléklet'!C101 -> 0
A99: 1.6. | B99: - az 1.5-ből: - Előző évi elszámolásból származó befizetések | C99: ='1. melléklet'!C102 -> 0
A100: 1.10. | B100: -Visszatérítendő támogatások, kölcsönök nyújtása ÁH-n belülre | C100: ='1. melléklet'!C106 -> 0
A101: 1.11. | B101: - Visszatérítendő támogatások, kölcsönök törlesztése ÁH-n belülre
...

Sheet 2. sz tájékoztató t
A1: Többéves kihatással járó döntések számszerűsítése évenkénti bontásban és összesítve célok szerint
I2: Forintban !
A3: Sor- szám | B3: Kötelezettség jogcíme | C3: Köt. váll. éve | D3: =+CONCATENATE(LEFT(ÖSSZEFÜGGÉSEK!A5,4)," előtti kifizetés") -> 2024 előtti kifizetés | E3: Kiadás vonzata évenként | I3: Összesen
E4: =+CONCATENATE(LEFT(ÖSSZEFÜGGÉSEK!A5,4),".") -> 2024. | F4: =+CONCATENATE(LEFT(ÖSSZEFÜGGÉSEK!A5,4)+1,".") -> 2025. | G4: =+CONCATENATE(LEFT(ÖSSZEFÜGGÉSEK!A5,4)+2,".") -> 2026. | H4: =+CONCATENATE(LEFT(ÖSSZEFÜGGÉSEK!A5,4)+2,".",CHAR(10)," után") -> 2026. után
A5: A | B5: B | C5: C | D5: D | E5: E | F5: F | G5: G | H5: H | I5: I=(D+E+F+G+H)
A6: 1. | B6: Működési célú finanszírozási kiadások (hiteltörlesztés, értékpapír vásárlás, stb.) | D6: =+D7+D8 -> 0 | E6: =+E7+E8 -> 0 | F6: =+F7+F8 -> 0 | G6: =+G7+G8 -> 0 | H6: =+H7+H8 -> 0 | I6: =SUM(D6:H6) -> 0
A7: 2. | B7: ............................ | I7: =SUM(D7:H7) -> 0 | J7: 2. tájékoztató tábla a ../……….... (…………...) önkorm. Rendelethez
A8: 3. | B8: ............................ | I8: =SUM(D8:H8) -> 0
A9: 4. | B9: Felhalmozási célú finanszírozási kiadások (hiteltörlesztés, értékpapír vásárlás, stb.) | D9: =+D10+D11 -> 0 | E9: =+E10+E11 -> #VALUE! | F9: =+F10+F11 -> 0 | G9: =+G10+G11 -> 0 | H9: =+H10+H11 -> 0 | I9: =SUM(D9:H9) -> #VALUE!
A10: 5. | B10: ............................ | I10: =SUM(D10:H10) -> 0
A11: 6. | B11: ............................ | E11: NEMLEGES | I11: =SUM(D11:H11) -> 0
A12: 7. | B12: Beruházási kiadások beruházásonként | C12: =+C13+C14+C15 -> 0 | D12: =+D13+D14+D15 -> 0 | E12: =+E13+E14+E15 -> 0 | F12: =+F13+F14+F15 -> 0 | G12: =+G13 -> 0 | H12: =+H13 -> 0 | I12: =SUM(D12:H12) -> 0
A13: 8. | B13: Konyhafelújítás pályázat eszközbeszerzés Óvodába | D13: 0 | I13: =SUM(D13:H13) -> 0
A14: 9. | B14: Kisértékű tárgyi eszköz beszerzés (Vízműtől vásárolt eszk.) | I14: =SUM(D14:H14) -> 0
A15: 10. | B15: Iparterület fejlesztés (TOP-1.1.1-15) építés | I15: =SUM(D15:H15) -> 0
A16: 11. | B16: Felújítási kiadások felújításonként | D16: =+D17 -> 0 | G16: =+G17 -> 0 | H16: =+H17 -> 0 | I16: =SUM(D16:H16) -> 0
A17: 12. | B17: Konyhafelújítás pályázat épületfelújítás Óvodába | I17: =SUM(D17:H17) -> 0
A18: 13. | B18: Egyéb (Pl.: garancia és kezességvállalás, stb.) | D18: =+D19 -> 0 | E18: =+E19 -> 0 | F18: =+F19 -> 0 | G18: =+G19 -> 0 | H18: =+H19 -> 0 | I18: =SUM(D18:H18) -> 0
A19: 14. | B19: ............................ | I19: =SUM(D19:H19) -> 0
A20: Összesen (1+4+7+9+11) | D20: =+D6+D9+D12+D16+D18 -> 0 | E20: =+E6+E9+E12+E16+E18 -> #VALUE! | F20: =+F6+F9+F12+F16+F18 -> 0 | G20: =+G6+G9+G12+G16+G18 -> 0 | H20: =+H6+H9+H12+H16+H18 -> 0 | I20: =+I6+I9+I12+I16+I18 -> #VALUE!

Sheet 3. sz tájékoztató t.
B1: Az önkormányzat által adott közvetett támogatások (kedvezmények)
D2: Forintban !
A3: Sor-szám | B3: Bevételi jogcím | C3: Kedvezmény nélkül elérhető bevétel | D3: Kedvezmények összege
A4: A | B4: B | C4: C | D4: D
A5: 1. | B5: Ellátottak térítési díjának méltányosságból történő elengedése
A6: 2. | B6: Ellátottak kártérítésének méltányosságból történő elengedése
A7: 3. | B7: Lakosság részére lakásépítéshez nyújtott kölcsön elengedése
A8: 4. | B8: Lakosság részére lakásfelújításhoz nyújtott kölcsön elengedése
A9: 5. | B9: Helyi adóból biztosított kedvezmény, mentesség összesen
A10: 6. | B10: -ebből: Építményadó
A11: 7. | B11: Telekadó
A12: 9. | B12: Magánszemélyek kommunális adója
A13: 10. | B13: Idegenforgalmi adó tartózkodás után
A14: 11. | B14: Idegenforgalmi adó épület után
A15: 12. | B15: Iparűzési adó állandó jelleggel végzett iparűzési tevékenység után | C15: 150001 | D15: 150000
A16: 13. | B16: Gépjárműadóból biztosított kedvezmény, mentesség
A17: 14. | B17: Helyiségek hasznosítása utáni kedvezmény, mentesség
A18: 15. | B18: Eszközök hasznosítása utáni kedvezmény, mentesség
A19: 16. | B19: Egyéb kedvezmény
A20: 17. | B20: Egyéb kölcsön elengedése
A21: 18.
A22: 19.
A23: 20.
A24: 21.
A25: 22.
A26: 23.
A27: 24.
A28: 25.
A29: 26.
A30: 27. | B30: Összesen: | C30: =+C5+C6+C7+C8+C9+C16+C17+C18+C19+C20+C21+C22+C23+C24+C25+C26+C27+C28+C29 -> 0 | D30: =+D5+D6+D7+D8+D9+D16+D17+D18+D19+D20+D21+D22+D23+D24+D25+D26+D27+D28+D29 -> 0

Sheet 15. melléklet
A1: =+CONCATENATE("Előirányzat-felhasználási terv",CHAR(10),LEFT(ÖSSZEFÜGGÉSEK!A5,4),". évre") -> Előirányzat-felhasználási terv 2024. évre
O2: Forintban !
A3: Sor-szám | B3: Megnevezés | C3: Január | D3: Február | E3: Március | F3: Április | G3: Május | H3: Június | I3: Július | J3: Auguszt. | K3: Szept. | L3: Okt. | M3: Nov. | N3: Dec. | O3: Összesen:
A4: 1. | B4: Bevételek
A5: 2. | B5: Önkormányzatok működési támogatásai | C5: =$O5/12 -> 18998680 | D5: =$O5/12 -> 18998680 | E5: =$O5/12 -> 18998680 | F5: =$O5/12 -> 18998680 | G5: =$O5/12 -> 18998680 | H5: =$O5/12 -> 18998680 | I5: =$O5/12 -> 18998680 | J5: =$O5/12 -> 18998680 | ... N5: =$O5/12 -> 18998680 | O5: ='1. melléklet'!C5 -> 227984154
A6: 3. | B6: Működési célú támogatások ÁH-on belül | C6: =$O6/12 -> 0 | D6: =$O6/12 -> 0 | E6: =$O6/12 -> 0 | F6: =$O6/12 -> 0 | G6: =$O6/12 -> 0 | H6: =$O6/12 -> 0 | I6: =$O6/12 -> 0 | J6: =$O6/12 -> 0 | ... N6: =$O6/12 -> 0 | O6: ='1. melléklet'!C13 -> 0
A7: 4. | B7: Felhalmozási célú támogatások ÁH-on belül | C7: =$O7/12 -> 0 | O7: ='1. melléklet'!C20 -> 0
A8: 5. | B8: Közhatalmi bevételek | E8: =O8/2 -> 16500000 | K8: =E8 -> 16500000 | O8: ='1. melléklet'!C27 -> 33000000
A9: 6. | B9: Működési bevételek | C9: =$O9/12 -> 7747599.4 | D9: =$O9/12 -> 7747599.4 | E9: =$O9/12 -> 7747599.4 | F9: =$O9/12 -> 7747599.4 | G9: =$O9/12 -> 7747599.4 | H9: =$O9/12 -> 7747599.4 | I9: =$O9/12 -> 7747599.4 | J9: =$O9/12 -> 7747599.4 | ... N9: =$O9/12 -> 7747599.4 | O9: ='1. melléklet'!C35 -> 92971193
A10: 7. | B10: Felhalmozási bevételek | O10: ='1. melléklet'!C47 -> 0
A11: 8. | B11: Működési célú átvett pénzeszközök | C11: =$O11/12 -> 0 | D11: =$O11/12 -> 0 | E11: =$O11/12 -> 0 | F11: =$O11/12 -> 0 | G11: =$O11/12 -> 0 | H11: =$O11/12 -> 0 | I11: =$O11/12 -> 0 | J11: =$O11/12 -> 0 | ... N11: =$O11/12 -> 0 | O11: ='1. melléklet'!C53 -> 0
A12: 9. | B12: Felhalmozási célú átvett pénzeszközök | I12: =O12 -> 0 | O12: ='1. melléklet'!C58 -> 0
A13: 10. | B13: Finanszírozási bevételek | C13: 12703824 | D13: 12703824 | E13: 12703824 | F13: 12703824 | G13: 12703824 | H13: 12703824 | I13: 12703824 | J13: 12703824 | K13: 12703824 | L13: 12703824 | M13: 12703824 | N13: 12703830 | O13: =SUM(C13:N13) -> 152445894
A14: 11. | B14: Bevételek összesen: | C14: =SUM(C5:C13) -> 39450103 | D14: =SUM(D5:D13) -> 39450103 | E14: =SUM(E5:E13) -> 55950103 | F14: =SUM(F5:F13) -> 39450103 | G14: =SUM(G5:G13) -> 39450103 | H14: =SUM(H5:H13) -> 39450103 | I14: =SUM(I5:I13) -> 39450103 | J14: =SUM(J5:J13) -> 39450103 | ... O14: =SUM(O5:O13) -> 506401241
A15: 12. | B15: Kiadások
A16: 13. | B16: Személyi juttatások | C16: =$O16/12 -> 17847370 | D16: =$O16/12 -> 17847370 | E16: =$O16/12 -> 17847370 | F16: =$O16/12 -> 17847370 | G16: =$O16/12 -> 17847370 | H16: =$O16/12 -> 17847370 | I16: =$O16/12 -> 17847370 | J16: =$O16/12 -> 17847370 | ... N16: =$O16/12 -> 17847370 | O16: ='1. melléklet'!C97 -> 214168434
A17: 14. | B17: Munkaadókat terhelő járulékok és szociális hozzájárulási adó | C17: =$O17/12 -> 1962812.1 | D17: =$O17/12 -> 1962812.1 | E17: =$O17/12 -> 1962812.1 | F17: =$O17/12 -> 1962812.1 | G17: =$O17/12 -> 1962812.1 | H17: =$O17/12 -> 1962812.1 | I17: =$O17/12 -> 1962812.1 | J17: =$O17/12 -> 1962812.1 | ... N17: =$O17/12 -> 1962812.1 | O17: ='1. melléklet'!C98 -> 23553745
A18: 15. | B18: Dologi kiadások | C18: =$O18/12 -> 9348042.2 | D18: =$O18/12 -> 9348042.2 | E18: =$O18/12 -> 9348042.2 | F18: =$O18/12 -> 9348042.2 | G18: =$O18/12 -> 9348042.2 | H18: =$O18/12 -> 9348042.2 | I18: =$O18/12 -> 9348042.2 | J18: =$O18/12 -> 9348042.2 | ... N18: =$O18/12 -> 9348042.2 | O18: ='1. melléklet'!C99 -> 112176507
A19: 16. | B19: Ellátottak pénzbeli juttatásai | C19: =$O19/12 -> 2659355 | D19: =$O19/12 -> 2659355 | E19: =$O19/12 -> 2659355 | F19: =$O19/12 -> 2659355 | G19: =$O19/12 -> 2659355 | H19: =$O19/12 -> 2659355 | I19: =$O19/12 -> 2659355 | J19: =$O19/12 -> 2659355 | ... N19: =$O19/12 -> 2659355 | O19: ='1. melléklet'!C100 -> 31912260
A20: 17. | B20: Egyéb működési célú kiadások | C20: =$O20/12 -> 0 | D20: =$O20/12 -> 0 | E20: =$O20/12 -> 0 | F20: =$O20/12 -> 0 | G20: =$O20/12 -> 0 | H20: =$O20/12 -> 0 | I20: =$O20/12 -> 0 | J20: =$O20/12 -> 0 | ... N20: =$O20/12 -> 0 | O20: ='1. melléklet'!C101 -> 0
A21: 18. | B21: Beruházások | O21: ='1. melléklet'!C118 -> 1806095
A22: 19. | B22: Felújítások | E22: =O22 -> 0 | O22: ='1. melléklet'!C120 -> 0
A23: 20. | B23: Egyéb felhalmozási kiadások | E23: =O23 -> 0 | O23: ='1. melléklet'!C122 -> 0
A24: 21. | B24: Finanszírozási kiadások | C24: 10232016 | D24: 10232016 | E24: 10232016 | F24: 10232016 | G24: 10232016 | H24: 10232016 | I24: 10232016 | J24: 10232016 | K24: 10232016 | L24: 10232016 | M24: 10232016 | N24: 10232024 | O24: =SUM(C24:N24) -> 122784200
A25: 22. | B25: Kiadások összesen: | C25: =SUM(C16:C24) -> 42049595 | D25: =SUM(D16:D24) -> 42049595 | E25: =SUM(E16:E24) -> 42049595 | F25: =SUM(F16:F24) -> 42049595 | G25: =SUM(G16:G24) -> 42049595 | H25: =SUM(H16:H24) -> 42049595 | I25: =SUM(I16:I24) -> 42049595 | J25: =SUM(J16:J24) -> 42049595 | ... O25: =SUM(O16:O24) -> 506401241
A26: 23. | B26: Egyenleg | C26: =C14-C25 -> -2599491.9 | D26: =D14-D25 -> -2599491.9 | E26: =E14-E25 -> 13900508 | F26: =F14-F25 -> -2599491.9 | G26: =G14-G25 -> -2599491.9 | H26: =H14-H25 -> -2599491.9 | I26: =I14-I25 -> -2599491.9 | J26: =J14-J25 -> -2599491.9 | ... O26: =O14-O25 -> 0

Sheet 16. melléklet
A1: B E V É T E L E K
A2: 16. sz. táblázat | E2: forintban
A3: Sor- szám | B3: Bevételi jogcím | C3: 2025. évi | D3: 2026. évi | E3: 2027. évi
A4: A | B4: B | C4: C | D4: D | E4: E
A5: 1. | B5: Önkormányzat működési támogatásai | C5: 240000000 | D5: 260000000 | E5: 280000000
A6: 2. | B6: Működési célú támogatások államháztartáson belülről
A7: 3. | B7: Felhalmozási célú támogatások államháztartáson belülről
A8: 4. | B8: Közhatalmi bevételek (4.1.+4.2.+4.3.+4.4.) | C8: 40000000 | D8: 40000000 | E8: 40000000
A9: 4.1. | B9: Vagyoni tipusú adók
A10: 4.2. | B10: Idegenforgalmi adó
A11: 4.3. | B11: Iparűzési adó
A12: 4.4. | B12: Talajterhelési díj
A13: 4.5. | B13: Gépjárműadó
A14: 4.6. | B14: Egyéb áruhasználati és szolgáltatási adók
A15: 4.7. | B15: Egyéb közhatalmi bevételek
A16: 5. | B16: Működési bevételek | C16: 100000000 | D16: 100000000 | E16: 100000000
A17: 6. | B17: Felhalmozási bevételek
A18: 7. | B18: Működési célú átvett pénzeszközök
A19: 8. | B19: Felhalmozási célú átvett pénzeszközök
A20: 9. | B20: KÖLTSÉGVETÉSI BEVÉTELEK ÖSSZESEN: (1+…+8) | C20: =+C5+C6+C7+C8+C16+C17+C18+C19 -> 380000000 | D20: =+D5+D6+D7+D8+D16+D17+D18+D19 -> 400000000 | E20: =+E5+E6+E7+E8+E16+E17+E18+E19 -> 420000000
A21: 10. | B21: FINANSZÍROZÁSI BEVÉTELEK ÖSSZESEN:
A22: 11. | B22: KÖLTSÉGVETÉSI ÉS FINANSZÍROZÁSI BEVÉTELEK ÖSSZESEN: (9+10) | C22: =+C20+C21 -> 380000000 | D22: =+D20+D21 -> 400000000 | E22: =+E20+E21 -> 420000000
A24: K I A D Á S O K
A25: 2. sz. táblázat | E25: Forintban
A26: Sor-szám | B26: Kiadási jogcímek | C26: =+C3 -> 2025. évi | D26: =+D3 -> 2026. évi | E26: =+E3 -> 2027. évi
A27: A | B27: B | C27: C | D27: D | E27: E
A28: 1. | B28: Működési költségvetés kiadásai | C28: 370000000 | D28: 390000000 | E28: 410000000
A29: 2. | B29: Felhalmozási költségvetés kiadásai (2.1.+2.2.+2.3.) | C29: 10000000 | D29: 10000000 | E29: 10000000
A30: 2.1. | B30: Beruházások
A31: 2.2. | B31: Felújítások
A32: 2.3. | B32: Egyéb felhalmozási kiadások
A33: 3. | B33: KÖLTSÉGVETÉSI KIADÁSOK ÖSSZESEN (1+2) | C33: =+C28+C29 -> 380000000 | D33: =+D28+D29 -> 400000000 | E33: =+E28+E29 -> 420000000
A34: 4. | B34: FINANSZÍROZÁSI KIADÁSOK ÖSSZESEN:
A35: 5. | B35: KIADÁSOK ÖSSZESEN: (3.+4.) | C35: =+C33+C34 -> 380000000 | D35: =+D33+D34 -> 400000000 | E35: =+E33+E34 -> 420000000

Sheet 17. melléklet
B1: 2024. évi általános működés és ágazati feladatok támogatásának alakulása jogcímenként
B2: Rovatrend | C2: Rovatrend megnevezése | D2: Jogcím | E2: BEVÉTEL
B3: B111 | C3: Települési önkormányzatok működésének támogatása | D3: Hivatal működésének támogatása | E3: 57360975
D4: Zöldterület gazdálkodással kapcsolatos feladatok támogatása | E4: 3473600
D5: Közvilágítás fenntartásának támogatása | E5: 9244500
D6: Köztemető fenntartásával kapcsolatos feladat támogatása | E6: 3079125
D7: Közutak fenntartásának támogatása | E7: 3728900
D8: Településüzemeltetés - Lakott külterülettel kapcsolatos feladatok támogatása - kiegészítés előtt | E8: 5100
D9: Egyéb önkormányzati feladatok támogatása | E9: 8500000
D10: Polgármesteri illetmény támogatása | E10: 3915653
B11: ÖSSZESEN | E11: =SUM(E3:E10) -> 89307853
B12: B112 | C12: Települési önkormányzatok köznevelési feladatainak támogatása | D12: Óvodapedagógusok és munkájukat segítők bértámogatása | E12: 10536000
D13: Óvoda működtetési támogatása | E13: 6550212
D14: Óvoda pedagógusok és Ped II. | E14: 33247600
B15: ÖSSZESEN | E15: 50333812
B16: B1131 | C16: Települési önkormányzatok szociális feladatainak támogatása | D16: Települési önkorm. Szociális feladatainak egyéb támogatása | E16: 36362000
D17: Egyes szociális és gyermekjóléti feladatok támogatása | E17: 6643100
B18: B1132 | C18: Települési önkormányzatok gyermekjóléti feladatainak támogatása | D18: Gyermekétkezetés | E18: 29651862
D19: Szünidei étkeztetés | E19: 5246451
B21: ÖSSZESEN | E21: 77903413
B22: B114 | C22: Települési önkormányzatok kulturális támogatása | E22: 2724203
B23: B115 | C23: Működési célú támogatások és kiegészítő támogatások
B24: B112 | C24: Esélyteremtési pótlék | E24: 7714873
B25: ÖSSZESEN | E25: 10439076
E26: =SUM(E11+E15+E21+E22+E24) -> 227984154

Sheet 18. melléklet
A1: 2024. évi szociális jellegű kiadások
A3: Összesen: 36 362 000Ft
A5: Ebből: | C5: 3000000 | F5: Szociális tűzifa kiszállításának költsége (2évi)
C6: 5000000 | F6: Gyermekvédelmi rendelet alapján támogatás (babaváró támogatás, iskola és óvoda kezdési támogatás)
C7: 28362000 | F7: Szociális rendelet alapján támogatás (rendkívüli települési támogatás, települési támogatás, temetési segély)

Sheet 19. melléklet
A1: B E V É T E L E K | F1: B E V É T E L E K
A2: 19. sz. táblázat | E2: Forintban | F2: 1. sz. táblázat | J2: Forintban
A3: Sor- szám | B3: Bevételi jogcím | C3: 2022. évi | F3: Sor- szám | G3: Bevételi jogcím | H3: 2023. évi
C4: Eredeti előirányzat | D4: Módosított előirányzat | E4: Teljesítés | H4: Eredeti előirányzat | I4: Módosított előirányzat | J4: Teljesítés
A5: A | B5: B | C5: C | D5: D | E5: E | F5: A | G5: B | H5: C | I5: D | J5: E
A6: 1. | B6: Önkormányzat működési támogatásai (1.1.+…+.1.6.) | C6: =SUM(C7:C13) -> 164396100 | D6: =SUM(D7:D13) -> 176467521 | E6: =SUM(E7:E13) -> 197287360 | F6: 1. | G6: Önkormányzat működési támogatásai (1.1.+…+.1.6.) | H6: =SUM(H7:H13) -> 174040585 | I6: =SUM(I7:I13) -> 182492033 | J6: =SUM(J7:J13) -> 219219950
A7: 1.1. | B7: Helyi önkormányzatok működésének általános támogatása | C7: ='[1]6.1. sz. mell'!C10 -> 80216225 | D7: ='[1]6.1. sz. mell'!D10 -> 80467367 | E7: 73548067 | F7: 1.1. | G7: Helyi önkormányzatok működésének általános támogatása | H7: 71105274 | I7: 71377574 | J7: 85538225
A8: 1.2. | B8: Önkormányzatok egyes köznevelési feladatainak támogatása | C8: ='[1]6.1. sz. mell'!C11 -> 34369920 | D8: ='[1]6.1. sz. mell'!D11 -> 33885500 | E8: 39328810 | F8: 1.2. | G8: Önkormányzatok egyes köznevelési feladatainak támogatása | H8: 35339200 | I8: 36137200 | J8: 44125876
A9: 1.3. | B9: Önkormányzatok szociális és gyermekjóléti feladatainak támogatása | C9: ='[1]6.1. sz. mell'!C12 -> 29338752 | D9: ='[1]6.1. sz. mell'!D12 -> 32635418 | E9: 45388664 | F9: 1.3. | G9: Önkormányzatok szociális és gyermekjóléti feladatainak támogatása | H9: 40699000 | I9: 40855200 | J9: 38929160
A10: 1.3.2 | B10: Önkormányzatok gyermekétkeztetési feladatainak támogatása | C10: ='[1]6.1. sz. mell'!C13 -> 18671203 | D10: ='[1]6.1. sz. mell'!D13 -> 19945586 | E10: 24184183 | F10: 1.3.2 | G10: Önkormányzatok gyermekétkeztetési feladatainak támogatása | H10: 24286601 | I10: 24518801 | J10: 32652484
A11: 1.4. | B11: Önkormányzatok kulturális feladatainak támogatása | C11: ='[1]6.1. sz. mell'!C14 -> 1800000 | D11: ='[1]6.1. sz. mell'!D14 -> 2624850 | E11: 2673304 | F11: 1.4. | G11: Önkormányzatok kulturális feladatainak támogatása | H11: 2610510 | I11: 2653818 | J11: 3809169
A12: 1.5. | B12: Helyi önkormányzatok kiegészítő támogatásai | C12: ='[1]6.1. sz. mell'!C15 -> 0 | D12: ='[1]6.1. sz. mell'!D15 -> 6908800 | E12: 12164332 | F12: 1.5. | G12: Helyi önkormányzatok kiegészítő támogatásai | H12: ='[2]6.1. sz. mell'!H15 -> 0 | I12: 6949440 | J12: 13657424
A13: 1.6. | B13: Elszámolásból származó bevételek | F13: 1.6. | G13: Elszámolásból származó bevételek | J13: 507612
A14: 2. | B14: Működési célú támogatások államháztartáson belülről (2.1.+…+.2.5.) | C14: =SUM(C15:C19) -> 0 | D14: =SUM(D15:D19) -> 96546005 | E14: =SUM(E15:E19) -> 123787564 | F14: 2. | G14: Működési célú támogatások államháztartáson belülről (2.1.+…+.2.5.) | H14: =SUM(H15:H19) -> 0 | I14: =SUM(I15:I19) -> 81987492 | J14: =SUM(J15:J19) -> 106156932
A15: 2.1. | B15: Elvonások és befizetések bevételei | F15: 2.1. | G15: Elvonások és befizetések bevételei
A16: 2.2. | B16: Működési célú garancia- és kezességvállalásból megtérülések | F16: 2.2. | G16: Működési célú garancia- és kezességvállalásból megtérülések
A17: 2.3. | B17: Működési célú visszatérítendő támogatások, kölcsönök visszatérülése | F17: 2.3. | G17: Működési célú visszatérítendő támogatások, kölcsönök visszatérülése
A18: 2.4. | B18: Működési célú visszatérítendő támogatások, kölcsönök igénybevétele | F18: 2.4. | G18: Működési célú visszatérítendő támogatások, kölcsönök igénybevétele
A19: 2.5. | B19: Egyéb működési célú támogatások bevételei | D19: ='[1]6.1. sz. mell'!D22 -> 96546005 | E19: 123787564 | F19: 2.5. | G19: Egyéb működési célú támogatások bevételei | I19: 81987492 | J19: 106156932
A20: 2.6. | B20: 2.5.-ből EU-s támogatás | F20: 2.6. | G20: 2.5.-ből EU-s támogatás
A21: 3. | B21: Felhalmozási célú támogatások államháztartáson belülről (3.1.+…+3.5.) | C21: =SUM(C22:C26) -> 0 | D21: =SUM(D22:D26) -> 23434039 | E21: =SUM(E22:E26) -> 47534884 | F21: 3. | G21: Felhalmozási célú támogatások államháztartáson belülről (3.1.+…+3.5.) | H21: =SUM(H22:H26) -> 0 | I21: =SUM(I22:I26) -> 41634255 | J21: =SUM(J22:J26) -> 29337145
A22: 3.1. | B22: Felhalmozási célú önkormányzati támogatások | F22: 3.1. | G22: Felhalmozási célú önkormányzati támogatások | I22: 37000000
A23: 3.2. | B23: Felhalmozási célú garancia- és kezességvállalásból megtérülések | F23: 3.2. | G23: Felhalmozási célú garancia- és kezességvállalásból megtérülések
A24: 3.3. | B24: Felhalmozási célú visszatérítendő támogatások, kölcsönök visszatérülése | F24: 3.3. | G24: Felhalmozási célú visszatérítendő támogatások, kölcsönök visszatérülése
A25: 3.4. | B25: Felhalmozási célú visszatérítendő támogatások, kölcsönök igénybevétele | F25: 3.4. | G25: Felhalmozási célú visszatérítendő támogatások, kölcsönök igénybevétele
A26: 3.5. | B26: Egyéb felhalmozási célú támogatások bevételei | D26: ='[1]6.1. sz. mell'!D29 -> 23434039 | E26: 47534884 | F26: 3.5. | G26: Egyéb felhalmozási célú támogatások bevételei | I26: 4634255 | J26: 29337145
A27: 3.6. | B27: 3.5.-ből EU-s támogatás | F27: 3.6. | G27: 3.5.-ből EU-s támogatás
A28: 4. | B28: Közhatalmi bevételek (4.1.+4.2.+4.3.+4.4.) | C28: =SUM(C29+C33) -> 14425452 | D28: =SUM(D29+D33+D34) -> 11513021 | E28: =SUM(E29+E33+E34) -> 19085380 | F28: 4. | G28: Közhatalmi bevételek (4.1.+4.2.+4.3.+4.4.) | H28: =SUM(H29+H33) -> 10414500 | I28: =SUM(I29+I33+I34) -> 37614500 | J28: =SUM(J29+J33+J34) -> 20759468
A29: 4.1. | B29: Helyi adók (4.1.1.+4.1.2.) | C29: =+C30+C31+C32 -> 11427496 | D29: =+D30+D31+D32 -> 11427396 | E29: 18957994 | F29: 4.1. | G29: Helyi adók (4.1.1.+4.1.2.) | H29: 10414500 | J29: 20632733
A30: 4.1.1. | B30: - Vagyoni típusú adók - kommunális adó | F30: 4.1.1. | G30: - Vagyoni típusú adók - kommunális adó
A31: 4.1.2. | B31: - Termékek és szolgáltatások adói - iparűzési adó | C31: ='[1]6.1. sz. mell'!C34 -> 11427496 | D31: ='[1]6.1. sz. mell'!D34 -> 11427396 | E31: 18957994 | F31: 4.1.2. | G31: - Termékek és szolgáltatások adói - iparűzési adó | J31: 20632733
A32: 4.2. | B32: Gépjárműadó | F32: 4.2. | G32: Gépjárműadó
A33: 4.3. | B33: Egyéb áruhasználati és szolgáltatási adók | C33: ='[1]6.1. sz. mell'!C36 -> 2997956 | D33: ='[1]6.1. sz. mell'!D36 -> 0 | F33: 4.3. | G33: Egyéb áruhasználati és szolgáltatási adók | I33: 37614500
A34: 4.4. | B34: Egyéb közhatalmi bevételek | D34: ='[1]6.1. sz. mell'!D37 -> 85625 | E34: 127386 | F34: 4.4. | G34: Egyéb közhatalmi bevételek | J34: 126735
A35: 5. | B35: Működési bevételek (5.1.+…+ 5.10.) | C35: =SUM(C36:C45) -> 18622744 | D35: =SUM(D36:D45) -> 22955636 | E35: =SUM(E36:E45) -> 22047590 | F35: 5. | G35: Működési bevételek (5.1.+…+ 5.10.) | H35: =SUM(H36:H45) -> 24639817 | I35: =SUM(I36:I45) -> 24639817 | J35: =SUM(J36:J45) -> 17009579
A36: 5.1. | B36: Készletértékesítés ellenértéke | D36: ='[1]6.1. sz. mell'!D39+'[1]8.1. sz. mell.'!D9 -> 353220 | E36: 344198 | F36: 5.1. | G36: Készletértékesítés ellenértéke | J36: 453848
A37: 5.2. | B37: Szolgáltatások ellenértéke | C37: ='[1]6.1. sz. mell'!C40+'[1]8.1. sz. mell.'!C10 -> 3000000 | D37: ='[1]6.1. sz. mell'!D40+'[1]8.1. sz. mell.'!D10 -> 5554040 | E37: 18197832 | F37: 5.2. | G37: Szolgáltatások ellenértéke | H37: 7980000 | I37: 7980000 | J37: 11475537
A38: 5.3. | B38: Közvetített szolgáltatások értéke | E38: 44268 | F38: 5.3. | G38: Közvetített szolgáltatások értéke
A39: 5.4. | B39: Tulajdonosi bevételek | C39: ='[1]6.1. sz. mell'!C42 -> 2432756 | D39: ='[1]6.1. sz. mell'!D42 -> 4824 | F39: 5.4. | G39: Tulajdonosi bevételek | H39: 1753990 | I39: 1753990 | J39: 626
A40: 5.5. | B40: Ellátási díjak | C40: ='[1]8.1. sz. mell.'!C13 -> 12459387 | D40: ='[1]8.1. sz. mell.'!D13+'[1]6.1. sz. mell'!D43 -> 15847345 | F40: 5.5. | G40: Ellátási díjak | H40: 14428250 | I40: 14428250 | J40: 2598213
A41: 5.6. | B41: Kiszámlázott általános forgalmi adó | C41: ='[1]6.1. sz. mell'!C44+'[1]8.1. sz. mell.'!C14 -> 726601 | D41: ='[1]6.1. sz. mell'!D44+'[1]8.1. sz. mell.'!D14 -> 1021258 | E41: 871602 | F41: 5.6. | G41: Kiszámlázott általános forgalmi adó | H41: 473577 | I41: 473577
A42: 5.7. | B42: Általános forgalmi adó visszatérítése | F42: 5.7. | G42: Általános forgalmi adó visszatérítése
A43: 5.8. | B43: Kamatbevételek | C43: ='[1]6.1. sz. mell'!C46+'[1]8.1. sz. mell.'!C16 -> 4000 | D43: ='[1]6.1. sz. mell'!D46+'[1]8.1. sz. mell.'!D16 -> 22 | F43: 5.8. | G43: Kamatbevételek | H43: 2000 | I43: 2000
A44: 5.9. | B44: Egyéb pénzügyi műveletek bevételei | E44: 79 | F44: 5.9. | G44: Egyéb pénzügyi műveletek bevételei | H44: 2000 | I44: 2000 | J44: 19
A45: 5.10. | B45: Egyéb működési bevételek | D45: ='[1]6.1. sz. mell'!D48+'[1]7.1.sz.mell.'!D18+'[1]8.1. sz. mell.'!D18 -> 174927 | E45: 2589611 | F45: 5.10. | G45: Egyéb működési bevételek | J45: 2481336
A46: 6. | B46: Felhalmozási bevételek (6.1.+…+6.5.) | C46: =SUM(C47:C51) -> 0 | D46: =SUM(D47:D51) -> 300000 | E46: =SUM(E47:E51) -> 1140000 | F46: 6. | G46: Felhalmozási bevételek (6.1.+…+6.5.) | H46: =SUM(H47:H51) -> 0 | I46: =SUM(I47:I51) -> 0 | J46: =SUM(J47:J51) -> 330000
A47: 6.1. | B47: Immateriális javak értékesítése | F47: 6.1. | G47: Immateriális javak értékesítése
A48: 6.2. | B48: Ingatlanok értékesítése | D48: ='[1]6.1. sz. mell'!D51+'[1]8.1. sz. mell.'!D21 -> 300000 | E48: 140000 | F48: 6.2. | G48: Ingatlanok értékesítése | J48: 330000
A49: 6.3. | B49: Egyéb tárgyi eszközök értékesítése | E49: 1000000 | F49: 6.3. | G49: Egyéb tárgyi eszközök értékesítése
A50: 6.4. | B50: Részesedések értékesítése | F50: 6.4. | G50: Részesedések értékesítése
A51: 6.5. | B51: Részesedések megszűnéséhez kapcsolódó bevételek | F51: 6.5. | G51: Részesedések megszűnéséhez kapcsolódó bevételek
A52: 7. | B52: Működési célú átvett pénzeszközök (7.1. + … + 7.3.) | C52: =SUM(C53:C55) -> 103652566 | D52: =SUM(D53:D55) -> 4535325 | E52: =SUM(E53:E55) -> 0 | F52: 7. | G52: Működési célú átvett pénzeszközök (7.1. + … + 7.3.) | H52: =SUM(H53:H55) -> 92245156 | I52: =SUM(I53:I55) -> 27486314 | J52: =SUM(J53:J55) -> 0
A53: 7.1. | B53: Működési célú garancia- és kezességvállalásból megtérülések ÁH-n kívülről | F53: 7.1. | G53: Működési célú garancia- és kezességvállalásból megtérülések ÁH-n kívülről
A54: 7.2. | B54: Működési célú visszatérítendő támogatások, kölcsönök visszatér. ÁH-n kívülről | F54: 7.2. | G54: Működési célú visszatérítendő támogatások, kölcsönök visszatér. ÁH-n kívülről
A55: 7.3. | B55: Egyéb működési célú átvett pénzeszköz | C55: ='[1]6.1. sz. mell'!C58+'[1]7.1.sz.mell.'!C33+'[1]8.1. sz. mell.'!C22 -> 103652566 | D55: ='[1]6.1. sz. mell'!D58+'[1]7.1.sz.mell.'!D33+'[1]8.1. sz. mell.'!D22 -> 4535325 | F55: 7.3. | G55: Egyéb működési célú átvett pénzeszköz | H55: 92245156 | I55: 27486314
A56: 7.4. | B56: 7.3.-ból EU-s támogatás (közvetlen) | F56: 7.4. | G56: 7.3.-ból EU-s támogatás (közvetlen)
A57: 8. | B57: Felhalmozási célú átvett pénzeszközök (8.1.+8.2.+8.3.) | C57: =SUM(C58:C60) -> 2447097 | D57: =SUM(D58:D60) -> 288000 | E57: =SUM(E58:E60) -> 0 | F57: 8. | G57: Felhalmozási célú átvett pénzeszközök (8.1.+8.2.+8.3.) | H57: =SUM(H58:H60) -> 0 | I57: =SUM(I58:I60) -> 0 | J57: =SUM(J58:J60) -> 0
A58: 8.1. | B58: Felhalm. célú garancia- és kezességvállalásból megtérülések ÁH-n kívülről | F58: 8.1. | G58: Felhalm. célú garancia- és kezességvállalásból megtérülések ÁH-n kívülről
A59: 8.2. | B59: Felhalm. célú visszatérítendő támogatások, kölcsönök visszatér. ÁH-n kívülről | F59: 8.2. | G59: Felhalm. célú visszatérítendő támogatások, kölcsönök visszatér. ÁH-n kívülről
A60: 8.3. | B60: Egyéb felhalmozási célú átvett pénzeszköz | C60: ='[1]6.1. sz. mell'!C63 -> 2447097 | D60: ='[1]6.1. sz. mell'!D63 -> 288000 | F60: 8.3. | G60: Egyéb felhalmozási célú átvett pénzeszköz
A61: 8.4. | B61: 8.3.-ból EU-s támogatás (közvetlen) | F61: 8.4. | G61: 8.3.-ból EU-s támogatás (közvetlen)
A62: 9. | B62: KÖLTSÉGVETÉSI BEVÉTELEK ÖSSZESEN: (1+…+8) | C62: =C6+C14+C21+C28+C35+C46+C52+C57 -> 303543959 | D62: =D6+D14+D21+D28+D35+D46+D52+D57 -> 336039547 | E62: =E6+E14+E21+E28+E35+E46+E52+E57 -> 410882778 | F62: 9. | G62: KÖLTSÉGVETÉSI BEVÉTELEK ÖSSZESEN: (1+…+8) | H62: =H6+H14+H21+H28+H35+H46+H52+H57 -> 301340058 | I62: =I6+I14+I21+I28+I35+I46+I52+I57 -> 395854411 | J62: =J6+J14+J21+J28+J35+J46+J52+J57 -> 392813074
A63: 10. | B63: Hitel-, kölcsönfelvétel államháztartáson kívülről (10.1.+10.3.) | C63: =+C64+C65+C66 -> 0 | D63: =+D64+D65+D66 -> 0 | E63: =+E64+E65+E66 -> 0 | F63: 10. | G63: Hitel-, kölcsönfelvétel államháztartáson kívülről (10.1.+10.3.) | H63: =+H64+H65+H66 -> 0 | I63: =+I64+I65+I66 -> 0 | J63: =+J64+J65+J66 -> 0
A64: 10.1. | B64: Hosszú lejáratú hitelek, kölcsönök felvétele | F64: 10.1. | G64: Hosszú lejáratú hitelek, kölcsönök felvétele
A65: 10.2. | B65: Likviditási célú hitelek, kölcsönök felvétele pénzügyi vállalkozástól | F65: 10.2. | G65: Likviditási célú hitelek, kölcsönök felvétele pénzügyi vállalkozástól
A66: 10.3. | B66: Rövid lejáratú hitelek, kölcsönök felvétele | F66: 10.3. | G66: Rövid lejáratú hitelek, kölcsönök felvétele
A67: 11. | B67: Belföldi értékpapírok bevételei (11.1. +…+ 11.4.) | C67: =+C68+C69+C70+C71 -> 0 | D67: =+D68+D69+D70+D71 -> 0 | E67: =+E68+E69+E70+E71 -> 0 | F67: 11. | G67: Belföldi értékpapírok bevételei (11.1. +…+ 11.4.) | H67: =+H68+H69+H70+H71 -> 0 | I67: =+I68+I69+I70+I71 -> 0 | J67: =+J68+J69+J70+J71 -> 0
A68: 11.1. | B68: Forgatási célú belföldi értékpapírok beváltása, értékesítése | F68: 11.1. | G68: Forgatási célú belföldi értékpapírok beváltása, értékesítése
A69: 11.2. | B69: Forgatási célú belföldi értékpapírok kibocsátása | F69: 11.2. | G69: Forgatási célú belföldi értékpapírok kibocsátása
A70: 11.3. | B70: Befektetési célú belföldi értékpapírok beváltása, értékesítése | F70: 11.3. | G70: Befektetési célú belföldi értékpapírok beváltása, értékesítése
A71: 11.4. | B71: Befektetési célú belföldi értékpapírok kibocsátása | F71: 11.4. | G71: Befektetési célú belföldi értékpapírok kibocsátása
A72: 12. | B72: Maradvány igénybevétele (12.1. + 12.2.) | C72: =+C73+C74 -> 21154658 | D72: =+D73+D74 -> 41260233 | E72: =+E73+E74 -> 63756108 | F72: 12. | G72: Maradvány igénybevétele (12.1. + 12.2.) | H72: =+H73+H74 -> 32496710 | I72: =+I73+I74 -> 32496710 | J72: =+J73+J74 -> 29625681
A73: 12.1. | B73: Előző év költségvetési maradványának igénybevétele | C73: ='[1]6.1. sz. mell'!C76+'[1]7.1.sz.mell.'!C37+'[1]8.1. sz. mell.'!C37 -> 21154658 | D73: ='[1]6.1. sz. mell'!D76+'[1]7.1.sz.mell.'!D37+'[1]8.1. sz. mell.'!D37 -> 41260233 | E73: 63756108 | F73: 12.1. | G73: Előző év költségvetési maradványának igénybevétele | H73: 32496710 | I73: 32496710 | J73: 29625681
A74: 12.2. | B74: Előző év vállalkozási maradványának igénybevétele | F74: 12.2. | G74: Előző év vállalkozási maradványának igénybevétele
A75: 13. | B75: Belföldi finanszírozás bevételei (13.1. + … + 13.3.) | C75: =+C76+C77+C79 -> 0 | D75: =+D76+D77+D79 -> 8180320 | E75: =+E76+E77+E79+E78 -> 139928420 | F75: 13. | G75: Belföldi finanszírozás bevételei (13.1. + … + 13.3.) | H75: =+H76+H77+H79 -> 0 | I75: =+I76+I77+I79 -> 0 | J75: =+J76+J77+J79+J78 -> 121065366
A76: 13.1. | B76: Államháztartáson belüli megelőlegezések | D76: ='[1]6.1. sz. mell'!D79 -> 8180320 | E76: 7433085 | F76: 13.1. | G76: Államháztartáson belüli megelőlegezések | J76: 7952422
A77: 13.2. | B77: Államháztartáson belüli megelőlegezések törlesztése | F77: 13.2. | G77: Államháztartáson belüli megelőlegezések törlesztése
A78: 13.3 | B78: Központi irányító szervi támogatás | E78: 132495335 | F78: 13.3. | G78: Központi irányító szervi támogatás | J78: 113112944
A79: 13.4. | B79: Betétek megszüntetése | F79: 13.4. | G79: Betétek megszüntetése
A80: 14. | B80: Külföldi finanszírozás bevételei (14.1.+…14.4.) | C80: =+C81+C82+C83+C84 -> 0 | D80: =+D81+D82+D83+D84 -> 0 | E80: =+E81+E82+E83+E84 -> 0 | F80: 14. | G80: Külföldi finanszírozás bevételei (14.1.+…14.4.) | H80: =+H81+H82+H83+H84 -> 0 | I80: =+I81+I82+I83+I84 -> 0 | J80: =+J81+J82+J83+J84 -> 0
A81: 14.1. | B81: Forgatási célú külföldi értékpapírok beváltása, értékesítése | F81: 14.1. | G81: Forgatási célú külföldi értékpapírok beváltása, értékesítése
A82: 14.2. | B82: Befektetési célú külföldi értékpapírok beváltása, értékesítése | F82: 14.2. | G82: Befektetési célú külföldi értékpapírok beváltása, értékesítése
A83: 14.3. | B83: Külföldi értékpapírok kibocsátása | F83: 14.3. | G83: Külföldi értékpapírok kibocsátása
A84: 14.4. | B84: Külföldi hitelek, kölcsönök felvétele | F84: 14.4. | G84: Külföldi hitelek, kölcsönök felvétele
A85: 15. | B85: Adóssághoz nem kapcsolódó származékos ügyletek bevételei | F85: 15. | G85: Adóssághoz nem kapcsolódó származékos ügyletek bevételei
A86: 16. | B86: FINANSZÍROZÁSI BEVÉTELEK ÖSSZESEN: (10. + … +15.) | C86: =+C63+C67+C72+C75+C80+C85 -> 21154658 | D86: =+D63+D67+D72+D75+D80+D85 -> 49440553 | E86: =+E63+E67+E72+E75+E80+E85 -> 203684528 | F86: 16. | G86: FINANSZÍROZÁSI BEVÉTELEK ÖSSZESEN: (10. + … +15.) | H86: =+H63+H67+H72+H75+H80+H85 -> 32496710 | I86: =+I63+I67+I72+I75+I80+I85 -> 32496710 | J86: =+J63+J67+J72+J75+J80+J85 -> 150691047
A87: 17. | B87: KÖLTSÉGVETÉSI ÉS FINANSZÍROZÁSI BEVÉTELEK ÖSSZESEN: (9+16) | C87: =+C62+C86 -> 324698617 | D87: =+D62+D86 -> 385480100 | E87: =+E62+E86 -> 614567306 | F87: 17. | G87: KÖLTSÉGVETÉSI ÉS FINANSZÍROZÁSI BEVÉTELEK ÖSSZESEN: (9+16) | H87: =+H62+H86 -> 333836768 | I87: =+I62+I86 -> 428351121 | J87: =+J62+J86 -> 543504121
A89: K I A D Á S O K | F89: K I A D Á S O K
A90: 2. sz. táblázat | E90: Forintban | F90: 2. sz. táblázat | J90: Forintban
A91: Sor- szám | B91: Kiadási jogcím | C91: =+C3 -> 2022. évi | F91: Sor- szám | G91: Kiadási jogcím | H91: =+H3 -> 2023. évi
C92: Eredeti előirányzat | D92: Módosított előirányzat | E92: Teljesítés | H92: Eredeti előirányzat | I92: Módosított előirányzat | J92: Teljesítés
A93: A | B93: B | C93: C | D93: D | E93: E | F93: A | G93: B | H93: C | I93: D | J93: E
A94: 1. | B94: Működési költségvetés kiadásai (1.1+…+1.5.) | C94: =C95+C96+C97+C98+C99 -> 314065138 | D94: =D95+D96+D97+D98+D99 -> 342838043 | E94: =SUM(E95:E99) -> 353550932 | F94: 1. | G94: Működési költségvetés kiadásai (1.1+…+1.5.) | H94: =H95+H96+H97+H98+H99 -> 325147433 | I94: =I95+I96+I97+I98+I99 -> 370157452 | J94: =SUM(J95:J99) -> 368760993
A95: 1.1. | B95: Személyi juttatások | C95: ='[1]6.1. sz. mell'!C97+'[1]7.1.sz.mell.'!C44+'[1]8.1. sz. mell.'!C44 -> 178972215 | D95: ='[1]6.1. sz. mell'!D97+'[1]7.1.sz.mell.'!D44+'[1]8.1. sz. mell.'!D44 -> 185205465 | E95: 210943209 | F95: 1.1. | G95: Személyi juttatások | H95: 160619351 | I95: 191461001 | J95: 208168369
A96: 1.2. | B96: Munkaadókat terhelő járulékok és szociális hozzájárulási adó | C96: ='[1]6.1. sz. mell'!C98+'[1]7.1.sz.mell.'!C45+'[1]8.1. sz. mell.'!C45 -> 24682183 | D96: ='[1]6.1. sz. mell'!D98+'[1]7.1.sz.mell.'!D45+'[1]8.1. sz. mell.'!D45 -> 25620591 | E96: 24125999 | F96: 1.2. | G96: Munkaadókat terhelő járulékok és szociális hozzájárulási adó | H96: 21422158 | I96: 23252158 | J96: 23134879
A97: 1.3. | B97: Dologi kiadások | C97: ='[1]6.1. sz. mell'!C99+'[1]7.1.sz.mell.'!C46+'[1]8.1. sz. mell.'!C46 -> 55050388 | D97: ='[1]6.1. sz. mell'!D99+'[1]7.1.sz.mell.'!D46+'[1]8.1. sz. mell.'!D46 -> 98834052 | E97: 86877087 | F97: 1.3. | G97: Dologi kiadások | H97: 96209560 | I97: 111107700 | J97: 112717601
A98: 1.4. | B98: Ellátottak pénzbeli juttatásai | C98: ='[1]6.1. sz. mell'!C100+'[1]7.1.sz.mell.'!C47+'[1]8.1. sz. mell.'!C47 -> 22588631 | D98: ='[1]6.1. sz. mell'!D100+'[1]7.1.sz.mell.'!D47+'[1]8.1. sz. mell.'!D47 -> 16810534 | E98: 25115087 | F98: 1.4. | G98: Ellátottak pénzbeli juttatásai | H98: 36599000 | I98: 34773215 | J98: 19289880
A99: 1.5 | B99: Egyéb működési célú kiadások | C99: ='[1]6.1. sz. mell'!C101+'[1]7.1.sz.mell.'!C48+'[1]8.1. sz. mell.'!C48 -> 32771721 | D99: ='[1]6.1. sz. mell'!D101+'[1]7.1.sz.mell.'!D48+'[1]8.1. sz. mell.'!D48 -> 16367401 | E99: 6489550 | F99: 1.5 | G99: Egyéb működési célú kiadások | H99: 10297364 | I99: 9563378 | J99: 5450264
A100: 1.6. | B100: - az 1.5-ből: - Elvonások és befizetések | C100: ='[1]6.1. sz. mell'!C102+'[1]7.1.sz.mell.'!C49+'[1]8.1. sz. mell.'!C49 -> 0 | F100: 1.6. | G100: - az 1.5-ből: - Elvonások és befizetések
A101: 1.7. | B101: - Garancia- és kezességvállalásból kifizetés ÁH-n belülre | C101: ='[1]6.1. sz. mell'!C103+'[1]7.1.sz.mell.'!C50+'[1]8.1. sz. mell.'!C50 -> 0 | F101: 1.7. | G101: - Garancia- és kezességvállalásból kifizetés ÁH-n belülre
...

Sheet 7. sz tájékoztató t.
A3: B E V É T E L E K
A4: 1. sz. táblázat | E4: Forintban
A5: Sor- szám | B5: Bevételi jogcím | C5: =+CONCATENATE(LEFT(ÖSSZEFÜGGÉSEK!A5,4)+1,". évi") -> 2025. évi | D5: =+CONCATENATE(LEFT(ÖSSZEFÜGGÉSEK!A5,4)+2,". évi") -> 2026. évi | E5: =+CONCATENATE(LEFT(ÖSSZEFÜGGÉSEK!A5,4)+3,". évi") -> 2027. évi
A6: A | B6: B | C6: C | D6: D | E6: E
A7: 1. | B7: Önkormányzat működési támogatásai | C7: ='1. melléklet'!C5 -> 227984154 | D7: =C7*1.02 -> 2.3254384e+08 | E7: =D7*1.02 -> 2.3719471e+08
A8: 2. | B8: Működési célú támogatások államháztartáson belülről | C8: ='1. melléklet'!C13*1.05 -> 0 | D8: =C8*1.05 -> 0 | E8: =D8*1.05 -> 0
A9: 3. | B9: Felhalmozási célú támogatások államháztartáson belülről | D9: =C9*1.05 -> 0 | E9: =D9*1.05 -> 0
A10: 4. | B10: Közhatalmi bevételek (4.1.+4.2.+4.3.+4.4.) | C10: ='1. sz tájékoztató t.'!C26 -> 0 | D10: =C10 -> 0 | E10: =D10 -> 0
A11: 4.1. | B11: Helyi adók (4.1.1.+...+4.1.3.) | C11: ='1. sz tájékoztató t.'!C27 -> 0 | D11: =C11 -> 0 | E11: =D11 -> 0
A12: 4.1.1. | B12: - Vagyoni típusú adók | C12: ='1. sz tájékoztató t.'!C28 -> 0 | E12: =C12 -> 0
A13: 4.1.2. | B13: - Termékek és szolgáltatások adói | C13: ='1. sz tájékoztató t.'!C29 -> 0 | D13: ='1. sz tájékoztató t.'!D29 -> 0
A14: 4.1.3. | B14: - Értékesítési és forgalmi adók (iparűzési adó) | C14: ='1. sz tájékoztató t.'!C30 -> 0 | D14: =C14 -> 0 | E14: =D14 -> 0
A15: 4.2. | B15: Gépjárműadó | C15: ='1. sz tájékoztató t.'!C31 -> 0 | D15: =C15 -> 0 | E15: =D15 -> 0
A16: 4.3. | B16: Egyéb áruhasználati és szolgáltatási adók | C16: ='1. sz tájékoztató t.'!C32 -> 0
A17: 4.4. | B17: Egyéb közhatalmi bevételek
A18: 5. | B18: Működési bevételek | C18: =('1. sz tájékoztató t.'!C34)*1.05 -> 4200000 | D18: =C18*1.05 -> 4410000 | E18: =D18*1.05 -> 4630500
A19: 6. | B19: Felhalmozási bevételek
A20: 7. | B20: Működési célú átvett pénzeszközök | C20: ='1. sz tájékoztató t.'!C52 -> 0 | D20: =C20*1.02 -> 0 | E20: =D20*1.02 -> 0
A21: 8. | B21: Felhalmozási célú átvett pénzeszközök
A22: 9. | B22: KÖLTSÉGVETÉSI BEVÉTELEK ÖSSZESEN: (1+…+8) | C22: =+C7+C8+C9+C10+C18+C19+C20+C21 -> 232184154 | D22: =+D7+D8+D9+D10+D18+D19+D20+D21 -> 2.3695384e+08 | E22: =+E7+E8+E9+E10+E18+E19+E20+E21 -> 2.4182521e+08
A23: 10. | B23: FINANSZÍROZÁSI BEVÉTELEK ÖSSZESEN: | C23: ='1. melléklet'!C88 -> 29661694 | D23: =C23*1.05 -> 31144779 | E23: =D23*1.05 -> 32702018
A24: 11. | B24: KÖLTSÉGVETÉSI ÉS FINANSZÍROZÁSI BEVÉTELEK ÖSSZESEN: (9+10) | C24: =+C22+C23 -> 261845848 | D24: =+D22+D23 -> 2.6809862e+08 | E24: =+E22+E23 -> 2.7452723e+08
A26: K I A D Á S O K
A27: 2. sz. táblázat | E27: Forintban
A28: Sor-szám | B28: Kiadási jogcímek | C28: =+C5 -> 2025. évi | D28: =+D5 -> 2026. évi | E28: =+E5 -> 2027. évi
A29: A | B29: B | C29: C | D29: D | E29: E
A30: 1. | B30: Működési költségvetés kiadásai | C30: =C24 -> 261845848 | D30: =D24 -> 2.6809862e+08 | E30: =E24 -> 2.7452723e+08
A31: 2. | B31: Felhalmozási költségvetés kiadásai (2.1.+2.2.+2.3.) | D31: =+D32+D33+D34 -> 0 | E31: =+E32+E33+E34 -> 0
A32: 2.1. | B32: Beruházások | D32: =C32*1.05 -> 0 | E32: =D32*1.05 -> 0
A33: 2.2. | B33: Felújítások | D33: =C33*1.05 -> 0 | E33: =D33*1.05 -> 0
A34: 2.3. | B34: Egyéb felhalmozási kiadások
A35: 3. | B35: KÖLTSÉGVETÉSI KIADÁSOK ÖSSZESEN (1+2) | C35: =+C30+C31 -> 261845848 | D35: =+D30+D31 -> 2.6809862e+08 | E35: =+E30+E31 -> 2.7452723e+08
A36: 4. | B36: FINANSZÍROZÁSI KIADÁSOK ÖSSZESEN:
A37: 5. | B37: KIADÁSOK ÖSSZESEN: (3.+4.) | C37: =+C35+C36 -> 261845848 | D37: =+D35+D36 -> 2.6809862e+08 | E37: =+E35+E36 -> 2.7452723e+08

Sheet 5.sz tájékoztató t.
A1: Hencida Község Önkormányzata 2021. évi Állami támogatása jogcímenként
A3: Működési költségvetési támogatás összesen: | B3: =B4+B23+B40+B48 -> 180399031
A4: I. A HELYI ÖNKORMÁNYZATOK MŰKÖDÉSÉNEK ÁLTALÁNOS TÁMOGATÁSA | B4: 77463720
A5: I.1. A települési önkormányzatok működésének támogatása | B5: 77463720
A6: I.1.a) Önkormányzati hivatal működésének támogatása | B6: =B7 -> 49869115
A7: I.1.a)-V Önkormányzati hivatal működésének támogatása | B7: 49869115
A8: I.1.b) Település-üzemeltetéshez kapcsolódó feladatellátás támogatása összesen | B8: =B9 -> 13231059
A9: I.1.b) - V. Támogatás összesen - beszámítás után | B9: =B10+B12+B14+B16 -> 13231059
A10: I.1.ba) A zöldterület-gazdálkodással kapcsolatos feladatok ellátásának támogatása | B10: =B11 -> 3366720
A11: I.1.ba) - V. A zöldterület-gazdálkodással kapcsolatos feladatok ellátásának támogatása - beszámítás után | B11: 3366720
A12: I.1.bb) Közvilágítás fenntartásának támogatása | B12: =B13 -> 4032000
A13: I.1.bb) - V. Közvilágítás fenntartásának támogatása - beszámítás után | B13: 4032000
A14: I.1.bc) Köztemető fenntartással kapcsolatos feladatok támogatása | B14: =B15 -> 2499525
A15: I.1.bc) - V. Köztemető fenntartással kapcsolatos feladatok támogatása - beszámítás után | B15: 2499525
A16: I.1.bd) Közutak fenntartásának támogatása | B16: =B17 -> 3332814
A17: I.1.bd) - V. Közutak fenntartásának támogatása - beszámítás után | B17: 3332814
A18: I.1.c) Egyéb önkormányzati feladatok támogatása | B18: =B19 -> 8000000
A19: I.1.c) - V. Egyéb önkormányzati feladatok támogatása - beszámítás után | B19: 8000000
A20: I.1.d) Lakott külterülettel kapcsolatos feladatok támogatása | B20: 5100
A21: V. I.1. kiegészítés I.1. jogcímekhez kapcsolódó kiegészítés
A22: I A helyi önkormányzatok kműködésének általános támogatása összesen
A23: II. A TELEPÜLÉSI ÖNKORMÁNYZATOK EGYES KÖZNEVELÉSI FELADATAINAK TÁMOGATÁSA | B23: =B25+B28+B32+B37+B24 -> 35339200
A24: II.1. Óvodapedagógusok, és az óvodapedagógusok nevelő munkáját közvetlenül segítők bértámogatása
A25: 2020. évben 8 hónapra | B25: =B26+B27 -> 4870000
A26: II.1. (1) 1 óvodapedagógusok elismert létszáma | B26: 4870000
A27: II.1. (2) 1 óvodapedagógusok nevelő munkáját közvetlenül segítők száma a Köznev. tv. 2. melléklete szerint
A28: 2020. évben 4 hónapra | B28: =B29+B30+B31 -> 24631200
A29: II.1. (1) 2 óvodapedagógusok elismert létszáma | B29: 23335200
A30: II.1. (2) 2 óvodapedagógusok nevelő munkáját közvetlenül segítők száma a Köznev. tv. 2. melléklete szerint | B30: 1296000
A31: II.1. (12) 2 óvodapedagógusok nevelő munkáját közvetlenül segítők száma a Köznev. tv. 2.melléklet szerint
A32: II.2. Óvodaműködtetési támogatás | B32: =B34+B36 -> 5838000
A33: 2020. évben 8 hónapra
A34: II.2. (1) 1 gyermekek nevelése a napi 8 órát eléri vagy meghaladja | B34: 5838000
A35: 2020. évben 4 hónapra
A36: II.2. (1) 2 gyermekek nevelése a napi 8 órát eléri vagy meghaladja
A37: II.4. Kiegészítő támogatás az óvodapedagógusok minősítéséből adódó többletkiadásokhoz | B37: =B38+B39 -> 0
A38: II.4.a (1) Pedagógus II. kategóriába sorolt óvodapedagógusok kiegészítő támogatása
A39: II.4.a (1) Pedagógus II. kategóriába sorolt óvodapedagógusok kiegészítő támogatásab
A40: III. A TELEPÜLÉSI ÖNKORMÁNYZATOK SZOCIÁLIS, GYERMEKJÓLÉTI ÉS GYERMEKÉTKEZTETÉSI FELADATAINAK TÁMOGATÁSA | B40: =B41+B42+B43 -> 64985601
A41: III.2. A települési önkormányzatok szociális feladatainak egyéb támogatása | B41: 36599000
A42: III.3.a Család- és gyermekjóléti szólgélat | B42: 4100000
A43: III.5. Gyermekétkeztetés támogatása | B43: =B44+B45+B46+B47 -> 24286601
A44: III.5.a) A finanszírozás szempontjából elismert dolgozók bértámogatása | B44: 10216800
A45: III.5.b) Gyermekétkeztetés üzemeltetési támogatása | B45: 9224801
A46: III.6. A rászoruló gyermekekszünidei étkeztetésienek támogatásaGyermekétkeztetés üzemeltetési támogatása | B46: 4845000
A48: IV.A települési önkormányzatok kulturális feladatainak támogatása | B48: =B49 -> 2610510
A49: IV.1.d. Könyvtári, közművelődési feladatok támogatása | B49: 2610510

Sheet 6.sz tájékoztató t.
A1: =+CONCATENATE("K I M U T A T Á S",CHAR(10),"a ",LEFT(ÖSSZEFÜGGÉSEK!A5,4),". évben céljelleggel juttatott támogatásokról") -> K I M U T A T Á S a 2024. évben céljelleggel juttatott támogatásokról
C3: Forintban !
A4: Sor- szám | B4: Támogatott szervezet neve | C4: Támogatás célja | D4: Támogatás összge
A5: 1. | B5: Hencidai Sport Egyesület | C5: Folyamatos müködés elősegitésére
A6: 2. | B6: Mujib Bt | C6: Folyamatos müködés elősegitésére
A7: 3.
A8: 4.
A9: 5.
A10: 6.
A11: 7.
A12: 8.
A13: 9.
A14: 10.
A15: 11.
A16: 12.
A17: 13.
A18: 14.
... A38: 34.
A39: Összesen: | D39: =SUM(D5:D38) -> 0
A40: Nem kötelező!
