Workbook

Sheet ÖSSZEFÜGGÉSEK
A2: Költségvetési rendelet űrlapjainak összefüggései:
A5: 2021 évi előirányzat BEVÉTELEK
A7: 1.1. sz. melléklet Bevételek táblázat C. oszlop 9 sora = | B7: 2.1. számú melléklet C. oszlop 13. sor + 2.2. számú melléklet C. oszlop 12. sor
A8: 1.1. sz. melléklet Bevételek táblázat C. oszlop 17 sora = | B8: 2.1. számú melléklet C. oszlop 24. sor + 2.2. számú melléklet C. oszlop 25. sor
A9: 1.1. sz. melléklet Bevételek táblázat C. oszlop 18 sora = | B9: 2.1. számú melléklet C. oszlop 25. sor + 2.2. számú melléklet C. oszlop 26. sor
A12: =+CONCATENATE(LEFT(A5,4),". évi előirányzat KIADÁSOK") -> 2021. évi előirányzat KIADÁSOK
A14: 1.1. sz. melléklet Kiadások táblázat C. oszlop 3 sora = | B14: 2.1. számú melléklet E. oszlop 13. sor + 2.2. számú melléklet E. oszlop 12. sor
A15: 1.1. sz. melléklet Kiadások táblázat C. oszlop 10 sora = | B15: 2.1. számú melléklet E. oszlop 24. sor + 2.2. számú melléklet E. oszlop 25. sor
A16: 1.1. sz. melléklet Kiadások táblázat C. oszlop 11 sora = | B16: 2.1. számú melléklet E. oszlop 25. sor + 2.2. számú melléklet E. oszlop 26. sor

Sheet 1.1.sz.mell.
A1: B E V É T E L E K
A2: 1. sz. táblázat | C2: Forintban
A3: Sor- szám | B3: Bevételi jogcím | C3: =+CONCATENATE(LEFT(ÖSSZEFÜGGÉSEK!A5,4),". évi eredeti előirányzat") -> 2021. évi eredeti előirányzat
A4: A | B4: B | C4: C
A5: 1. | B5: Önkormányzat működési támogatásai (1.1.+…+.1.6.) | C5: =+C6+C7+C8+C9+C10+C11 -> 174040585
A6: 1.1. | B6: Helyi önkormányzatok működésének általános támogatása | C6: ='9.1. sz. mell'!C9 -> 71105274
A7: 1.2. | B7: Önkormányzatok egyes köznevelési feladatainak támogatása | C7: ='9.1. sz. mell'!C10 -> 54780801
A8: 1.3. | B8: Önkormányzatok szociális és gyermekjóléti feladatainak támogatása | C8: ='9.1. sz. mell'!C11 -> 45544000
A9: 1.4. | B9: Önkormányzatok kulturális feladatainak támogatása | C9: ='9.1. sz. mell'!C12 -> 2610510
A10: 1.5. | B10: Működési célú kvi támogatások és kiegészítő támogatások
A11: 1.6. | B11: Elszámolásból származó bevételek
A12: 2. | B12: Működési célú támogatások államháztartáson belülről (2.1.+…+.2.5.) | C12: =+C13+C14+C15+C16+C17 -> 0
A13: 2.1. | B13: Elvonások és befizetések bevételei
A14: 2.2. | B14: Működési célú garancia- és kezességvállalásból megtérülések
A15: 2.3. | B15: Működési célú visszatérítendő támogatások, kölcsönök visszatérülése
A16: 2.4. | B16: Működési célú visszatérítendő támogatások, kölcsönök igénybevétele
A17: 2.5. | B17: Egyéb működési célú támogatások bevételei
A18: 2.6. | B18: 2.5.-ből EU-s támogatás
A19: 3. | B19: Felhalmozási célú támogatások államháztartáson belülről (3.1.+…+3.5.) | C19: =+C20+C21+C22+C23+C24 -> 0
A20: 3.1. | B20: Felhalmozási célú önkormányzati támogatások
A21: 3.2. | B21: Felhalmozási célú garancia- és kezességvállalásból megtérülések
A22: 3.3. | B22: Felhalmozási célú visszatérítendő támogatások, kölcsönök visszatérülése
A23: 3.4. | B23: Felhalmozási célú visszatérítendő támogatások, kölcsönök igénybevétele
A24: 3.5. | B24: Egyéb felhalmozási célú támogatások bevételei
A25: 3.6. | B25: 3.5.-ből EU-s támogatás
A26: 4. | B26: Közhatalmi bevételek (4.1.+4.2.+4.3.+4.4.) | C26: =+C27+C31+C32+C33 -> 10414500
A27: 4.1. | B27: Helyi adók (4.1.1.+...+4.1.3.) | C27: =+C28+C29+C30 -> 10414500
A28: 4.1.1. | B28: - Vagyoni típusú adók
A29: 4.1.2. | B29: - Termékek és szolgáltatások adói
A30: 4.1.3. | B30: - Értékesítési és forgalmi adók (iparűzési adó) | C30: ='9.1. sz. mell'!C33 -> 10414500
A31: 4.2. | B31: Gépjárműadó
A32: 4.3. | B32: Egyéb áruhasználati és szolgáltatási adók
A33: 4.4. | B33: Egyéb közhatalmi bevételek
A34: 5. | B34: Működési bevételek (5.1.+…+ 5.11.) | C34: =SUM(C35:C45) -> 24639817
A35: 5.1. | B35: Készletértékesítés ellenértéke
A36: 5.2. | B36: Szolgáltatások ellenértéke (mezőőri) | C36: ='9.1. sz. mell'!C39 -> 7980000
A37: 5.3. | B37: Közvetített szolgáltatások értéke
A38: 5.4. | B38: Tulajdonosi bevételek (bérleti díjak) | C38: ='9.1. sz. mell'!C41 -> 1753990
A39: 5.5. | B39: Ellátási díjak (térítési díjak) | C39: ='9.3. sz. mell'!C42 -> 14428250
A40: 5.6. | B40: Kiszámlázott általános forgalmi adó | C40: ='9.1. sz. mell'!C43 -> 473577
A41: 5.7. | B41: Általános forgalmi adó visszatérítése
A42: 5.8. | B42: Kamatbevételek | C42: ='9.1. sz. mell'!C45+'9.3. sz. mell'!C45 -> 4000
A43: 5.9. | B43: Egyéb pénzügyi műveletek bevételei
A44: 5.10. | B44: Biztosító által fizetett kártérítés
A45: 5.11. | B45: Egyéb működési bevételek
A46: 6. | B46: Felhalmozási bevételek (6.1.+…+6.5.) | C46: =SUM(C47:C51) -> 0
A47: 6.1. | B47: Immateriális javak értékesítése
A48: 6.2. | B48: Ingatlanok értékesítése
A49: 6.3. | B49: Egyéb tárgyi eszközök értékesítése
A50: 6.4. | B50: Részesedések értékesítése
A51: 6.5. | B51: Részesedések megszűnéséhez kapcsolódó bevételek
A52: 7. | B52: Működési célú átvett pénzeszközök (7.1. + … + 7.3.) | C52: =SUM(C53:C56) -> 92245156
A53: 7.1. | B53: Működési célú garancia- és kezességvállalásból megtérülések ÁH-n kívülről
A54: 7.2. | B54: Működési célú visszatérítendő támogatások, kölcsönök visszatér. ÁH-n kívülről
A55: 7.3. | B55: Egyéb működési célú átvett pénzeszköz | C55: ='9.1. sz. mell'!C58+'9.2. sz. mell '!C58 -> 92245156
A56: 7.4. | B56: 7.3.-ból EU-s támogatás (közvetlen)
A57: 8. | B57: Felhalmozási célú átvett pénzeszközök (8.1.+8.2.+8.3.) | C57: =SUM(C58:C60) -> 0
A58: 8.1. | B58: Felhalm. célú garancia- és kezességvállalásból megtérülések ÁH-n kívülről
A59: 8.2. | B59: Felhalm. célú visszatérítendő támogatások, kölcsönök visszatér. ÁH-n kívülről
A60: 8.3. | B60: Egyéb felhalmozási célú átvett pénzeszköz
A61: 8.4. | B61: 8.3.-ból EU-s támogatás (közvetlen)
A62: 9. | B62: KÖLTSÉGVETÉSI BEVÉTELEK ÖSSZESEN: (1+…+8) | C62: =+C5+C12+C19+C26+C34+C46+C52+C57 -> 301340058
A63: 10. | B63: Hitel-, kölcsönfelvétel államháztartáson kívülről (10.1.+10.3.) | C63: =SUM(C64:C66) -> 0
A64: 10.1. | B64: Hosszú lejáratú hitelek, kölcsönök felvétele
A65: 10.2. | B65: Likviditási célú hitelek, kölcsönök felvétele pénzügyi vállalkozástól
A66: 10.3. | B66: Rövid lejáratú hitelek, kölcsönök felvétele
A67: 11. | B67: Belföldi értékpapírok bevételei (11.1. +…+ 11.4.) | C67: =SUM(C68:C71) -> 0
A68: 11.1. | B68: Forgatási célú belföldi értékpapírok beváltása, értékesítése
A69: 11.2. | B69: Forgatási célú belföldi értékpapírok kibocsátása
A70: 11.3. | B70: Befektetési célú belföldi értékpapírok beváltása, értékesítése
A71: 11.4. | B71: Befektetési célú belföldi értékpapírok kibocsátása
A72: 12. | B72: Maradvány igénybevétele (12.1. + 12.2.) | C72: =SUM(C73:C74) -> 32496710
A73: 12.1. | B73: Előző év költségvetési maradványának igénybevétele | C73: ='9.1. sz. mell'!C76+'9.2. sz. mell '!C76+'9.3. sz. mell'!C76 -> 32496710
A74: 12.2. | B74: Előző év vállalkozási maradványának igénybevétele
A75: 13. | B75: Belföldi finanszírozás bevételei (13.1. + … + 13.3.) | C75: =SUM(C76:C79) -> 0
A76: 13.1. | B76: Államháztartáson belüli megelőlegezések
A77: 13.2. | B77: Államháztartáson belüli megelőlegezések törlesztése
A78: 13.3. | B78: Központi, irányító szervi támogatás (óvoda)
A79: 13.4. | B79: Betétek megszüntetése
A80: 14. | B80: Külföldi finanszírozás bevételei (14.1.+…14.4.) | C80: =SUM(C81:C84) -> 0
A81: 14.1. | B81: Forgatási célú külföldi értékpapírok beváltása, értékesítése
A82: 14.2. | B82: Befektetési célú külföldi értékpapírok beváltása, értékesítése
A83: 14.3. | B83: Külföldi értékpapírok kibocsátása
A84: 14.4. | B84: Külföldi hitelek, kölcsönök felvétele
A85: 15. | B85: Váltóbevételek
A86: 16. | B86: Adóssághoz nem kapcsolódó származékos ügyletek bevételei
A87: 17. | B87: FINANSZÍROZÁSI BEVÉTELEK ÖSSZESEN: (10. + … +16.) | C87: =+C63+C67+C72+C75+C80+C86+C85 -> 32496710
A88: 18. | B88: KÖLTSÉGVETÉSI ÉS FINANSZÍROZÁSI BEVÉTELEK ÖSSZESEN: (9+17) | C88: =+C62+C87 -> 333836768
A91: K I A D Á S O K
A92: 2. sz. táblázat
A93: Sor- szám | B93: Kiadási jogcímek | C93: =+C3 -> 2021. évi eredeti előirányzat
A94: A | B94: B | C94: C
A95: 1. | B95: Működési költségvetés kiadásai (1.1+…+1.5.+1.18.) | C95: =C96+C97+C98+C99+C100 -> 325147433
A96: 1.1. | B96: Személyi juttatások | C96: ='9.1. sz. mell'!C95+'9.2. sz. mell '!C95+'9.3. sz. mell'!C95 -> 160619351
A97: 1.2. | B97: Munkaadókat terhelő járulékok és szociális hozzájárulási adó | C97: ='9.1. sz. mell'!C96+'9.2. sz. mell '!C96+'9.3. sz. mell'!C96 -> 21422158
A98: 1.3. | B98: Dologi kiadások | C98: ='9.1. sz. mell'!C97+'9.2. sz. mell '!C97+'9.3. sz. mell'!C97 -> 96209560
A99: 1.4. | B99: Ellátottak pénzbeli juttatásai | C99: ='9.1. sz. mell'!C98 -> 36599000
A100: 1.5 | B100: Egyéb működési célú kiadások | C100: ='9.1. sz. mell'!C99 -> 10297364
A101: 1.6. | B101: - az 1.5-ből: - Előző évi elszámolásból származó befizetések | C101: ='9.1. sz. mell'!C100 -> 0
A102: 1.7. | B102: - Törvényi előíráson alapuló befizetések | C102: ='9.1. sz. mell'!C101 -> 0
...

Sheet 1.2.sz.mell.
A1: B E V É T E L E K
A2: 1. sz. táblázat | C2: Forintban
A3: Sor- szám | B3: Bevételi jogcím | C3: =+CONCATENATE(LEFT(ÖSSZEFÜGGÉSEK!A5,4),". évi eredeti előirányzat") -> 2021. évi eredeti előirányzat
A4: A | B4: B | C4: C
A5: 1. | B5: Önkormányzat működési támogatásai (1.1.+…+.1.6.) | C5: =+C6+C7+C8+C9+C10+C11 -> 174040585
A6: 1.1. | B6: Helyi önkormányzatok működésének általános támogatása | C6: ='1.1.sz.mell.'!C6 -> 71105274
A7: 1.2. | B7: Önkormányzatok egyes köznevelési feladatainak támogatása | C7: ='1.1.sz.mell.'!C7 -> 54780801
A8: 1.3. | B8: Önkormányzatok szociális és gyermekjóléti feladatainak támogatása | C8: ='1.1.sz.mell.'!C8 -> 45544000
A9: 1.4. | B9: Önkormányzatok kulturális feladatainak támogatása | C9: ='1.1.sz.mell.'!C9 -> 2610510
A10: 1.5. | B10: Működési célú kvi támogatások és kiegészítő támogatások | C10: ='1.1.sz.mell.'!C10 -> 0
A11: 1.6. | B11: Elszámolásból származó bevételek | C11: ='1.1.sz.mell.'!C11 -> 0
A12: 2. | B12: Működési célú támogatások államháztartáson belülről (2.1.+…+.2.5.) | C12: =+C13+C14+C15+C16+C17 -> 0
A13: 2.1. | B13: Elvonások és befizetések bevételei
A14: 2.2. | B14: Működési célú garancia- és kezességvállalásból megtérülések
A15: 2.3. | B15: Működési célú visszatérítendő támogatások, kölcsönök visszatérülése
A16: 2.4. | B16: Működési célú visszatérítendő támogatások, kölcsönök igénybevétele
A17: 2.5. | B17: Egyéb működési célú támogatások bevételei | C17: ='1.1.sz.mell.'!C17 -> 0
A18: 2.6. | B18: 2.5.-ből EU-s támogatás
A19: 3. | B19: Felhalmozási célú támogatások államháztartáson belülről (3.1.+…+3.5.) | C19: =+C20+C21+C22+C23+C24 -> 0
A20: 3.1. | B20: Felhalmozási célú önkormányzati támogatások
A21: 3.2. | B21: Felhalmozási célú garancia- és kezességvállalásból megtérülések
A22: 3.3. | B22: Felhalmozási célú visszatérítendő támogatások, kölcsönök visszatérülése
A23: 3.4. | B23: Felhalmozási célú visszatérítendő támogatások, kölcsönök igénybevétele
A24: 3.5. | B24: Egyéb felhalmozási célú támogatások bevételei
A25: 3.6. | B25: 3.5.-ből EU-s támogatás
A26: 4. | B26: Közhatalmi bevételek (4.1.+4.2.+4.3.+4.4.) | C26: =+C27+C31+C32+C33 -> 10414500
A27: 4.1. | B27: Helyi adók (4.1.1.+...+4.1.3.) | C27: =+C28+C29+C30 -> 10414500
A28: 4.1.1. | B28: - Vagyoni típusú adók
A29: 4.1.2. | B29: - Termékek és szolgáltatások adói
A30: 4.1.3. | B30: - Értékesítési és forgalmi adók (iparűzési adó) | C30: ='1.1.sz.mell.'!C30 -> 10414500
A31: 4.2. | B31: Gépjárműadó | C31: ='1.1.sz.mell.'!C31 -> 0
A32: 4.3. | B32: Egyéb áruhasználati és szolgáltatási adók
A33: 4.4. | B33: Egyéb közhatalmi bevételek
A34: 5. | B34: Működési bevételek (5.1.+…+ 5.11.) | C34: =SUM(C35:C45) -> 24639817
A35: 5.1. | B35: Készletértékesítés ellenértéke
A36: 5.2. | B36: Szolgáltatások ellenértéke | C36: ='1.1.sz.mell.'!C36 -> 7980000
A37: 5.3. | B37: Közvetített szolgáltatások értéke
A38: 5.4. | B38: Tulajdonosi bevételek | C38: ='1.1.sz.mell.'!C38 -> 1753990
A39: 5.5. | B39: Ellátási díjak | C39: ='1.1.sz.mell.'!C39 -> 14428250
A40: 5.6. | B40: Kiszámlázott általános forgalmi adó | C40: ='1.1.sz.mell.'!C40 -> 473577
A41: 5.7. | B41: Általános forgalmi adó visszatérítése
A42: 5.8. | B42: Kamatbevételek | C42: ='1.1.sz.mell.'!C42 -> 4000
A43: 5.9. | B43: Egyéb pénzügyi műveletek bevételei
A44: 5.10. | B44: Biztosító által fizetett kártérítés
A45: 5.11. | B45: Egyéb működési bevételek
A46: 6. | B46: Felhalmozási bevételek (6.1.+…+6.5.) | C46: =SUM(C47:C51) -> 0
A47: 6.1. | B47: Immateriális javak értékesítése
A48: 6.2. | B48: Ingatlanok értékesítése
A49: 6.3. | B49: Egyéb tárgyi eszközök értékesítése
A50: 6.4. | B50: Részesedések értékesítése
A51: 6.5. | B51: Részesedések megszűnéséhez kapcsolódó bevételek
A52: 7. | B52: Működési célú átvett pénzeszközök (7.1. + … + 7.3.) | C52: =SUM(C53:C55) -> 92245156
A53: 7.1. | B53: Működési célú garancia- és kezességvállalásból megtérülések ÁH-n kívülről
A54: 7.2. | B54: Működési célú visszatérítendő támogatások, kölcsönök visszatér. ÁH-n kívülről
A55: 7.3. | B55: Egyéb működési célú átvett pénzeszköz | C55: ='1.1.sz.mell.'!C55 -> 92245156
A56: 7.4. | B56: 7.3.-ból EU-s támogatás (közvetlen)
A57: 8. | B57: Felhalmozási célú átvett pénzeszközök (8.1.+8.2.+8.3.) | C57: =SUM(C58:C60) -> 0
A58: 8.1. | B58: Felhalm. célú garancia- és kezességvállalásból megtérülések ÁH-n kívülről
A59: 8.2. | B59: Felhalm. célú visszatérítendő támogatások, kölcsönök visszatér. ÁH-n kívülről
A60: 8.3. | B60: Egyéb felhalmozási célú átvett pénzeszköz | C60: ='1.1.sz.mell.'!C60 -> 0
A61: 8.4. | B61: 8.3.-ból EU-s támogatás (közvetlen)
A62: 9. | B62: KÖLTSÉGVETÉSI BEVÉTELEK ÖSSZESEN: (1+…+8) | C62: =+C5+C12+C19+C26+C34+C46+C52+C57 -> 301340058
A63: 10. | B63: Hitel-, kölcsönfelvétel államháztartáson kívülről (10.1.+10.3.) | C63: =SUM(C64:C66) -> 0
A64: 10.1. | B64: Hosszú lejáratú hitelek, kölcsönök felvétele
A65: 10.2. | B65: Likviditási célú hitelek, kölcsönök felvétele pénzügyi vállalkozástól
A66: 10.3. | B66: Rövid lejáratú hitelek, kölcsönök felvétele
A67: 11. | B67: Belföldi értékpapírok bevételei (11.1. +…+ 11.4.) | C67: =SUM(C68:C71) -> 0
A68: 11.1. | B68: Forgatási célú belföldi értékpapírok beváltása, értékesítése
A69: 11.2. | B69: Forgatási célú belföldi értékpapírok kibocsátása
A70: 11.3. | B70: Befektetési célú belföldi értékpapírok beváltása, értékesítése
A71: 11.4. | B71: Befektetési célú belföldi értékpapírok kibocsátása
A72: 12. | B72: Maradvány igénybevétele (12.1. + 12.2.) | C72: =SUM(C73:C74) -> 32496710
A73: 12.1. | B73: Előző év költségvetési maradványának igénybevétele | C73: ='1.1.sz.mell.'!C73 -> 32496710
A74: 12.2. | B74: Előző év vállalkozási maradványának igénybevétele
A75: 13. | B75: Belföldi finanszírozás bevételei (13.1. + … + 13.3.) | C75: =SUM(C76:C79) -> 0
A76: 13.1. | B76: Államháztartáson belüli megelőlegezések
A77: 13.2. | B77: Államháztartáson belüli megelőlegezések törlesztése
A78: 13.3. | B78: Központi, irányító szervi támogatás (óvoda) | C78: ='1.1.sz.mell.'!C78 -> 0
A79: 13.4. | B79: Betétek megszüntetése
A80: 14. | B80: Külföldi finanszírozás bevételei (14.1.+…14.4.) | C80: =SUM(C81:C84) -> 0
A81: 14.1. | B81: Forgatási célú külföldi értékpapírok beváltása, értékesítése
A82: 14.2. | B82: Befektetési célú külföldi értékpapírok beváltása, értékesítése
A83: 14.3. | B83: Külföldi értékpapírok kibocsátása
A84: 14.4. | B84: Külföldi hitelek, kölcsönök felvétele
A85: 15. | B85: Váltóbevételek
A86: 16. | B86: Adóssághoz nem kapcsolódó származékos ügyletek bevételei
A87: 17. | B87: FINANSZÍROZÁSI BEVÉTELEK ÖSSZESEN: (10. + … +16.) | C87: =+C63+C67+C72+C75+C80+C86+C85 -> 32496710
A88: 18. | B88: KÖLTSÉGVETÉSI ÉS FINANSZÍROZÁSI BEVÉTELEK ÖSSZESEN: (9+17) | C88: =+C62+C87 -> 333836768
A90: K I A D Á S O K
A91: 2. sz. táblázat
A92: Sor- szám | B92: Kiadási jogcímek | C92: =+C3 -> 2021. évi eredeti előirányzat
A93: A | B93: B | C93: C
A94: 1. | B94: Működési költségvetés kiadásai (1.1+…+1.5.+1.18.) | C94: =C95+C96+C97+C98+C99 -> 325147433
A95: 1.1. | B95: Személyi juttatások | C95: ='1.1.sz.mell.'!C96 -> 160619351
A96: 1.2. | B96: Munkaadókat terhelő járulékok és szociális hozzájárulási adó | C96: ='1.1.sz.mell.'!C97 -> 21422158
A97: 1.3. | B97: Dologi kiadások | C97: ='1.1.sz.mell.'!C98 -> 96209560
A98: 1.4. | B98: Ellátottak pénzbeli juttatásai | C98: ='1.1.sz.mell.'!C99 -> 36599000
A99: 1.5 | B99: Egyéb működési célú kiadások | C99: ='1.1.sz.mell.'!C100 -> 10297364
A100: 1.6. | B100: - az 1.5-ből: - Előző évi elszámolásból származó befizetések | C100: ='1.1.sz.mell.'!C101 -> 0
A101: 1.7. | B101: - Törvényi előíráson alapuló befizetések | C101: ='1.1.sz.mell.'!C102 -> 0
...

Sheet 1.3.sz.mell.
A1: B E V É T E L E K
A2: 1. sz. táblázat | C2: Ezer forintban
A3: Sor- szám | B3: Bevételi jogcím | C3: =+CONCATENATE(LEFT(ÖSSZEFÜGGÉSEK!A5,4),". évi előirányzat") -> 2021. évi előirányzat
A4: A | B4: B | C4: C
A5: 1. | B5: Önkormányzat működési támogatásai (1.1.+…+.1.6.) | C5: =+C6+C7+C8+C9+C10+C11 -> 0
A6: 1.1. | B6: Helyi önkormányzatok működésének általános támogatása
A7: 1.2. | B7: Önkormányzatok egyes köznevelési feladatainak támogatása
A8: 1.3. | B8: Önkormányzatok szociális és gyermekjóléti feladatainak támogatása
A9: 1.4. | B9: Önkormányzatok kulturális feladatainak támogatása
A10: 1.5. | B10: Működési célú kvi támogatások és kiegészítő támogatások
A11: 1.6. | B11: Elszámolásból származó bevételek
A12: 2. | B12: Működési célú támogatások államháztartáson belülről (2.1.+…+.2.5.) | C12: =+C13+C14+C15+C16+C17 -> 0
A13: 2.1. | B13: Elvonások és befizetések bevételei
A14: 2.2. | B14: Működési célú garancia- és kezességvállalásból megtérülések
A15: 2.3. | B15: Működési célú visszatérítendő támogatások, kölcsönök visszatérülése
A16: 2.4. | B16: Működési célú visszatérítendő támogatások, kölcsönök igénybevétele
A17: 2.5. | B17: Egyéb működési célú támogatások bevételei
A18: 2.6. | B18: 2.5.-ből EU-s támogatás
A19: 3. | B19: Felhalmozási célú támogatások államháztartáson belülről (3.1.+…+3.5.) | C19: =+C20+C21+C22+C23+C24 -> 0
A20: 3.1. | B20: Felhalmozási célú önkormányzati támogatások
A21: 3.2. | B21: Felhalmozási célú garancia- és kezességvállalásból megtérülések
A22: 3.3. | B22: Felhalmozási célú visszatérítendő támogatások, kölcsönök visszatérülése
A23: 3.4. | B23: Felhalmozási célú visszatérítendő támogatások, kölcsönök igénybevétele
A24: 3.5. | B24: Egyéb felhalmozási célú támogatások bevételei
A25: 3.6. | B25: 3.5.-ből EU-s támogatás
A26: 4. | B26: Közhatalmi bevételek (4.1.+4.2.+4.3.+4.4.) | C26: =+C27+C31+C32+C33 -> 0
A27: 4.1. | B27: Helyi adók (4.1.1.+...+4.1.3.) | C27: =+C28+C29+C30 -> 0
A28: 4.1.1. | B28: - Vagyoni típusú adók
A29: 4.1.2. | B29: - Termékek és szolgáltatások adói
A30: 4.1.3. | B30: - Értékesítési és forgalmi adók (iparűzési adó)
A31: 4.2. | B31: Gépjárműadó
A32: 4.3. | B32: Egyéb áruhasználati és szolgáltatási adók
A33: 4.4. | B33: Egyéb közhatalmi bevételek
A34: 5. | B34: Működési bevételek (5.1.+…+ 5.11.) | C34: =SUM(C35:C45) -> 0
A35: 5.1. | B35: Készletértékesítés ellenértéke
A36: 5.2. | B36: Szolgáltatások ellenértéke
A37: 5.3. | B37: Közvetített szolgáltatások értéke
A38: 5.4. | B38: Tulajdonosi bevételek
A39: 5.5. | B39: Ellátási díjak
A40: 5.6. | B40: Kiszámlázott általános forgalmi adó
A41: 5.7. | B41: Általános forgalmi adó visszatérítése
A42: 5.8. | B42: Kamatbevételek
A43: 5.9. | B43: Egyéb pénzügyi műveletek bevételei
A44: 5.10. | B44: Biztosító által fizetett kártérítés
A45: 5.11. | B45: Egyéb működési bevételek
A46: 6. | B46: Felhalmozási bevételek (6.1.+…+6.5.) | C46: =SUM(C47:C51) -> 0
A47: 6.1. | B47: Immateriális javak értékesítése
A48: 6.2. | B48: Ingatlanok értékesítése
A49: 6.3. | B49: Egyéb tárgyi eszközök értékesítése
A50: 6.4. | B50: Részesedések értékesítése
A51: 6.5. | B51: Részesedések megszűnéséhez kapcsolódó bevételek
A52: 7. | B52: Működési célú átvett pénzeszközök (7.1. + … + 7.3.) | C52: =SUM(C53:C55) -> 0
A53: 7.1. | B53: Működési célú garancia- és kezességvállalásból megtérülések ÁH-n kívülről
A54: 7.2. | B54: Működési célú visszatérítendő támogatások, kölcsönök visszatér. ÁH-n kívülről
A55: 7.3. | B55: Egyéb működési célú átvett pénzeszköz
A56: 7.4. | B56: 7.3.-ból EU-s támogatás (közvetlen)
A57: 8. | B57: Felhalmozási célú átvett pénzeszközök (8.1.+8.2.+8.3.) | C57: =SUM(C58:C60) -> 0
A58: 8.1. | B58: Felhalm. célú garancia- és kezességvállalásból megtérülések ÁH-n kívülről
A59: 8.2. | B59: Felhalm. célú visszatérítendő támogatások, kölcsönök visszatér. ÁH-n kívülről
A60: 8.3. | B60: Egyéb felhalmozási célú átvett pénzeszköz
A61: 8.4. | B61: 8.3.-ból EU-s támogatás (közvetlen)
A62: 9. | B62: KÖLTSÉGVETÉSI BEVÉTELEK ÖSSZESEN: (1+…+8) | C62: =+C5+C12+C19+C26+C34+C46+C52+C57 -> 0
A63: 10. | B63: Hitel-, kölcsönfelvétel államháztartáson kívülről (10.1.+10.3.) | C63: =SUM(C64:C66) -> 0
A64: 10.1. | B64: Hosszú lejáratú hitelek, kölcsönök felvétele
A65: 10.2. | B65: Likviditási célú hitelek, kölcsönök felvétele pénzügyi vállalkozástól
A66: 10.3. | B66: Rövid lejáratú hitelek, kölcsönök felvétele
A67: 11. | B67: Belföldi értékpapírok bevételei (11.1. +…+ 11.4.) | C67: =SUM(C68:C71) -> 0
A68: 11.1. | B68: Forgatási célú belföldi értékpapírok beváltása, értékesítése
A69: 11.2. | B69: Forgatási célú belföldi értékpapírok kibocsátása
A70: 11.3. | B70: Befektetési célú belföldi értékpapírok beváltása, értékesítése
A71: 11.4. | B71: Befektetési célú belföldi értékpapírok kibocsátása
A72: 12. | B72: Maradvány igénybevétele (12.1. + 12.2.) | C72: =SUM(C73:C74) -> 0
A73: 12.1. | B73: Előző év költségvetési maradványának igénybevétele
A74: 12.2. | B74: Előző év vállalkozási maradványának igénybevétele
A75: 13. | B75: Belföldi finanszírozás bevételei (13.1. + … + 13.3.) | C75: =SUM(C76:C79) -> 0
A76: 13.1. | B76: Államháztartáson belüli megelőlegezések
A77: 13.2. | B77: Államháztartáson belüli megelőlegezések törlesztése
A78: 13.3. | B78: Központi, irányító szervi támogatás (óvoda) | C78: 0
A79: 13.4. | B79: Betétek megszüntetése
A80: 14. | B80: Külföldi finanszírozás bevételei (14.1.+…14.4.) | C80: =SUM(C81:C84) -> 0
A81: 14.1. | B81: Forgatási célú külföldi értékpapírok beváltása, értékesítése
A82: 14.2. | B82: Befektetési célú külföldi értékpapírok beváltása, értékesítése
A83: 14.3. | B83: Külföldi értékpapírok kibocsátása
A84: 14.4. | B84: Külföldi hitelek, kölcsönök felvétele
A85: 15. | B85: Váltóbevételek
A86: 16. | B86: Adóssághoz nem kapcsolódó származékos ügyletek bevételei
A87: 17. | B87: FINANSZÍROZÁSI BEVÉTELEK ÖSSZESEN: (10. + … +16.) | C87: =+C63+C67+C72+C75+C80+C86+C85 -> 0
A88: 18. | B88: KÖLTSÉGVETÉSI ÉS FINANSZÍROZÁSI BEVÉTELEK ÖSSZESEN: (9+17) | C88: =+C62+C87 -> 0
A90: K I A D Á S O K
A91: 2. sz. táblázat | C91: Ezer forintban
A92: Sor- szám | B92: Kiadási jogcímek | C92: =+C3 -> 2021. évi előirányzat
A93: A | B93: B | C93: C
A94: 1. | B94: Működési költségvetés kiadásai (1.1+…+1.5.+1.18.) | C94: =C95+C96+C97+C98+C99+C112 -> 0
A95: 1.1. | B95: Személyi juttatások
A96: 1.2. | B96: Munkaadókat terhelő járulékok és szociális hozzájárulási adó
A97: 1.3. | B97: Dologi kiadások
A98: 1.4. | B98: Ellátottak pénzbeli juttatásai
A99: 1.5 | B99: Egyéb működési célú kiadások
A100: 1.6. | B100: - az 1.5-ből: - Előző évi elszámolásból származó befizetések
A101: 1.7. | B101: - Törvényi előíráson alapuló befizetések
...

Sheet 1.4.sz.mell.
A1: B E V É T E L E K
A2: 1. sz. táblázat | C2: Ezer forintban
A3: Sor- szám | B3: Bevételi jogcím | C3: =+CONCATENATE(LEFT(ÖSSZEFÜGGÉSEK!A5,4),". évi előirányzat") -> 2021. évi előirányzat
A4: A | B4: B | C4: C
A5: 1. | B5: Önkormányzat működési támogatásai (1.1.+…+.1.6.) | C5: =+C6+C7+C8+C9+C10+C11 -> 0
A6: 1.1. | B6: Helyi önkormányzatok működésének általános támogatása
A7: 1.2. | B7: Önkormányzatok egyes köznevelési feladatainak támogatása
A8: 1.3. | B8: Önkormányzatok szociális és gyermekjóléti feladatainak támogatása
A9: 1.4. | B9: Önkormányzatok kulturális feladatainak támogatása
A10: 1.5. | B10: Működési célú kvi támogatások és kiegészítő támogatások
A11: 1.6. | B11: Elszámolásból származó bevételek
A12: 2. | B12: Működési célú támogatások államháztartáson belülről (2.1.+…+.2.5.) | C12: =+C13+C14+C15+C16+C17 -> 0
A13: 2.1. | B13: Elvonások és befizetések bevételei
A14: 2.2. | B14: Működési célú garancia- és kezességvállalásból megtérülések
A15: 2.3. | B15: Működési célú visszatérítendő támogatások, kölcsönök visszatérülése
A16: 2.4. | B16: Működési célú visszatérítendő támogatások, kölcsönök igénybevétele
A17: 2.5. | B17: Egyéb működési célú támogatások bevételei
A18: 2.6. | B18: 2.5.-ből EU-s támogatás
A19: 3. | B19: Felhalmozási célú támogatások államháztartáson belülről (3.1.+…+3.5.) | C19: =+C20+C21+C22+C23+C24 -> 0
A20: 3.1. | B20: Felhalmozási célú önkormányzati támogatások
A21: 3.2. | B21: Felhalmozási célú garancia- és kezességvállalásból megtérülések
A22: 3.3. | B22: Felhalmozási célú visszatérítendő támogatások, kölcsönök visszatérülése
A23: 3.4. | B23: Felhalmozási célú visszatérítendő támogatások, kölcsönök igénybevétele
A24: 3.5. | B24: Egyéb felhalmozási célú támogatások bevételei
A25: 3.6. | B25: 3.5.-ből EU-s támogatás
A26: 4. | B26: Közhatalmi bevételek (4.1.+4.2.+4.3.+4.4.) | C26: =+C27+C31+C32+C33 -> 0
A27: 4.1. | B27: Helyi adók (4.1.1.+...+4.1.3.) | C27: =+C28+C29+C30 -> 0
A28: 4.1.1. | B28: - Vagyoni típusú adók
A29: 4.1.2. | B29: - Termékek és szolgáltatások adói
A30: 4.1.3. | B30: - Értékesítési és forgalmi adók (iparűzési adó)
A31: 4.2. | B31: Gépjárműadó
A32: 4.3. | B32: Egyéb áruhasználati és szolgáltatási adók
A33: 4.4. | B33: Egyéb közhatalmi bevételek
A34: 5. | B34: Működési bevételek (5.1.+…+ 5.11.) | C34: =SUM(C35:C45) -> 0
A35: 5.1. | B35: Készletértékesítés ellenértéke
A36: 5.2. | B36: Szolgáltatások ellenértéke
A37: 5.3. | B37: Közvetített szolgáltatások értéke
A38: 5.4. | B38: Tulajdonosi bevételek
A39: 5.5. | B39: Ellátási díjak
A40: 5.6. | B40: Kiszámlázott általános forgalmi adó
A41: 5.7. | B41: Általános forgalmi adó visszatérítése
A42: 5.8. | B42: Kamatbevételek
A43: 5.9. | B43: Egyéb pénzügyi műveletek bevételei
A44: 5.10. | B44: Biztosító által fizetett kártérítés
A45: 5.11. | B45: Egyéb működési bevételek
A46: 6. | B46: Felhalmozási bevételek (6.1.+…+6.5.) | C46: =SUM(C47:C51) -> 0
A47: 6.1. | B47: Immateriális javak értékesítése
A48: 6.2. | B48: Ingatlanok értékesítése
A49: 6.3. | B49: Egyéb tárgyi eszközök értékesítése
A50: 6.4. | B50: Részesedések értékesítése
A51: 6.5. | B51: Részesedések megszűnéséhez kapcsolódó bevételek
A52: 7. | B52: Működési célú átvett pénzeszközök (7.1. + … + 7.3.) | C52: =SUM(C53:C55) -> 0
A53: 7.1. | B53: Működési célú garancia- és kezességvállalásból megtérülések ÁH-n kívülről
A54: 7.2. | B54: Működési célú visszatérítendő támogatások, kölcsönök visszatér. ÁH-n kívülről
A55: 7.3. | B55: Egyéb működési célú átvett pénzeszköz
A56: 7.4. | B56: 7.3.-ból EU-s támogatás (közvetlen)
A57: 8. | B57: Felhalmozási célú átvett pénzeszközök (8.1.+8.2.+8.3.) | C57: =SUM(C58:C60) -> 0
A58: 8.1. | B58: Felhalm. célú garancia- és kezességvállalásból megtérülések ÁH-n kívülről
A59: 8.2. | B59: Felhalm. célú visszatérítendő támogatások, kölcsönök visszatér. ÁH-n kívülről
A60: 8.3. | B60: Egyéb felhalmozási célú átvett pénzeszköz
A61: 8.4. | B61: 8.3.-ból EU-s támogatás (közvetlen)
A62: 9. | B62: KÖLTSÉGVETÉSI BEVÉTELEK ÖSSZESEN: (1+…+8) | C62: =+C5+C12+C19+C26+C34+C46+C52+C57 -> 0
A63: 10. | B63: Hitel-, kölcsönfelvétel államháztartáson kívülről (10.1.+10.3.) | C63: =SUM(C64:C66) -> 0
A64: 10.1. | B64: Hosszú lejáratú hitelek, kölcsönök felvétele
A65: 10.2. | B65: Likviditási célú hitelek, kölcsönök felvétele pénzügyi vállalkozástól
A66: 10.3. | B66: Rövid lejáratú hitelek, kölcsönök felvétele
A67: 11. | B67: Belföldi értékpapírok bevételei (11.1. +…+ 11.4.) | C67: =SUM(C68:C71) -> 0
A68: 11.1. | B68: Forgatási célú belföldi értékpapírok beváltása, értékesítése
A69: 11.2. | B69: Forgatási célú belföldi értékpapírok kibocsátása
A70: 11.3. | B70: Befektetési célú belföldi értékpapírok beváltása, értékesítése
A71: 11.4. | B71: Befektetési célú belföldi értékpapírok kibocsátása
A72: 12. | B72: Maradvány igénybevétele (12.1. + 12.2.) | C72: =SUM(C73:C74) -> 0
A73: 12.1. | B73: Előző év költségvetési maradványának igénybevétele
A74: 12.2. | B74: Előző év vállalkozási maradványának igénybevétele
A75: 13. | B75: Belföldi finanszírozás bevételei (13.1. + … + 13.3.) | C75: =SUM(C76:C78) -> 0
A76: 13.1. | B76: Államháztartáson belüli megelőlegezések
A77: 13.2. | B77: Államháztartáson belüli megelőlegezések törlesztése
A78: 13.3. | B78: Betétek megszüntetése
A79: 14. | B79: Külföldi finanszírozás bevételei (14.1.+…14.4.) | C79: =SUM(C80:C83) -> 0
A80: 14.1. | B80: Forgatási célú külföldi értékpapírok beváltása, értékesítése
A81: 14.2. | B81: Befektetési célú külföldi értékpapírok beváltása, értékesítése
A82: 14.3. | B82: Külföldi értékpapírok kibocsátása
A83: 14.4. | B83: Külföldi hitelek, kölcsönök felvétele
A84: 15. | B84: Váltóbevételek
A85: 16. | B85: Adóssághoz nem kapcsolódó származékos ügyletek bevételei
A86: 17. | B86: FINANSZÍROZÁSI BEVÉTELEK ÖSSZESEN: (10. + … +16.) | C86: =+C63+C67+C72+C75+C79+C85+C84 -> 0
A87: 18. | B87: KÖLTSÉGVETÉSI ÉS FINANSZÍROZÁSI BEVÉTELEK ÖSSZESEN: (9+17) | C87: =+C62+C86 -> 0
A89: K I A D Á S O K
A90: 2. sz. táblázat | C90: Ezer forintban
A91: Sor- szám | B91: Kiadási jogcímek | C91: =+C3 -> 2021. évi előirányzat
A92: A | B92: B | C92: C
A93: 1. | B93: Működési költségvetés kiadásai (1.1+…+1.5.+1.18.) | C93: =C94+C95+C96+C97+C98+C111 -> 0
A94: 1.1. | B94: Személyi juttatások
A95: 1.2. | B95: Munkaadókat terhelő járulékok és szociális hozzájárulási adó
A96: 1.3. | B96: Dologi kiadások
A97: 1.4. | B97: Ellátottak pénzbeli juttatásai
A98: 1.5 | B98: Egyéb működési célú kiadások
A99: 1.6. | B99: - az 1.5-ből: - Előző évi elszámolásból származó befizetések
A100: 1.7. | B100: - Törvényi előíráson alapuló befizetések
A101: 1.8. | B101: - Elvonások és befizetések
...

Sheet 2.1.sz.mell  
B1: I. Működési célú bevételek és kiadások mérlege (Önkormányzati szinten) | F1: =+CONCATENATE("2.1. melléklet a……... /",LEFT(ÖSSZEFÜGGÉSEK!A5,4),". (………...) önkormányzati rendelethez") -> 2.1. melléklet a……... /2021. (………...) önkormányzati rendelethez
E2: Forintban !
A3: Sor- szám | B3: Bevételek | D3: Kiadások
B4: Megnevezés | C4: =+'1.1.sz.mell.'!C3 -> 2021. évi eredeti előirányzat | D4: Megnevezés | E4: =+C4 -> 2021. évi eredeti előirányzat
A5: A | B5: B | C5: C | D5: D | E5: E
A6: 1. | B6: Önkormányzatok működési támogatásai | C6: ='1.1.sz.mell.'!C5 -> 174040585 | D6: Személyi juttatások | E6: ='1.1.sz.mell.'!C96 -> 160619351
A7: 2. | B7: Működési célú támogatások államháztartáson belülről | C7: ='1.1.sz.mell.'!C12 -> 0 | D7: Munkaadókat terhelő járulékok és szociális hozzájárulási adó | E7: ='1.1.sz.mell.'!C97 -> 21422158
A8: 3. | B8: 2.-ból EU-s támogatás | D8: Dologi kiadások | E8: ='1.1.sz.mell.'!C98 -> 96209560
A9: 4. | B9: Közhatalmi bevételek | C9: ='1.1.sz.mell.'!C26 -> 10414500 | D9: Ellátottak pénzbeli juttatásai | E9: ='1.1.sz.mell.'!C99 -> 36599000
A10: 5. | B10: Működési bevételek | C10: ='1.1.sz.mell.'!C34 -> 24639817 | D10: Egyéb működési célú kiadások | E10: ='1.1.sz.mell.'!C100 -> 10297364
A11: 6. | B11: Működési célú átvett pénzeszközök | C11: ='1.1.sz.mell.'!C52 -> 92245156 | D11: Tartalékok
A12: 7. | B12: 6.-ból EU-s támogatás (közvetlen)
A13: 8.
A14: 9.
A15: 10.
A16: 11.
A17: 12.
A18: 13. | B18: Költségvetési bevételek összesen (1.+2.+4.+5.+6.+8.+…+12.) | C18: =SUM(C6:C11)-C8 -> 301340058 | D18: Költségvetési kiadások összesen (1.+...+12.) | E18: =SUM(E6:E17) -> 325147433
A19: 14. | B19: Hiány belső finanszírozásának bevételei (15.+…+18. ) | C19: =+C20+C21+C22+C23 -> 23807375 | D19: Értékpapír vásárlása, visszavásárlása
A20: 15. | B20: Költségvetési maradvány igénybevétele | C20: ='1.1.sz.mell.'!C73-'2.2.sz.mell '!C18 -> 23807375 | D20: Likviditási célú hitelek törlesztése
A21: 16. | B21: Vállalkozási maradvány igénybevétele | D21: Rövid lejáratú hitelek törlesztése
A22: 17. | B22: Betét visszavonásából származó bevétel | D22: Hosszú lejáratú hitelek törlesztése
A23: 18. | B23: Egyéb belső finanszírozási bevételek | C23: ='1.1.sz.mell.'!C78 -> 0 | D23: Kölcsön törlesztése
A24: 19. | B24: Hiány külső finanszírozásának bevételei (20.+…+21.) | C24: =+C25+C26 -> 0 | D24: Forgatási célú belföldi, külföldi értékpapírok vásárlása
A25: 20. | B25: Likviditási célú hitelek, kölcsönök felvétele | D25: Pénzeszközök lekötött betétként elhelyezése
A26: 21. | B26: Értékpapírok bevételei | D26: Adóssághoz nem kapcsolódó származékos ügyletek
A27: 22. | B27: Váltóbevételek | D27: Váltókiadások
A28: 23. | B28: Adóssághoz nem kapcsolódó származékos ügyletek bevételei | D28: Központi, irányító szervi támogatás (óvoda) | E28: ='1.1.sz.mell.'!C145 -> 0
A29: 24. | B29: Működési célú finanszírozási bevételek összesen (14.+19.+22.+23.) | C29: =+C19+C24+C27+C28 -> 23807375 | D29: Működési célú finanszírozási kiadások összesen (14.+...+23.) | E29: =SUM(E19:E28) -> 0
A30: 25. | B30: BEVÉTEL ÖSSZESEN (13.+24.) | C30: =+C18+C29 -> 325147433 | D30: KIADÁSOK ÖSSZESEN (13.+24.) | E30: =+E18+E29 -> 325147433
A31: 26. | B31: Tárgyévi hiány: | C31: =IF(C18+C29-E30<0,E30-(C18+C29),"-") -> - | D31: Tárgyévi többlet: | E31: =IF(C18+C29-E30>0,C18+C29-E30,"-") -> -

Sheet 2.2.sz.mell  
B1: II. Felhalmozási célú bevételek és kiadások mérlege (Önkormányzati szinten) | F1: =+CONCATENATE("2.2. melléklet a ……../",LEFT(ÖSSZEFÜGGÉSEK!A5,4),". (……….) önkormányzati rendelethez") -> 2.2. melléklet a ……../2021. (……….) önkormányzati rendelethez
E2: forintban !
A3: Sor- szám | B3: Bevételek | D3: Kiadások
B4: Megnevezés | C4: =+'2.1.sz.mell '!C4 -> 2021. évi eredeti előirányzat | D4: Megnevezés | E4: =+'2.1.sz.mell '!C4 -> 2021. évi eredeti előirányzat
A5: A | B5: B | C5: C | D5: D | E5: E
A6: 1. | B6: Felhalmozási célú támogatások államháztartáson belülről | C6: ='1.1.sz.mell.'!C58 -> 0 | D6: Beruházások | E6: ='1.1.sz.mell.'!C117 -> 149606
A7: 2. | B7: 1.-ből EU-s támogatás | D7: 1.-ből EU-s forrásból megvalósuló beruházás | E7: ='1.1.sz.mell.'!C118 -> 0
A8: 3. | B8: Felhalmozási bevételek | D8: Felújítások | E8: ='1.1.sz.mell.'!C119 -> 3540408
A9: 4. | B9: Felhalmozási célú átvett pénzeszközök átvétele | D9: 3.-ból EU-s forrásból megvalósuló felújítás | E9: ='1.1.sz.mell.'!C120 -> 0
A10: 5. | B10: 4.-ből EU-s támogatás (közvetlen) | D10: Egyéb felhalmozási kiadások | E10: ='1.1.sz.mell.'!C121 -> 4999321
A11: 6. | B11: Egyéb felhalmozási célú bevételek | C11: ='1.1.sz.mell.'!C60 -> 0
A12: 7.
A13: 8.
A14: 9.
A15: 10.
A16: 11. | D16: Tartalékok
A17: 12. | B17: Költségvetési bevételek összesen: (1.+3.+4.+6.+…+11.) | C17: =+C6+C8+C9+C11+C12+C13+C14+C15+C16 -> 0 | D17: Költségvetési kiadások összesen: (1.+3.+5.+...+11.) | E17: =+E6+E8+E10+E11+E12+E13+E14+E15+E16 -> 8689335
A18: 13. | B18: Hiány belső finanszírozás bevételei ( 14+…+18) | C18: =C19 -> 8689335 | D18: Értékpapír vásárlása, visszavásárlása
A19: 14. | B19: Költségvetési maradvány igénybevétele | C19: =E17 -> 8689335 | D19: Hitelek törlesztése
A20: 15. | B20: Vállalkozási maradvány igénybevétele | D20: Rövid lejáratú hitelek törlesztése
A21: 16. | B21: Betét visszavonásából származó bevétel | D21: Hosszú lejáratú hitelek törlesztése
A22: 17. | B22: Értékpapír értékesítése | D22: Kölcsön törlesztése
A23: 18. | B23: Egyéb belső finanszírozási bevételek | D23: Befektetési célú belföldi, külföldi értékpapírok vásárlása
A24: 19. | B24: Hiány külső finanszírozásának bevételei (20+…+24 ) | C24: =+C25+C26+C27+C28+C29 -> 0 | D24: Betét elhelyezése
A25: 20. | B25: Hosszú lejáratú hitelek, kölcsönök felvétele | D25: Pénzügyi lízing kiadásai
A26: 21. | B26: Likviditási célú hitelek, kölcsönök felvétele
A27: 22. | B27: Rövid lejáratú hitelek, kölcsönök felvétele
A28: 23. | B28: Értékpapírok kibocsátása
A29: 24. | B29: Egyéb külső finanszírozási bevételek
A30: 25. | B30: Felhalmozási célú finanszírozási bevételek összesen (13.+19.) | C30: =+C18+C24 -> 8689335 | D30: Felhalmozási célú finanszírozási kiadások összesen (13.+...+24.) | E30: =SUM(E18:E29) -> 0
A31: 26. | B31: BEVÉTEL ÖSSZESEN (12+25) | C31: =+C17+C30 -> 8689335 | D31: KIADÁSOK ÖSSZESEN (12+25) | E31: =+E17+E30 -> 8689335
A32: 27. | B32: Költségvetési hiány: | C32: =IF(C17-E17<0,E17-C17,"-") -> 8689335 | D32: Költségvetési többlet: | E32: =IF(C17-E17>0,C17-E17,"-") -> -
A33: 28. | B33: Tárgyévi hiány: | C33: =IF(C17+C30-E26<0,E26-(C17+C30),"-") -> - | D33: Tárgyévi többlet: | E33: =C31-E31 -> 0

Sheet ELLENŐRZÉS-1.sz.2.a.sz.2.b.sz.
A1: Költségvetési rendelet űrlapjainak összefüggései: | E1: ELTÉRÉS
A4: =+ÖSSZEFÜGGÉSEK!A5 -> 2021 évi előirányzat BEVÉTELEK
A6: 1.1. sz. melléklet Bevételek táblázat C. oszlop 9 sora = | B6: =+'1.1.sz.mell.'!C62 -> 301340058 | C6: 2.1. számú melléklet C. oszlop 13. sor + 2.2. számú melléklet C. oszlop 12. sor | D6: =+'2.1.sz.mell '!C18+'2.2.sz.mell '!C17 -> 301340058 | E6: =+B6-D6 -> 0
A7: 1.1. sz. melléklet Bevételek táblázat C. oszlop 17 sora = | B7: =+'1.1.sz.mell.'!C87 -> 32496710 | C7: 2.1. számú melléklet C. oszlop 24. sor + 2.2. számú melléklet C. oszlop 25. sor | D7: =+'2.1.sz.mell '!C29+'2.2.sz.mell '!C30 -> 32496710 | E7: =+B7-D7 -> 0
A8: 1.1. sz. melléklet Bevételek táblázat C. oszlop 18 sora = | B8: =+'1.1.sz.mell.'!C88 -> 333836768 | C8: 2.1. számú melléklet C. oszlop 25. sor + 2.2. számú melléklet C. oszlop 26. sor | D8: =+'2.1.sz.mell '!C30+'2.2.sz.mell '!C31 -> 333836768 | E8: =+B8-D8 -> 0
A11: =+ÖSSZEFÜGGÉSEK!A12 -> 2021. évi előirányzat KIADÁSOK
A13: 1.1. sz. melléklet Kiadások táblázat C. oszlop 3 sora = | B13: =+'1.1.sz.mell.'!C130 -> 333836768 | C13: 2.1. számú melléklet E. oszlop 13. sor + 2.2. számú melléklet E. oszlop 12. sor | D13: =+'2.1.sz.mell '!E18+'2.2.sz.mell '!E17 -> 333836768 | E13: =+B13-D13 -> 0
A14: 1.1. sz. melléklet Kiadások táblázat C. oszlop 10 sora = | B14: =+'1.1.sz.mell.'!C156 -> 0 | C14: 2.1. számú melléklet E. oszlop 24. sor + 2.2. számú melléklet E. oszlop 25. sor | D14: =+'2.1.sz.mell '!E29+'2.2.sz.mell '!E30 -> 0 | E14: =+B14-D14 -> 0
A15: 1.1. sz. melléklet Kiadások táblázat C. oszlop 11 sora = | B15: =+'1.1.sz.mell.'!C157 -> 333836768 | C15: 2.1. számú melléklet E. oszlop 25. sor + 2.2. számú melléklet E. oszlop 26. sor | D15: =+'2.1.sz.mell '!E30+'2.2.sz.mell '!E31 -> 333836768 | E15: =+B15-D15 -> 0

Sheet 3.sz.mell.  
A1: Hencida Község Önkormányzata adósságot keletkeztető ügyletekből és kezességvállalásokból fennálló kötelezettségei
E2: Forintban !
A3: Sor-szám | B3: MEGNEVEZÉS | C3: Évek | F3: Összesen (F=C+D+E)
C4: =+LEFT(ÖSSZEFÜGGÉSEK!A5,4)+1 -> 2022 | D4: =+C4+1 -> 2023 | E4: =+D4+1 -> 2024
A5: A | B5: B | C5: C | D5: D | E5: E | F5: F
A6: 1. | F6: =SUM(C6:E6) -> 0
A7: 2. | F7: =SUM(C7:E7) -> 0
A8: 3. | C8: NEMLEGES! | F8: =SUM(C8:E8) -> 0
A9: 4. | F9: =SUM(C9:E9) -> 0
A10: 5. | F10: =SUM(C10:E10) -> 0
A11: 6. | B11: ÖSSZES KÖTELEZETTSÉG | C11: =SUM(C6:C10) -> 0 | D11: =SUM(D6:D10) -> 0 | E11: =SUM(E6:E10) -> 0 | F11: =SUM(F6:F10) -> 0

Sheet 4.sz.mell.
A1: Hencida Község Önkormányzata saját bevételeinek részletezése az adósságot keletkeztető ügyletből származó tárgyévi fizetési kötelezettség megállapításához
C2: Forintban !
A3: Sor-szám | B3: Bevételi jogcímek | C3: =+'1.1.sz.mell.'!C3 -> 2021. évi eredeti előirányzat
A4: A | B4: B | C4: C
A5: 1. | B5: Helyi adóból és a települési adóból származó bevétel | C5: NEMLEGES
A6: 2. | B6: Az önkormányzati vagyon és az önkormányzatot megillető vagyoni értékű jog értékesítéséből és hasznosításából származó bevétel
A7: 3. | B7: Osztalék, koncessziós díj és hozambevétel
A8: 4. | B8: Tárgyi eszköz és az immateriális jószág, részvény, részesedés, vállalat értékesítéséből vagy privatizációból származó bevétel
A9: 5. | B9: Bírság-, pótlék- és díjbevétel
A10: 6. | B10: Kezesség-, illetve garanciavállalással kapcsolatos megtérülés
A11: SAJÁT BEVÉTELEK ÖSSZESEN* | C11: =SUM(C5:C10) -> 0
A12: *Az adósságot keletkeztető ügyletekhez történő hozzájárulás részletes szabályairól szóló 353/2011. (XII.31.) Korm. Rendelet 2.§ (1) bekezdése alapján.

Sheet 5.sz.mell.
A1: =+CONCATENATE("Hencida Község Önkotmányzata ",CONCATENATE(LEFT(ÖSSZEFÜGGÉSEK!A5,4),". évi adósságot keletkeztető fejlesztési céljai")) -> Hencida Község Önkotmányzata 2021. évi adósságot keletkeztető fejlesztési céljai
C2: Forintban !
A3: Sor-szám | B3: Fejlesztési cél leírása | C3: Fejlesztés várható kiadása
A4: A | B4: B | C4: C
A5: 1.
A6: 2. | B6: NEMLEGES!
A7: 3.
A8: 4. | B8: ADÓSSÁGOT KELETKEZTETŐ ÜGYLETEK VÁRHATÓ EGYÜTTES ÖSSZEGE | C8: =SUM(C5:C7) -> 0

Sheet 6.sz.mell.
A1: Beruházási (felhalmozási) kiadások előirányzata beruházásonként
F2: Forintban !
A3: Beruházás megnevezése | B3: Teljes költség | C3: Kivitelezés kezdési és befejezési éve | D3: =+CONCATENATE("Felhasználás ",LEFT(ÖSSZEFÜGGÉSEK!A5,4)-1,". XII. 31-ig") -> Felhasználás 2020. XII. 31-ig | E3: =+'1.1.sz.mell.'!C3 -> 2021. évi eredeti előirányzat | F3: =+CONCATENATE(LEFT(ÖSSZEFÜGGÉSEK!A5,4),". utáni szükséglet") -> 2021. utáni szükséglet
A4: A | B4: B | C4: C | D4: D | E4: E | F4: F=(B-D-E)
A5: Lap-top beszerzés (óvoda) | B5: 149606 | C5: 2021 | D5: 0 | E5: 149606 | F5: =B5-D5-E5 -> 0
A6: Ingatlan vásárlás (Lóudvar) | B6: 4999321 | C6: 2021 | E6: 4999321 | F6: =B6-D6-E6 -> 0
F7: =B7-D7-E7 -> 0
F8: =B8-D8-E8 -> 0
F9: =B9-D9-E9 -> 0
F10: =B10-D10-E10 -> 0
F11: =B11-D11-E11 -> 0
F12: =B12-D12-E12 -> 0
F13: =B13-D13-E13 -> 0
F14: =B14-D14-E14 -> 0
F15: =B15-D15-E15 -> 0
F16: =B16-D16-E16 -> 0
F17: =B17-D17-E17 -> 0
F18: =B18-D18-E18 -> 0
... F22: =B22-D22-E22 -> 0
A23: ÖSSZESEN: | B23: =SUM(B5:B22) -> 5148927 | D23: =SUM(D5:D22) -> 0 | E23: =SUM(E5:E22) -> 5148927 | F23: =SUM(F5:F22) -> 0

Sheet 7.sz.mell.
A1: Felújítási kiadások előirányzata felújításonként
F2: Forintban !
A3: Felújítás megnevezése | B3: Teljes költség | C3: Kivitelezés kezdési és befejezési éve | D3: =+'6.sz.mell.'!D3 -> Felhasználás 2020. XII. 31-ig | E3: =+'6.sz.mell.'!E3 -> 2021. évi eredeti előirányzat | F3: =+CONCATENATE(LEFT(ÖSSZEFÜGGÉSEK!A5,4),". utáni szükséglet ",CHAR(10),"(F=B - D - E)") -> 2021. utáni szükséglet (F=B - D - E)
A4: A | B4: B | C4: C | D4: D | E4: E | F4: F
A5: Óvoda tornaszoba | B5: 6790818 | C5: 2020-20021 | D5: 3250410 | E5: 3540408 | F5: =B5-D5-E5 -> 0
F6: =B6-D6-E6 -> 0
F7: =B7-D7-E7 -> 0
F8: =B8-D8-E8 -> 0
F9: =B9-D9-E9 -> 0
F10: =B10-D10-E10 -> 0
F11: =B11-D11-E11 -> 0
F12: =B12-D12-E12 -> 0
F13: =B13-D13-E13 -> 0
F14: =B14-D14-E14 -> 0
F15: =B15-D15-E15 -> 0
F16: =B16-D16-E16 -> 0
F17: =B17-D17-E17 -> 0
... F23: =B23-D23-E23 -> 0
A24: ÖSSZESEN: | B24: =SUM(B5:B23) -> 6790818 | D24: =SUM(D5:D23) -> 3250410 | E24: =SUM(E5:E23) -> 3540408 | F24: =SUM(F5:F23) -> 0

Sheet 8. sz. mell. 
A2: EU-s projekt neve, azonosítója:
D3: Forintban!
A4: Források | B4: =CONCATENATE((LEFT(ÖSSZEFÜGGÉSEK!A5,4)),".") -> 2021. | C4: =CONCATENATE((LEFT(ÖSSZEFÜGGÉSEK!A5,4))+1,".") -> 2022. | D4: =CONCATENATE((LEFT(ÖSSZEFÜGGÉSEK!A5,4))+1,". után") -> 2022. után | E4: Összesen
A5: Saját erő | B5: 0 | C5: 0 | D5: 0 | E5: =SUM(B5:D5) -> 0
A6: - saját erőből központi támogatás | E6: =SUM(B6:D6) -> 0
A7: EU-s forrás | E7: =SUM(B7:D7) -> 0
A8: Társfinanszírozás | E8: =SUM(B8:D8) -> 0
A9: Hitel | E9: =SUM(B9:D9) -> 0
A10: Egyéb forrás | E10: =SUM(B10:D10) -> 0
E11: =SUM(B11:D11) -> 0
A12: Források összesen: | B12: =B5+SUM(B7:B11) -> 0 | C12: =C5+SUM(C7:C11) -> 0 | D12: =D5+SUM(D7:D11) -> 0 | E12: =E5+SUM(E7:E11) -> 0
A14: Kiadások, költségek | B14: =+B4 -> 2021. | C14: =+C4 -> 2022. | D14: =+D4 -> 2022. után | E14: Összesen
A15: Személyi jellegű | B15: 0 | C15: 0 | D15: 0 | E15: =SUM(B15:D15) -> 0
A16: Beruházások, beszerzések | E16: =SUM(B16:D16) -> 0
A17: Szolgáltatások igénybe vétele | E17: =SUM(B17:D17) -> 0
A18: Adminisztratív költségek | E18: =SUM(B18:D18) -> 0
A19: Felújítás | E19: =SUM(B19:D19) -> 0
E20: =SUM(B20:D20) -> 0
E21: =SUM(B21:D21) -> 0
A22: Összesen: | B22: =SUM(B15:B21) -> 0 | C22: =SUM(C15:C21) -> 0 | D22: =SUM(D15:D21) -> 0 | E22: =SUM(E15:E21) -> 0
A25: EU-s projekt neve, azonosítója: | B25: NEMLEGES
D26: Forintban!
A27: Források | B27: =+B14 -> 2021. | C27: =+C14 -> 2022. | D27: =+D14 -> 2022. után | E27: Összesen
A28: Saját erő | E28: =SUM(B28:D28) -> 0
A29: - saját erőből központi támogatás | E29: =SUM(B29:D29) -> 0
A30: EU-s forrás | E30: =SUM(B30:D30) -> 0
A31: Társfinanszírozás | E31: =SUM(B31:D31) -> 0
A32: Hitel | E32: =SUM(B32:D32) -> 0
A33: Egyéb forrás | E33: =SUM(B33:D33) -> 0
E34: =SUM(B34:D34) -> 0
A35: Források összesen: | B35: =B28+SUM(B30:B34) -> 0 | C35: =C28+SUM(C30:C34) -> 0 | D35: =D28+SUM(D30:D34) -> 0 | E35: =E28+SUM(E30:E34) -> 0
A37: Kiadások, költségek | B37: =+B27 -> 2021. | C37: =+C27 -> 2022. | D37: =+D27 -> 2022. után | E37: Összesen
A38: Személyi jellegű | E38: =SUM(B38:D38) -> 0
A39: Beruházások, beszerzések | E39: =SUM(B39:D39) -> 0
A40: Szolgáltatások igénybe vétele | E40: =SUM(B40:D40) -> 0
A41: Adminisztratív költségek | E41: =SUM(B41:D41) -> 0
A42: Felújítás | E42: =SUM(B42:D42) -> 0
E43: =SUM(B43:D43) -> 0
E44: =SUM(B44:D44) -> 0
A45: Összesen: | B45: =SUM(B38:B44) -> 0 | C45: =SUM(C38:C44) -> 0 | D45: =SUM(D38:D44) -> 0 | E45: =SUM(E38:E44) -> 0
A47: =+CONCATENATE("Önkormányzaton kívüli EU-s projektekhez történő hozzájárulás ",LEFT(ÖSSZEFÜGGÉSEK!A5,4),". évi előirányzat") -> Önkormányzaton kívüli EU-s projektekhez történő hozzájárulás 2021. évi előirányzat
A49: Támogatott neve | D49: Hozzájárulás (E Ft)
A52: Összesen: | D52: =SUM(D50:E51) -> 0

Sheet 9.1. sz. mell
C1: =+CONCATENATE("9.1. melléklet a ../",LEFT(ÖSSZEFÜGGÉSEK!A5,4),". (……….) önkormányzati rendelethez") -> 9.1. melléklet a ../2021. (……….) önkormányzati rendelethez
A2: Megnevezés | B2: Hencida Község Önkormányzata összesen | C2: 01
A3: Feladat megnevezése | B3: Összes bevétel, kiadás | C3: 01
C4: Forintban !
A5: Száma | B5: Előirányzat-csoport, kiemelt előirányzat megnevezése | C5: Előirányzat
A6: A | B6: B | C6: C
B7: Bevételek
A8: 1. | B8: Önkormányzat működési támogatásai (1.1.+…+.1.6.) | C8: =+C9+C10+C11+C12+C13+C14 -> 174040585
A9: 1.1. | B9: Helyi önkormányzatok működésének általános támogatása | C9: 71105274
A10: 1.2. | B10: Önkormányzatok egyes köznevelési feladatainak támogatása | C10: 54780801
A11: 1.3. | B11: Önkormányzatok szociális és gyermekjóléti feladatainak támogatása | C11: 45544000
A12: 1.4. | B12: Önkormányzatok kulturális feladatainak támogatása | C12: 2610510
A13: 1.5. | B13: Működési célú kvi támogatások és kiegészítő támogatások | C13: ='1.1.sz.mell.'!C10 -> 0
A14: 1.6. | B14: Elszámolásból származó bevételek
A15: 2. | B15: Működési célú támogatások államháztartáson belülről (2.1.+…+.2.5.) | C15: =+C16+C17+C18+C19+C20 -> 0
A16: 2.1. | B16: Elvonások és befizetések bevételei
A17: 2.2. | B17: Működési célú garancia- és kezességvállalásból megtérülések
A18: 2.3. | B18: Működési célú visszatérítendő támogatások, kölcsönök visszatérülése
A19: 2.4. | B19: Működési célú visszatérítendő támogatások, kölcsönök igénybevétele
A20: 2.5. | B20: Egyéb működési célú támogatások bevételei | C20: ='1.1.sz.mell.'!C17 -> 0
A21: 2.6. | B21: 2.5.-ből EU-s támogatás
A22: 3. | B22: Felhalmozási célú támogatások államháztartáson belülről (3.1.+…+3.5.) | C22: =+C23+C24+C25+C26+C27 -> 0
A23: 3.1. | B23: Felhalmozási célú önkormányzati támogatások
A24: 3.2. | B24: Felhalmozási célú garancia- és kezességvállalásból megtérülések
A25: 3.3. | B25: Felhalmozási célú visszatérítendő támogatások, kölcsönök visszatérülése
A26: 3.4. | B26: Felhalmozási célú visszatérítendő támogatások, kölcsönök igénybevétele
A27: 3.5. | B27: Egyéb felhalmozási célú támogatások bevételei
A28: 3.6. | B28: 3.5.-ből EU-s támogatás
A29: 4. | B29: Közhatalmi bevételek (4.1.+4.2.+4.3.+4.4.) | C29: =+C30+C34+C35+C36 -> 10414500
A30: 4.1. | B30: Helyi adók (4.1.1.+…+4.1.3.) | C30: =C33 -> 10414500
A31: 4.1.1. | B31: - Vagyoni típusú adók
A32: 4.1.2. | B32: - Termékek és szolgáltatások adói
A33: 4.1.3. | B33: - Értékesítési és forgalmi adók (iparűzési adó) | C33: 10414500
A34: 4.2. | B34: Gépjárműadó
A35: 4.3. | B35: Egyéb áruhasználati és szolgáltatási adók
A36: 4.4. | B36: Egyéb közhatalmi bevételek
A37: 5. | B37: Működési bevételek (5.1.+…+ 5.11.) | C37: =SUM(C38:C48) -> 10209567
A38: 5.1. | B38: Készletértékesítés ellenértéke
A39: 5.2. | B39: Szolgáltatások ellenértéke (mezőőri) | C39: 7980000
A40: 5.3. | B40: Közvetített szolgáltatások értéke
A41: 5.4. | B41: Tulajdonosi bevételek (bérleti díjak) | C41: 1753990
A42: 5.5. | B42: Ellátási díjak
A43: 5.6. | B43: Kiszámlázott általános forgalmi adó | C43: 473577
A44: 5.7. | B44: Általános forgalmi adó visszatérítése
A45: 5.8. | B45: Kamatbevételek | C45: 2000
A46: 5.9. | B46: Egyéb pénzügyi műveletek bevételei
A47: 5.10. | B47: Biztosító által fizetett kártérítés
A48: 5.11. | B48: Egyéb működési bevételek
A49: 6. | B49: Felhalmozási bevételek (6.1.+…+6.5.) | C49: =SUM(C50:C54) -> 0
A50: 6.1. | B50: Immateriális javak értékesítése
A51: 6.2. | B51: Ingatlanok értékesítése
A52: 6.3. | B52: Egyéb tárgyi eszközök értékesítése
A53: 6.4. | B53: Részesedések értékesítése
A54: 6.5. | B54: Részesedések megszűnéséhez kapcsolódó bevételek
A55: 7. | B55: Működési célú átvett pénzeszközök (7.1. + … + 7.3.) | C55: =SUM(C56:C58) -> 87553792
A56: 7.1. | B56: Működési célú garancia- és kezességvállalásból megtérülések ÁH-n kívülről
A57: 7.2. | B57: Működési célú visszatérítendő támogatások, kölcsönök visszatér. ÁH-n kívülről
A58: 7.3. | B58: Egyéb működési célú átvett pénzeszköz | C58: 87553792
A59: 7.4. | B59: 7.3.-ból EU-s támogatás (közvetlen)
A60: 8. | B60: Felhalmozási célú átvett pénzeszközök (8.1.+8.2.+8.3.) | C60: =SUM(C61:C63) -> 0
A61: 8.1. | B61: Felhalm. célú garancia- és kezességvállalásból megtérülések ÁH-n kívülről
A62: 8.2. | B62: Felhalm. célú visszatérítendő támogatások, kölcsönök visszatér. ÁH-n kívülről
A63: 8.3. | B63: Egyéb felhalmozási célú átvett pénzeszköz
A64: 8.4. | B64: 8.3.-ból EU-s támogatás (közvetlen)
A65: 9. | B65: KÖLTSÉGVETÉSI BEVÉTELEK ÖSSZESEN: (1+…+8) | C65: =+C8+C15+C22+C29+C37+C49+C55+C60 -> 282218444
A66: 10. | B66: Hitel-, kölcsönfelvétel államháztartáson kívülről (10.1.+10.3.) | C66: =SUM(C67:C69) -> 0
A67: 10.1. | B67: Hosszú lejáratú hitelek, kölcsönök felvétele
A68: 10.2. | B68: Likviditási célú hitelek, kölcsönök felvétele pénzügyi vállalkozástól
A69: 10.3. | B69: Rövid lejáratú hitelek, kölcsönök felvétele
A70: 11. | B70: Belföldi értékpapírok bevételei (11.1. +…+ 11.4.) | C70: =SUM(C71:C74) -> 0
A71: 11.1. | B71: Forgatási célú belföldi értékpapírok beváltása, értékesítése
A72: 11.2. | B72: Forgatási célú belföldi értékpapírok kibocsátása
A73: 11.3. | B73: Befektetési célú belföldi értékpapírok beváltása, értékesítése
A74: 11.4. | B74: Befektetési célú belföldi értékpapírok kibocsátása
A75: 12. | B75: Maradvány igénybevétele (12.1. + 12.2.) | C75: =SUM(C76:C77) -> 32310868
A76: 12.1. | B76: Előző év költségvetési maradványának igénybevétele | C76: 32310868
A77: 12.2. | B77: Előző év vállalkozási maradványának igénybevétele
A78: 13. | B78: Belföldi finanszírozás bevételei (13.1. + … + 13.3.) | C78: =SUM(C79:C82) -> 0
A79: 13.1. | B79: Államháztartáson belüli megelőlegezések
A80: 13.2. | B80: Államháztartáson belüli megelőlegezések törlesztése
A81: 13.3. | B81: Központi, irányító szervi támogatás (óvoda)
A82: 13.4. | B82: Betétek megszüntetése
A83: 14. | B83: Külföldi finanszírozás bevételei (14.1.+…14.4.) | C83: =SUM(C84:C87) -> 0
A84: 14.1. | B84: Forgatási célú külföldi értékpapírok beváltása, értékesítése
A85: 14.2. | B85: Befektetési célú külföldi értékpapírok beváltása, értékesítése
A86: 14.3. | B86: Külföldi értékpapírok kibocsátása
A87: 14.4. | B87: Külföldi hitelek, kölcsönök felvétele
A88: 15. | B88: Váltóbevételek
A89: 16. | B89: Adóssághoz nem kapcsolódó származékos ügyletek bevételei
A90: 17. | B90: FINANSZÍROZÁSI BEVÉTELEK ÖSSZESEN: (10. + … +16.) | C90: =+C66+C70+C75+C78+C83+C89+C88 -> 32310868
A91: 18. | B91: BEVÉTELEK ÖSSZESEN: (9+17) | C91: =+C65+C90 -> 314529312
B93: Kiadások
A94: 1. | B94: Működési költségvetés kiadásai (1.1+…+1.5+1.18.) | C94: =+C95+C96+C97+C98+C99+C112 -> 201339667
A95: 1.1. | B95: Személyi juttatások | C95: 82808133
A96: 1.2. | B96: Munkaadókat terhelő járulékok és szociális hozzájárulási adó | C96: 8934396
A97: 1.3. | B97: Dologi kiadások | C97: 62700774
A98: 1.4. | B98: Ellátottak pénzbeli juttatásai | C98: 36599000
A99: 1.5 | B99: Egyéb működési célú kiadások | C99: 10297364
A100: 1.6. | B100: az 1.5-ből: - Előző évi elszámolásból származó befizetések
A101: 1.7. | B101: - Törvényi előíráson alapuló befizetések
...

Sheet 9.1.1. sz. mell 
C1: =+CONCATENATE("9.1.1. melléklet a ../",LEFT(ÖSSZEFÜGGÉSEK!A5,4),". (……….) önkormányzati rendelethez") -> 9.1.1. melléklet a ../2021. (……….) önkormányzati rendelethez
A2: Megnevezés | B2: Hencida Község Önkormányzata összesen | C2: 01
A3: Feladat megnevezése | B3: Kötelező feladatok bevétel, kiadás | C3: 01
C4: Forintban !
A5: Száma | B5: Előirányzat-csoport, kiemelt előirányzat megnevezése | C5: Előirányzat
A6: A | B6: B | C6: C
B7: Bevételek
A8: 1. | B8: Önkormányzat működési támogatásai (1.1.+…+.1.6.) | C8: =+C9+C10+C11+C12+C13+C14 -> 174040585
A9: 1.1. | B9: Helyi önkormányzatok működésének általános támogatása | C9: ='9.1. sz. mell'!C9 -> 71105274
A10: 1.2. | B10: Önkormányzatok egyes köznevelési feladatainak támogatása | C10: ='9.1. sz. mell'!C10 -> 54780801
A11: 1.3. | B11: Önkormányzatok szociális és gyermekjóléti feladatainak támogatása | C11: ='9.1. sz. mell'!C11 -> 45544000
A12: 1.4. | B12: Önkormányzatok kulturális feladatainak támogatása | C12: ='9.1. sz. mell'!C12 -> 2610510
A13: 1.5. | B13: Működési célú kvi támogatások és kiegészítő támogatások | C13: ='9.1. sz. mell'!C13 -> 0
A14: 1.6. | B14: Elszámolásból származó bevételek | C14: ='9.1. sz. mell'!C14 -> 0
A15: 2. | B15: Működési célú támogatások államháztartáson belülről (2.1.+…+.2.5.) | C15: =+C16+C17+C18+C19+C20 -> 0
A16: 2.1. | B16: Elvonások és befizetések bevételei
A17: 2.2. | B17: Működési célú garancia- és kezességvállalásból megtérülések
A18: 2.3. | B18: Működési célú visszatérítendő támogatások, kölcsönök visszatérülése
A19: 2.4. | B19: Működési célú visszatérítendő támogatások, kölcsönök igénybevétele
A20: 2.5. | B20: Egyéb működési célú támogatások bevételei | C20: ='9.1. sz. mell'!C20 -> 0
A21: 2.6. | B21: 2.5.-ből EU-s támogatás
A22: 3. | B22: Felhalmozási célú támogatások államháztartáson belülről (3.1.+…+3.5.) | C22: =+C23+C24+C25+C26+C27 -> 0
A23: 3.1. | B23: Felhalmozási célú önkormányzati támogatások
A24: 3.2. | B24: Felhalmozási célú garancia- és kezességvállalásból megtérülések
A25: 3.3. | B25: Felhalmozási célú visszatérítendő támogatások, kölcsönök visszatérülése
A26: 3.4. | B26: Felhalmozási célú visszatérítendő támogatások, kölcsönök igénybevétele
A27: 3.5. | B27: Egyéb felhalmozási célú támogatások bevételei
A28: 3.6. | B28: 3.5.-ből EU-s támogatás
A29: 4. | B29: Közhatalmi bevételek (4.1.+4.2.+4.3.+4.4.) | C29: =+C30+C34+C35+C36 -> 10414500
A30: 4.1. | B30: Helyi adók (4.1.1.+…+4.1.3.) | C30: =C33 -> 10414500
A31: 4.1.1. | B31: - Vagyoni típusú adók
A32: 4.1.2. | B32: - Termékek és szolgáltatások adói
A33: 4.1.3. | B33: - Értékesítési és forgalmi adók (iparűzési adó) | C33: ='9.1. sz. mell'!C33 -> 10414500
A34: 4.2. | B34: Gépjárműadó | C34: ='9.1. sz. mell'!C34 -> 0
A35: 4.3. | B35: Egyéb áruhasználati és szolgáltatási adók
A36: 4.4. | B36: Egyéb közhatalmi bevételek
A37: 5. | B37: Működési bevételek (5.1.+…+ 5.11.) | C37: =SUM(C38:C48) -> 10209567
A38: 5.1. | B38: Készletértékesítés ellenértéke
A39: 5.2. | B39: Szolgáltatások ellenértéke (mezőőri) | C39: ='9.1. sz. mell'!C39 -> 7980000
A40: 5.3. | B40: Közvetített szolgáltatások értéke
A41: 5.4. | B41: Tulajdonosi bevételek (bérleti díjak) | C41: ='9.1. sz. mell'!C41 -> 1753990
A42: 5.5. | B42: Ellátási díjak | C42: ='9.1. sz. mell'!C42 -> 0
A43: 5.6. | B43: Kiszámlázott általános forgalmi adó | C43: ='9.1. sz. mell'!C43 -> 473577
A44: 5.7. | B44: Általános forgalmi adó visszatérítése
A45: 5.8. | B45: Kamatbevételek | C45: ='9.1. sz. mell'!C45 -> 2000
A46: 5.9. | B46: Egyéb pénzügyi műveletek bevételei
A47: 5.10. | B47: Biztosító által fizetett kártérítés
A48: 5.11. | B48: Egyéb működési bevételek
A49: 6. | B49: Felhalmozási bevételek (6.1.+…+6.5.) | C49: =SUM(C50:C54) -> 0
A50: 6.1. | B50: Immateriális javak értékesítése
A51: 6.2. | B51: Ingatlanok értékesítése
A52: 6.3. | B52: Egyéb tárgyi eszközök értékesítése
A53: 6.4. | B53: Részesedések értékesítése
A54: 6.5. | B54: Részesedések megszűnéséhez kapcsolódó bevételek
A55: 7. | B55: Működési célú átvett pénzeszközök (7.1. + … + 7.3.) | C55: =SUM(C56:C58) -> 87553792
A56: 7.1. | B56: Működési célú garancia- és kezességvállalásból megtérülések ÁH-n kívülről
A57: 7.2. | B57: Működési célú visszatérítendő támogatások, kölcsönök visszatér. ÁH-n kívülről
A58: 7.3. | B58: Egyéb működési célú átvett pénzeszköz | C58: ='9.1. sz. mell'!C58 -> 87553792
A59: 7.4. | B59: 7.3.-ból EU-s támogatás (közvetlen)
A60: 8. | B60: Felhalmozási célú átvett pénzeszközök (8.1.+8.2.+8.3.) | C60: =SUM(C61:C63) -> 0
A61: 8.1. | B61: Felhalm. célú garancia- és kezességvállalásból megtérülések ÁH-n kívülről
A62: 8.2. | B62: Felhalm. célú visszatérítendő támogatások, kölcsönök visszatér. ÁH-n kívülről
A63: 8.3. | B63: Egyéb felhalmozási célú átvett pénzeszköz | C63: ='9.1. sz. mell'!C63 -> 0
A64: 8.4. | B64: 8.3.-ból EU-s támogatás (közvetlen)
A65: 9. | B65: KÖLTSÉGVETÉSI BEVÉTELEK ÖSSZESEN: (1+…+8) | C65: =+C8+C15+C22+C29+C37+C49+C55+C60 -> 282218444
A66: 10. | B66: Hitel-, kölcsönfelvétel államháztartáson kívülről (10.1.+10.3.) | C66: =SUM(C67:C69) -> 0
A67: 10.1. | B67: Hosszú lejáratú hitelek, kölcsönök felvétele
A68: 10.2. | B68: Likviditási célú hitelek, kölcsönök felvétele pénzügyi vállalkozástól
A69: 10.3. | B69: Rövid lejáratú hitelek, kölcsönök felvétele
A70: 11. | B70: Belföldi értékpapírok bevételei (11.1. +…+ 11.4.) | C70: =SUM(C71:C74) -> 0
A71: 11.1. | B71: Forgatási célú belföldi értékpapírok beváltása, értékesítése
A72: 11.2. | B72: Forgatási célú belföldi értékpapírok kibocsátása
A73: 11.3. | B73: Befektetési célú belföldi értékpapírok beváltása, értékesítése
A74: 11.4. | B74: Befektetési célú belföldi értékpapírok kibocsátása
A75: 12. | B75: Maradvány igénybevétele (12.1. + 12.2.) | C75: =SUM(C76:C77) -> 32310868
A76: 12.1. | B76: Előző év költségvetési maradványának igénybevétele | C76: ='9.1. sz. mell'!C76 -> 32310868
A77: 12.2. | B77: Előző év vállalkozási maradványának igénybevétele
A78: 13. | B78: Belföldi finanszírozás bevételei (13.1. + … + 13.3.) | C78: =SUM(C79:C82) -> 0
A79: 13.1. | B79: Államháztartáson belüli megelőlegezések
A80: 13.2. | B80: Államháztartáson belüli megelőlegezések törlesztése
A81: 13.3. | B81: Központi, irányító szervi támogatás (óvoda)
A82: 13.4. | B82: Betétek megszüntetése
A83: 14. | B83: Külföldi finanszírozás bevételei (14.1.+…14.4.) | C83: =SUM(C84:C87) -> 0
A84: 14.1. | B84: Forgatási célú külföldi értékpapírok beváltása, értékesítése
A85: 14.2. | B85: Befektetési célú külföldi értékpapírok beváltása, értékesítése
A86: 14.3. | B86: Külföldi értékpapírok kibocsátása
A87: 14.4. | B87: Külföldi hitelek, kölcsönök felvétele
A88: 15. | B88: Váltóbevételek
A89: 16. | B89: Adóssághoz nem kapcsolódó származékos ügyletek bevételei
A90: 17. | B90: FINANSZÍROZÁSI BEVÉTELEK ÖSSZESEN: (10. + … +16.) | C90: =+C66+C70+C75+C78+C83+C89+C88 -> 32310868
A91: 18. | B91: BEVÉTELEK ÖSSZESEN: (9+17) | C91: =+C65+C90 -> 314529312
B93: Kiadások
A94: 1. | B94: Működési költségvetés kiadásai (1.1+…+1.5+1.18.) | C94: =+C95+C96+C97+C98+C99+C112 -> 201339667
A95: 1.1. | B95: Személyi juttatások | C95: ='9.1. sz. mell'!C95 -> 82808133
A96: 1.2. | B96: Munkaadókat terhelő járulékok és szociális hozzájárulási adó | C96: ='9.1. sz. mell'!C96 -> 8934396
A97: 1.3. | B97: Dologi kiadások | C97: ='9.1. sz. mell'!C97 -> 62700774
A98: 1.4. | B98: Ellátottak pénzbeli juttatásai | C98: ='9.1. sz. mell'!C98 -> 36599000
A99: 1.5 | B99: Egyéb működési célú kiadások | C99: ='9.1. sz. mell'!C99 -> 10297364
A100: 1.6. | B100: az 1.5-ből: - Előző évi elszámolásból származó befizetések | C100: ='9.1. sz. mell'!C100 -> 0
A101: 1.7. | B101: - Törvényi előíráson alapuló befizetések | C101: ='9.1. sz. mell'!C101 -> 0
...

Sheet 9.2. sz. mell 
C1: =+CONCATENATE("9.2. melléklet a ../",LEFT(ÖSSZEFÜGGÉSEK!A5,4),". (……….) önkormányzati rendelethez") -> 9.2. melléklet a ../2021. (……….) önkormányzati rendelethez
A2: Megnevezés | B2: Hencidai Közös Önkormányzati Hivatal | C2: 01
A3: Feladat megnevezése | B3: Összes bevétel, kiadás | C3: 01
C4: Forintban !
A5: Száma | B5: Előirányzat-csoport, kiemelt előirányzat megnevezése | C5: Előirányzat
A6: A | B6: B | C6: C
B7: Bevételek
A8: 1. | B8: Önkormányzat működési támogatásai (1.1.+…+.1.6.) | C8: =+C9+C10+C11+C12+C13+C14 -> 0
A9: 1.1. | B9: Helyi önkormányzatok működésének általános támogatása
A10: 1.2. | B10: Önkormányzatok egyes köznevelési feladatainak támogatása
A11: 1.3. | B11: Önkormányzatok szociális és gyermekjóléti feladatainak támogatása
A12: 1.4. | B12: Önkormányzatok kulturális feladatainak támogatása
A13: 1.5. | B13: Működési célú kvi támogatások és kiegészítő támogatások
A14: 1.6. | B14: Elszámolásból származó bevételek
A15: 2. | B15: Működési célú támogatások államháztartáson belülről (2.1.+…+.2.5.) | C15: =+C16+C17+C18+C19+C20 -> 0
A16: 2.1. | B16: Elvonások és befizetések bevételei
A17: 2.2. | B17: Működési célú garancia- és kezességvállalásból megtérülések
A18: 2.3. | B18: Működési célú visszatérítendő támogatások, kölcsönök visszatérülése
A19: 2.4. | B19: Működési célú visszatérítendő támogatások, kölcsönök igénybevétele
A20: 2.5. | B20: Egyéb működési célú támogatások bevételei | C20: ='1.1.sz.mell.'!C17 -> 0
A21: 2.6. | B21: 2.5.-ből EU-s támogatás
A22: 3. | B22: Felhalmozási célú támogatások államháztartáson belülről (3.1.+…+3.5.) | C22: =+C23+C24+C25+C26+C27 -> 0
A23: 3.1. | B23: Felhalmozási célú önkormányzati támogatások
A24: 3.2. | B24: Felhalmozási célú garancia- és kezességvállalásból megtérülések
A25: 3.3. | B25: Felhalmozási célú visszatérítendő támogatások, kölcsönök visszatérülése
A26: 3.4. | B26: Felhalmozási célú visszatérítendő támogatások, kölcsönök igénybevétele
A27: 3.5. | B27: Egyéb felhalmozási célú támogatások bevételei
A28: 3.6. | B28: 3.5.-ből EU-s támogatás
A29: 4. | B29: Közhatalmi bevételek (4.1.+4.2.+4.3.+4.4.) | C29: =+C30+C34+C35+C36 -> 0
A30: 4.1. | B30: Helyi adók (4.1.1.+…+4.1.3.)
A31: 4.1.1. | B31: - Vagyoni típusú adók
A32: 4.1.2. | B32: - Termékek és szolgáltatások adói
A33: 4.1.3. | B33: - Értékesítési és forgalmi adók (iparűzési adó)
A34: 4.2. | B34: Gépjárműadó
A35: 4.3. | B35: Egyéb áruhasználati és szolgáltatási adók
A36: 4.4. | B36: Egyéb közhatalmi bevételek
A37: 5. | B37: Működési bevételek (5.1.+…+ 5.11.) | C37: =SUM(C38:C48) -> 0
A38: 5.1. | B38: Készletértékesítés ellenértéke
A39: 5.2. | B39: Szolgáltatások ellenértéke
A40: 5.3. | B40: Közvetített szolgáltatások értéke
A41: 5.4. | B41: Tulajdonosi bevételek
A42: 5.5. | B42: Ellátási díjak
A43: 5.6. | B43: Kiszámlázott általános forgalmi adó
A44: 5.7. | B44: Általános forgalmi adó visszatérítése
A45: 5.8. | B45: Kamatbevételek
A46: 5.9. | B46: Egyéb pénzügyi műveletek bevételei
A47: 5.10. | B47: Biztosító által fizetett kártérítés
A48: 5.11. | B48: Egyéb működési bevételek
A49: 6. | B49: Felhalmozási bevételek (6.1.+…+6.5.) | C49: =SUM(C50:C54) -> 0
A50: 6.1. | B50: Immateriális javak értékesítése
A51: 6.2. | B51: Ingatlanok értékesítése
A52: 6.3. | B52: Egyéb tárgyi eszközök értékesítése
A53: 6.4. | B53: Részesedések értékesítése
A54: 6.5. | B54: Részesedések megszűnéséhez kapcsolódó bevételek
A55: 7. | B55: Működési célú átvett pénzeszközök (7.1. + … + 7.3.) | C55: =SUM(C56:C58) -> 4691364
A56: 7.1. | B56: Működési célú garancia- és kezességvállalásból megtérülések ÁH-n kívülről
A57: 7.2. | B57: Működési célú visszatérítendő támogatások, kölcsönök visszatér. ÁH-n kívülről
A58: 7.3. | B58: Egyéb működési célú átvett pénzeszköz | C58: 4691364
A59: 7.4. | B59: 7.3.-ból EU-s támogatás (közvetlen)
A60: 8. | B60: Felhalmozási célú átvett pénzeszközök (8.1.+8.2.+8.3.) | C60: =SUM(C61:C63) -> 0
A61: 8.1. | B61: Felhalm. célú garancia- és kezességvállalásból megtérülések ÁH-n kívülről
A62: 8.2. | B62: Felhalm. célú visszatérítendő támogatások, kölcsönök visszatér. ÁH-n kívülről
A63: 8.3. | B63: Egyéb felhalmozási célú átvett pénzeszköz
A64: 8.4. | B64: 8.3.-ból EU-s támogatás (közvetlen)
A65: 9. | B65: KÖLTSÉGVETÉSI BEVÉTELEK ÖSSZESEN: (1+…+8) | C65: =+C8+C15+C22+C29+C37+C49+C55+C60 -> 4691364
A66: 10. | B66: Hitel-, kölcsönfelvétel államháztartáson kívülről (10.1.+10.3.) | C66: =SUM(C67:C69) -> 0
A67: 10.1. | B67: Hosszú lejáratú hitelek, kölcsönök felvétele
A68: 10.2. | B68: Likviditási célú hitelek, kölcsönök felvétele pénzügyi vállalkozástól
A69: 10.3. | B69: Rövid lejáratú hitelek, kölcsönök felvétele
A70: 11. | B70: Belföldi értékpapírok bevételei (11.1. +…+ 11.4.) | C70: =SUM(C71:C74) -> 0
A71: 11.1. | B71: Forgatási célú belföldi értékpapírok beváltása, értékesítése
A72: 11.2. | B72: Forgatási célú belföldi értékpapírok kibocsátása
A73: 11.3. | B73: Befektetési célú belföldi értékpapírok beváltása, értékesítése
A74: 11.4. | B74: Befektetési célú belföldi értékpapírok kibocsátása
A75: 12. | B75: Maradvány igénybevétele (12.1. + 12.2.) | C75: =SUM(C76:C77) -> 92921
A76: 12.1. | B76: Előző év költségvetési maradványának igénybevétele | C76: 92921
A77: 12.2. | B77: Előző év vállalkozási maradványának igénybevétele
A78: 13. | B78: Belföldi finanszírozás bevételei (13.1. + … + 13.3.) | C78: =SUM(C79:C82) -> 49869115
A79: 13.1. | B79: Államháztartáson belüli megelőlegezések
A80: 13.2. | B80: Államháztartáson belüli megelőlegezések törlesztése
A81: 13.3. | B81: Központi, irányító szervi támogatás | C81: 49869115
A82: 13.4. | B82: Betétek megszüntetése
A83: 14. | B83: Külföldi finanszírozás bevételei (14.1.+…14.4.) | C83: =SUM(C84:C87) -> 0
A84: 14.1. | B84: Forgatási célú külföldi értékpapírok beváltása, értékesítése
A85: 14.2. | B85: Befektetési célú külföldi értékpapírok beváltása, értékesítése
A86: 14.3. | B86: Külföldi értékpapírok kibocsátása
A87: 14.4. | B87: Külföldi hitelek, kölcsönök felvétele
A88: 15. | B88: Váltóbevételek
A89: 16. | B89: Adóssághoz nem kapcsolódó származékos ügyletek bevételei
A90: 17. | B90: FINANSZÍROZÁSI BEVÉTELEK ÖSSZESEN: (10. + … +16.) | C90: =+C66+C70+C75+C78+C83+C89+C88 -> 49962036
A91: 18. | B91: BEVÉTELEK ÖSSZESEN: (9+17) | C91: =+C65+C90 -> 54653400
B93: Kiadások
A94: 1. | B94: Működési költségvetés kiadásai (1.1+…+1.5+1.18.) | C94: =+C95+C96+C97+C98+C99+C112 -> 54653400
A95: 1.1. | B95: Személyi juttatások | C95: 40640872
A96: 1.2. | B96: Munkaadókat terhelő járulékok és szociális hozzájárulási adó | C96: 6675108
A97: 1.3. | B97: Dologi kiadások | C97: 7337420
A98: 1.4. | B98: Ellátottak pénzbeli juttatásai
A99: 1.5 | B99: Egyéb működési célú kiadások
A100: 1.6. | B100: az 1.5-ből: - Előző évi elszámolásból származó befizetések
A101: 1.7. | B101: - Törvényi előíráson alapuló befizetések
...

Sheet 9.2.1. sz. mell 
C1: =+CONCATENATE("9.2.1. melléklet a ../",LEFT(ÖSSZEFÜGGÉSEK!A5,4),". (……….) önkormányzati rendelethez") -> 9.2.1. melléklet a ../2021. (……….) önkormányzati rendelethez
A2: Megnevezés | B2: Hencidai Közös Önkormányzati Hivatal | C2: 01
A3: Feladat megnevezése | B3: Kötelező feladatok bevétel, kiadás | C3: 01
C4: Forintban !
A5: Száma | B5: Előirányzat-csoport, kiemelt előirányzat megnevezése | C5: Előirányzat
A6: A | B6: B | C6: C
B7: Bevételek
A8: 1. | B8: Önkormányzat működési támogatásai (1.1.+…+.1.6.) | C8: =+C9+C10+C11+C12+C13+C14 -> 0
A9: 1.1. | B9: Helyi önkormányzatok működésének általános támogatása | C9: ='9.2. sz. mell'!C9 -> 0
A10: 1.2. | B10: Önkormányzatok egyes köznevelési feladatainak támogatása
A11: 1.3. | B11: Önkormányzatok szociális és gyermekjóléti feladatainak támogatása
A12: 1.4. | B12: Önkormányzatok kulturális feladatainak támogatása
A13: 1.5. | B13: Működési célú kvi támogatások és kiegészítő támogatások
A14: 1.6. | B14: Elszámolásból származó bevételek | C14: ='9.1. sz. mell'!C14 -> 0
A15: 2. | B15: Működési célú támogatások államháztartáson belülről (2.1.+…+.2.5.) | C15: =+C16+C17+C18+C19+C20 -> 0
A16: 2.1. | B16: Elvonások és befizetések bevételei
A17: 2.2. | B17: Működési célú garancia- és kezességvállalásból megtérülések
A18: 2.3. | B18: Működési célú visszatérítendő támogatások, kölcsönök visszatérülése
A19: 2.4. | B19: Működési célú visszatérítendő támogatások, kölcsönök igénybevétele
A20: 2.5. | B20: Egyéb működési célú támogatások bevételei | C20: ='9.1. sz. mell'!C20 -> 0
A21: 2.6. | B21: 2.5.-ből EU-s támogatás
A22: 3. | B22: Felhalmozási célú támogatások államháztartáson belülről (3.1.+…+3.5.) | C22: =+C23+C24+C25+C26+C27 -> 0
A23: 3.1. | B23: Felhalmozási célú önkormányzati támogatások
A24: 3.2. | B24: Felhalmozási célú garancia- és kezességvállalásból megtérülések
A25: 3.3. | B25: Felhalmozási célú visszatérítendő támogatások, kölcsönök visszatérülése
A26: 3.4. | B26: Felhalmozási célú visszatérítendő támogatások, kölcsönök igénybevétele
A27: 3.5. | B27: Egyéb felhalmozási célú támogatások bevételei
A28: 3.6. | B28: 3.5.-ből EU-s támogatás
A29: 4. | B29: Közhatalmi bevételek (4.1.+4.2.+4.3.+4.4.) | C29: =+C30+C34+C35+C36 -> 0
A30: 4.1. | B30: Helyi adók (4.1.1.+…+4.1.3.)
A31: 4.1.1. | B31: - Vagyoni típusú adók
A32: 4.1.2. | B32: - Termékek és szolgáltatások adói
A33: 4.1.3. | B33: - Értékesítési és forgalmi adók (iparűzési adó)
A34: 4.2. | B34: Gépjárműadó
A35: 4.3. | B35: Egyéb áruhasználati és szolgáltatási adók
A36: 4.4. | B36: Egyéb közhatalmi bevételek
A37: 5. | B37: Működési bevételek (5.1.+…+ 5.11.) | C37: =SUM(C38:C48) -> 0
A38: 5.1. | B38: Készletértékesítés ellenértéke
A39: 5.2. | B39: Szolgáltatások ellenértéke
A40: 5.3. | B40: Közvetített szolgáltatások értéke
A41: 5.4. | B41: Tulajdonosi bevételek
A42: 5.5. | B42: Ellátási díjak | C42: ='9.1. sz. mell'!C42 -> 0
A43: 5.6. | B43: Kiszámlázott általános forgalmi adó
A44: 5.7. | B44: Általános forgalmi adó visszatérítése
A45: 5.8. | B45: Kamatbevételek
A46: 5.9. | B46: Egyéb pénzügyi műveletek bevételei
A47: 5.10. | B47: Biztosító által fizetett kártérítés
A48: 5.11. | B48: Egyéb működési bevételek
A49: 6. | B49: Felhalmozási bevételek (6.1.+…+6.5.) | C49: =SUM(C50:C54) -> 0
A50: 6.1. | B50: Immateriális javak értékesítése
A51: 6.2. | B51: Ingatlanok értékesítése
A52: 6.3. | B52: Egyéb tárgyi eszközök értékesítése
A53: 6.4. | B53: Részesedések értékesítése
A54: 6.5. | B54: Részesedések megszűnéséhez kapcsolódó bevételek
A55: 7. | B55: Működési célú átvett pénzeszközök (7.1. + … + 7.3.) | C55: =SUM(C56:C58) -> 4691364
A56: 7.1. | B56: Működési célú garancia- és kezességvállalásból megtérülések ÁH-n kívülről
A57: 7.2. | B57: Működési célú visszatérítendő támogatások, kölcsönök visszatér. ÁH-n kívülről
A58: 7.3. | B58: Egyéb működési célú átvett pénzeszköz | C58: ='9.2. sz. mell '!C58 -> 4691364
A59: 7.4. | B59: 7.3.-ból EU-s támogatás (közvetlen)
A60: 8. | B60: Felhalmozási célú átvett pénzeszközök (8.1.+8.2.+8.3.) | C60: =SUM(C61:C63) -> 0
A61: 8.1. | B61: Felhalm. célú garancia- és kezességvállalásból megtérülések ÁH-n kívülről
A62: 8.2. | B62: Felhalm. célú visszatérítendő támogatások, kölcsönök visszatér. ÁH-n kívülről
A63: 8.3. | B63: Egyéb felhalmozási célú átvett pénzeszköz
A64: 8.4. | B64: 8.3.-ból EU-s támogatás (közvetlen)
A65: 9. | B65: KÖLTSÉGVETÉSI BEVÉTELEK ÖSSZESEN: (1+…+8) | C65: =+C8+C15+C22+C29+C37+C49+C55+C60 -> 4691364
A66: 10. | B66: Hitel-, kölcsönfelvétel államháztartáson kívülről (10.1.+10.3.) | C66: =SUM(C67:C69) -> 0
A67: 10.1. | B67: Hosszú lejáratú hitelek, kölcsönök felvétele
A68: 10.2. | B68: Likviditási célú hitelek, kölcsönök felvétele pénzügyi vállalkozástól
A69: 10.3. | B69: Rövid lejáratú hitelek, kölcsönök felvétele
A70: 11. | B70: Belföldi értékpapírok bevételei (11.1. +…+ 11.4.) | C70: =SUM(C71:C74) -> 0
A71: 11.1. | B71: Forgatási célú belföldi értékpapírok beváltása, értékesítése
A72: 11.2. | B72: Forgatási célú belföldi értékpapírok kibocsátása
A73: 11.3. | B73: Befektetési célú belföldi értékpapírok beváltása, értékesítése
A74: 11.4. | B74: Befektetési célú belföldi értékpapírok kibocsátása
A75: 12. | B75: Maradvány igénybevétele (12.1. + 12.2.) | C75: =SUM(C76:C77) -> 92921
A76: 12.1. | B76: Előző év költségvetési maradványának igénybevétele | C76: ='9.2. sz. mell '!C76 -> 92921
A77: 12.2. | B77: Előző év vállalkozási maradványának igénybevétele
A78: 13. | B78: Belföldi finanszírozás bevételei (13.1. + … + 13.3.) | C78: =SUM(C79:C82) -> 49869115
A79: 13.1. | B79: Államháztartáson belüli megelőlegezések
A80: 13.2. | B80: Államháztartáson belüli megelőlegezések törlesztése
A81: 13.3. | B81: Központi, irányító szervi támogatás | C81: ='9.2. sz. mell '!C81 -> 49869115
A82: 13.4. | B82: Betétek megszüntetése
A83: 14. | B83: Külföldi finanszírozás bevételei (14.1.+…14.4.) | C83: =SUM(C84:C87) -> 0
A84: 14.1. | B84: Forgatási célú külföldi értékpapírok beváltása, értékesítése
A85: 14.2. | B85: Befektetési célú külföldi értékpapírok beváltása, értékesítése
A86: 14.3. | B86: Külföldi értékpapírok kibocsátása
A87: 14.4. | B87: Külföldi hitelek, kölcsönök felvétele
A88: 15. | B88: Váltóbevételek
A89: 16. | B89: Adóssághoz nem kapcsolódó származékos ügyletek bevételei
A90: 17. | B90: FINANSZÍROZÁSI BEVÉTELEK ÖSSZESEN: (10. + … +16.) | C90: =+C66+C70+C75+C78+C83+C89+C88 -> 49962036
A91: 18. | B91: BEVÉTELEK ÖSSZESEN: (9+17) | C91: =+C65+C90 -> 54653400
B93: Kiadások
A94: 1. | B94: Működési költségvetés kiadásai (1.1+…+1.5+1.18.) | C94: =+C95+C96+C97+C98+C99+C112 -> 54653400
A95: 1.1. | B95: Személyi juttatások | C95: ='9.2. sz. mell '!C95 -> 40640872
A96: 1.2. | B96: Munkaadókat terhelő járulékok és szociális hozzájárulási adó | C96: ='9.2. sz. mell '!C96 -> 6675108
A97: 1.3. | B97: Dologi kiadások | C97: ='9.2. sz. mell '!C97 -> 7337420
A98: 1.4. | B98: Ellátottak pénzbeli juttatásai
A99: 1.5 | B99: Egyéb működési célú kiadások
A100: 1.6. | B100: az 1.5-ből: - Előző évi elszámolásból származó befizetések
A101: 1.7. | B101: - Törvényi előíráson alapuló befizetések
...

Sheet 9.1.2. sz. mell 
C1: =+CONCATENATE("9.1.2. melléklet a ……/",LEFT(ÖSSZEFÜGGÉSEK!A5,4),". (….) önkormányzati rendelethez") -> 9.1.2. melléklet a ……/2021. (….) önkormányzati rendelethez
A2: Megnevezés | B2: Szentpéterszeg Községi Önkormányzat | C2: 01
A3: Feladat megnevezése | B3: Önként vállalt feladatok bevételei, kiadása | C3: 03
C4: Ezer forintban !
A5: Száma | B5: Előirányzat-csoport, kiemelt előirányzat megnevezése | C5: Előirányzat
A6: A | B6: B | C6: C
B7: Bevételek
A8: 1. | B8: Önkormányzat működési támogatásai (1.1.+…+.1.6.) | C8: =+C9+C10+C11+C12+C13+C14 -> 0
A9: 1.1. | B9: Helyi önkormányzatok működésének általános támogatása
A10: 1.2. | B10: Önkormányzatok egyes köznevelési feladatainak támogatása
A11: 1.3. | B11: Önkormányzatok szociális és gyermekjóléti feladatainak támogatása
A12: 1.4. | B12: Önkormányzatok kulturális feladatainak támogatása
A13: 1.5. | B13: Működési célú kvi támogatások és kiegészítő támogatások
A14: 1.6. | B14: Elszámolásból származó bevételek
A15: 2. | B15: Működési célú támogatások államháztartáson belülről (2.1.+…+.2.5.) | C15: =+C16+C17+C18+C19+C20 -> 0
A16: 2.1. | B16: Elvonások és befizetések bevételei
A17: 2.2. | B17: Működési célú garancia- és kezességvállalásból megtérülések
A18: 2.3. | B18: Működési célú visszatérítendő támogatások, kölcsönök visszatérülése
A19: 2.4. | B19: Működési célú visszatérítendő támogatások, kölcsönök igénybevétele
A20: 2.5. | B20: Egyéb működési célú támogatások bevételei
A21: 2.6. | B21: 2.5.-ből EU-s támogatás
A22: 3. | B22: Felhalmozási célú támogatások államháztartáson belülről (3.1.+…+3.5.) | C22: =+C23+C24+C25+C26+C27 -> 0
A23: 3.1. | B23: Felhalmozási célú önkormányzati támogatások
A24: 3.2. | B24: Felhalmozási célú garancia- és kezességvállalásból megtérülések
A25: 3.3. | B25: Felhalmozási célú visszatérítendő támogatások, kölcsönök visszatérülése
A26: 3.4. | B26: Felhalmozási célú visszatérítendő támogatások, kölcsönök igénybevétele
A27: 3.5. | B27: Egyéb felhalmozási célú támogatások bevételei
A28: 3.6. | B28: 3.5.-ből EU-s támogatás
A29: 4. | B29: Közhatalmi bevételek (4.1.+4.2.+4.3.+4.4.) | C29: =+C30+C34+C35+C36 -> 0
A30: 4.1. | B30: Helyi adók (4.1.1.+…+4.1.3.) | C30: =+C31+C32+C33 -> 0
A31: 4.1.1. | B31: - Vagyoni típusú adók
A32: 4.1.2. | B32: - Termékek és szolgáltatások adói
A33: 4.1.3. | B33: - Értékesítési és forgalmi adók (iparűzési adó)
A34: 4.2. | B34: Gépjárműadó
A35: 4.3. | B35: Egyéb áruhasználati és szolgáltatási adók
A36: 4.4. | B36: Egyéb közhatalmi bevételek
A37: 5. | B37: Működési bevételek (5.1.+…+ 5.11.) | C37: =SUM(C38:C48) -> 0
A38: 5.1. | B38: Készletértékesítés ellenértéke
A39: 5.2. | B39: Szolgáltatások ellenértéke
A40: 5.3. | B40: Közvetített szolgáltatások értéke
A41: 5.4. | B41: Tulajdonosi bevételek
A42: 5.5. | B42: Ellátási díjak
A43: 5.6. | B43: Kiszámlázott általános forgalmi adó
A44: 5.7. | B44: Általános forgalmi adó visszatérítése
A45: 5.8. | B45: Kamatbevételek
A46: 5.9. | B46: Egyéb pénzügyi műveletek bevételei
A47: 5.10. | B47: Biztosító által fizetett kártérítés
A48: 5.11. | B48: Egyéb működési bevételek
A49: 6. | B49: Felhalmozási bevételek (6.1.+…+6.5.) | C49: =SUM(C50:C54) -> 0
A50: 6.1. | B50: Immateriális javak értékesítése
A51: 6.2. | B51: Ingatlanok értékesítése
A52: 6.3. | B52: Egyéb tárgyi eszközök értékesítése
A53: 6.4. | B53: Részesedések értékesítése
A54: 6.5. | B54: Részesedések megszűnéséhez kapcsolódó bevételek
A55: 7. | B55: Működési célú átvett pénzeszközök (7.1. + … + 7.3.) | C55: =SUM(C56:C58) -> 0
A56: 7.1. | B56: Működési célú garancia- és kezességvállalásból megtérülések ÁH-n kívülről
A57: 7.2. | B57: Működési célú visszatérítendő támogatások, kölcsönök visszatér. ÁH-n kívülről
A58: 7.3. | B58: Egyéb működési célú átvett pénzeszköz
A59: 7.4. | B59: 7.3.-ból EU-s támogatás (közvetlen)
A60: 8. | B60: Felhalmozási célú átvett pénzeszközök (8.1.+8.2.+8.3.) | C60: =SUM(C61:C63) -> 0
A61: 8.1. | B61: Felhalm. célú garancia- és kezességvállalásból megtérülések ÁH-n kívülről
A62: 8.2. | B62: Felhalm. célú visszatérítendő támogatások, kölcsönök visszatér. ÁH-n kívülről
A63: 8.3. | B63: Egyéb felhalmozási célú átvett pénzeszköz
A64: 8.4. | B64: 8.3.-ból EU-s támogatás (közvetlen)
A65: 9. | B65: KÖLTSÉGVETÉSI BEVÉTELEK ÖSSZESEN: (1+…+8) | C65: =+C8+C15+C22+C29+C37+C49+C55+C60 -> 0
A66: 10. | B66: Hitel-, kölcsönfelvétel államháztartáson kívülről (10.1.+10.3.) | C66: =SUM(C67:C69) -> 0
A67: 10.1. | B67: Hosszú lejáratú hitelek, kölcsönök felvétele
A68: 10.2. | B68: Likviditási célú hitelek, kölcsönök felvétele pénzügyi vállalkozástól
A69: 10.3. | B69: Rövid lejáratú hitelek, kölcsönök felvétele
A70: 11. | B70: Belföldi értékpapírok bevételei (11.1. +…+ 11.4.) | C70: =SUM(C71:C74) -> 0
A71: 11.1. | B71: Forgatási célú belföldi értékpapírok beváltása, értékesítése
A72: 11.2. | B72: Forgatási célú belföldi értékpapírok kibocsátása
A73: 11.3. | B73: Befektetési célú belföldi értékpapírok beváltása, értékesítése
A74: 11.4. | B74: Befektetési célú belföldi értékpapírok kibocsátása
A75: 12. | B75: Maradvány igénybevétele (12.1. + 12.2.) | C75: =SUM(C76:C77) -> 0
A76: 12.1. | B76: Előző év költségvetési maradványának igénybevétele
A77: 12.2. | B77: Előző év vállalkozási maradványának igénybevétele
A78: 13. | B78: Belföldi finanszírozás bevételei (13.1. + … + 13.3.) | C78: =SUM(C79:C82) -> 0
A79: 13.1. | B79: Államháztartáson belüli megelőlegezések
A80: 13.2. | B80: Államháztartáson belüli megelőlegezések törlesztése
A81: 13.3. | B81: Központi, irányító szervi támogatás
A82: 13.4. | B82: Betétek megszüntetése
A83: 14. | B83: Külföldi finanszírozás bevételei (14.1.+…14.4.) | C83: =SUM(C84:C87) -> 0
A84: 14.1. | B84: Forgatási célú külföldi értékpapírok beváltása, értékesítése
A85: 14.2. | B85: Befektetési célú külföldi értékpapírok beváltása, értékesítése
A86: 14.3. | B86: Külföldi értékpapírok kibocsátása
A87: 14.4. | B87: Külföldi hitelek, kölcsönök felvétele
A88: 15. | B88: Váltóbevételek
A89: 16. | B89: Adóssághoz nem kapcsolódó származékos ügyletek bevételei
A90: 17. | B90: FINANSZÍROZÁSI BEVÉTELEK ÖSSZESEN: (10. + … +16.) | C90: =+C66+C70+C75+C78+C83+C89+C88 -> 0
A91: 18. | B91: BEVÉTELEK ÖSSZESEN: (9+17) | C91: =+C65+C90 -> 0
B93: Kiadások
A94: 1. | B94: Működési költségvetés kiadásai (1.1+…+1.5+1.18.) | C94: =+C95+C96+C97+C98+C99+C112 -> 0
A95: 1.1. | B95: Személyi juttatások
A96: 1.2. | B96: Munkaadókat terhelő járulékok és szociális hozzájárulási adó
A97: 1.3. | B97: Dologi kiadások
A98: 1.4. | B98: Ellátottak pénzbeli juttatásai
A99: 1.5 | B99: Egyéb működési célú kiadások
A100: 1.6. | B100: az 1.5-ből: - Előző évi elszámolásból származó befizetések
A101: 1.7. | B101: - Törvényi előíráson alapuló befizetések
...

Sheet 9.1.3. sz. mell
C1: =+CONCATENATE("9.1.3. melléklet a ……/",LEFT(ÖSSZEFÜGGÉSEK!A5,4),". (….) önkormányzati rendelethez") -> 9.1.3. melléklet a ……/2021. (….) önkormányzati rendelethez
A2: Megnevezés | B2: Szentpéterszeg Községi Önkormányzat | C2: 01
A3: Feladat megnevezése | B3: Államigazgatási feladatok bevételei, kiadása | C3: 04
C4: Ezer forintban !
A5: Száma | B5: Előirányzat-csoport, kiemelt előirányzat megnevezése | C5: Előirányzat
A6: A | B6: B | C6: C
B7: Bevételek
A8: 1. | B8: Önkormányzat működési támogatásai (1.1.+…+.1.6.) | C8: =+C9+C10+C11+C12+C13+C14 -> 0
A9: 1.1. | B9: Helyi önkormányzatok működésének általános támogatása
A10: 1.2. | B10: Önkormányzatok egyes köznevelési feladatainak támogatása
A11: 1.3. | B11: Önkormányzatok szociális és gyermekjóléti feladatainak támogatása
A12: 1.4. | B12: Önkormányzatok kulturális feladatainak támogatása
A13: 1.5. | B13: Működési célú kvi támogatások és kiegészítő támogatások
A14: 1.6. | B14: Elszámolásból származó bevételek
A15: 2. | B15: Működési célú támogatások államháztartáson belülről (2.1.+…+.2.5.) | C15: =+C16+C17+C18+C19+C20 -> 0
A16: 2.1. | B16: Elvonások és befizetések bevételei
A17: 2.2. | B17: Működési célú garancia- és kezességvállalásból megtérülések
A18: 2.3. | B18: Működési célú visszatérítendő támogatások, kölcsönök visszatérülése
A19: 2.4. | B19: Működési célú visszatérítendő támogatások, kölcsönök igénybevétele
A20: 2.5. | B20: Egyéb működési célú támogatások bevételei
A21: 2.6. | B21: 2.5.-ből EU-s támogatás
A22: 3. | B22: Felhalmozási célú támogatások államháztartáson belülről (3.1.+…+3.5.) | C22: =+C23+C24+C25+C26+C27 -> 0
A23: 3.1. | B23: Felhalmozási célú önkormányzati támogatások
A24: 3.2. | B24: Felhalmozási célú garancia- és kezességvállalásból megtérülések
A25: 3.3. | B25: Felhalmozási célú visszatérítendő támogatások, kölcsönök visszatérülése
A26: 3.4. | B26: Felhalmozási célú visszatérítendő támogatások, kölcsönök igénybevétele
A27: 3.5. | B27: Egyéb felhalmozási célú támogatások bevételei
A28: 3.6. | B28: 3.5.-ből EU-s támogatás
A29: 4. | B29: Közhatalmi bevételek (4.1.+4.2.+4.3.+4.4.) | C29: =+C30+C34+C35+C36 -> 0
A30: 4.1. | B30: Helyi adók (4.1.1.+…+4.1.3.) | C30: =+C31+C32+C33 -> 0
A31: 4.1.1. | B31: - Vagyoni típusú adók
A32: 4.1.2. | B32: - Termékek és szolgáltatások adói
A33: 4.1.3. | B33: - Értékesítési és forgalmi adók (iparűzési adó)
A34: 4.2. | B34: Gépjárműadó
A35: 4.3. | B35: Egyéb áruhasználati és szolgáltatási adók
A36: 4.4. | B36: Egyéb közhatalmi bevételek
A37: 5. | B37: Működési bevételek (5.1.+…+ 5.11.) | C37: =SUM(C38:C48) -> 0
A38: 5.1. | B38: Készletértékesítés ellenértéke
A39: 5.2. | B39: Szolgáltatások ellenértéke
A40: 5.3. | B40: Közvetített szolgáltatások értéke
A41: 5.4. | B41: Tulajdonosi bevételek
A42: 5.5. | B42: Ellátási díjak
A43: 5.6. | B43: Kiszámlázott általános forgalmi adó
A44: 5.7. | B44: Általános forgalmi adó visszatérítése
A45: 5.8. | B45: Kamatbevételek
A46: 5.9. | B46: Egyéb pénzügyi műveletek bevételei
A47: 5.10. | B47: Biztosító által fizetett kártérítés
A48: 5.11. | B48: Egyéb működési bevételek
A49: 6. | B49: Felhalmozási bevételek (6.1.+…+6.5.) | C49: =SUM(C50:C54) -> 0
A50: 6.1. | B50: Immateriális javak értékesítése
A51: 6.2. | B51: Ingatlanok értékesítése
A52: 6.3. | B52: Egyéb tárgyi eszközök értékesítése
A53: 6.4. | B53: Részesedések értékesítése
A54: 6.5. | B54: Részesedések megszűnéséhez kapcsolódó bevételek
A55: 7. | B55: Működési célú átvett pénzeszközök (7.1. + … + 7.3.) | C55: =SUM(C56:C58) -> 0
A56: 7.1. | B56: Működési célú garancia- és kezességvállalásból megtérülések ÁH-n kívülről
A57: 7.2. | B57: Működési célú visszatérítendő támogatások, kölcsönök visszatér. ÁH-n kívülről
A58: 7.3. | B58: Egyéb működési célú átvett pénzeszköz
A59: 7.4. | B59: 7.3.-ból EU-s támogatás (közvetlen)
A60: 8. | B60: Felhalmozási célú átvett pénzeszközök (8.1.+8.2.+8.3.) | C60: =SUM(C61:C63) -> 0
A61: 8.1. | B61: Felhalm. célú garancia- és kezességvállalásból megtérülések ÁH-n kívülről
A62: 8.2. | B62: Felhalm. célú visszatérítendő támogatások, kölcsönök visszatér. ÁH-n kívülről
A63: 8.3. | B63: Egyéb felhalmozási célú átvett pénzeszköz
A64: 8.4. | B64: 8.3.-ból EU-s támogatás (közvetlen)
A65: 9. | B65: KÖLTSÉGVETÉSI BEVÉTELEK ÖSSZESEN: (1+…+8) | C65: =+C8+C15+C22+C29+C37+C49+C55+C60 -> 0
A66: 10. | B66: Hitel-, kölcsönfelvétel államháztartáson kívülről (10.1.+10.3.) | C66: =SUM(C67:C69) -> 0
A67: 10.1. | B67: Hosszú lejáratú hitelek, kölcsönök felvétele
A68: 10.2. | B68: Likviditási célú hitelek, kölcsönök felvétele pénzügyi vállalkozástól
A69: 10.3. | B69: Rövid lejáratú hitelek, kölcsönök felvétele
A70: 11. | B70: Belföldi értékpapírok bevételei (11.1. +…+ 11.4.) | C70: =SUM(C71:C74) -> 0
A71: 11.1. | B71: Forgatási célú belföldi értékpapírok beváltása, értékesítése
A72: 11.2. | B72: Forgatási célú belföldi értékpapírok kibocsátása
A73: 11.3. | B73: Befektetési célú belföldi értékpapírok beváltása, értékesítése
A74: 11.4. | B74: Befektetési célú belföldi értékpapírok kibocsátása
A75: 12. | B75: Maradvány igénybevétele (12.1. + 12.2.) | C75: =SUM(C76:C77) -> 0
A76: 12.1. | B76: Előző év költségvetési maradványának igénybevétele
A77: 12.2. | B77: Előző év vállalkozási maradványának igénybevétele
A78: 13. | B78: Belföldi finanszírozás bevételei (13.1. + … + 13.3.) | C78: =SUM(C79:C81) -> 0
A79: 13.1. | B79: Államháztartáson belüli megelőlegezések
A80: 13.2. | B80: Államháztartáson belüli megelőlegezések törlesztése
A81: 13.3. | B81: Betétek megszüntetése
A82: 14. | B82: Külföldi finanszírozás bevételei (14.1.+…14.4.) | C82: =SUM(C83:C86) -> 0
A83: 14.1. | B83: Forgatási célú külföldi értékpapírok beváltása, értékesítése
A84: 14.2. | B84: Befektetési célú külföldi értékpapírok beváltása, értékesítése
A85: 14.3. | B85: Külföldi értékpapírok kibocsátása
A86: 14.4. | B86: Külföldi hitelek, kölcsönök felvétele
A87: 15. | B87: Váltóbevételek
A88: 16. | B88: Adóssághoz nem kapcsolódó származékos ügyletek bevételei
A89: 17. | B89: FINANSZÍROZÁSI BEVÉTELEK ÖSSZESEN: (10. + … +16.) | C89: =+C66+C70+C75+C78+C82+C88+C87 -> 0
A90: 18. | B90: BEVÉTELEK ÖSSZESEN: (9+17) | C90: =+C65+C89 -> 0
B92: Kiadások
A93: 1. | B93: Működési költségvetés kiadásai (1.1+…+1.5+1.18.) | C93: =+C94+C95+C96+C97+C98+C111 -> 0
A94: 1.1. | B94: Személyi juttatások
A95: 1.2. | B95: Munkaadókat terhelő járulékok és szociális hozzájárulási adó
A96: 1.3. | B96: Dologi kiadások
A97: 1.4. | B97: Ellátottak pénzbeli juttatásai
A98: 1.5 | B98: Egyéb működési célú kiadások
A99: 1.6. | B99: az 1.5-ből: - Előző évi elszámolásból származó befizetések
A100: 1.7. | B100: - Törvényi előíráson alapuló befizetések
A101: 1.8. | B101: - Elvonások és befizetések
...

Sheet 9.2. sz. mell
C1: =+CONCATENATE("9.2. melléklet a ……/",LEFT(ÖSSZEFÜGGÉSEK!A5,4),". (….) önkormányzati rendelethez") -> 9.2. melléklet a ……/2021. (….) önkormányzati rendelethez
A2: Költségvetési szerv megnevezése | B2: Polgármesteri /közös/ hivatal | C2: 02
A3: Feladat megnevezése | B3: Összes bevétel, kiadás | C3: 01
C4: Ezer forintban !
A5: Száma | B5: Előirányzat-csoport, kiemelt előirányzat megnevezése | C5: Előirányzat
A6: A | B6: B | C6: C
B7: Bevételek
A8: 1. | B8: Működési bevételek (1.1.+…+1.11.) | C8: =SUM(C9:C19) -> 0
A9: 1.1. | B9: Készletértékesítés ellenértéke
A10: 1.2. | B10: Szolgáltatások ellenértéke
A11: 1.3. | B11: Közvetített szolgáltatások értéke
A12: 1.4. | B12: Tulajdonosi bevételek
A13: 1.5. | B13: Ellátási díjak
A14: 1.6. | B14: Kiszámlázott általános forgalmi adó
A15: 1.7. | B15: Általános forgalmi adó visszatérülése
A16: 1.8. | B16: Kamatbevételek
A17: 1.9. | B17: Egyéb pénzügyi műveletek bevételei
A18: 1.10. | B18: Biztosító által fizetett kártérítés
A19: 1.11. | B19: Egyéb működési bevételek
A20: 2. | B20: Működési célú támogatások államháztartáson belülről (2.1.+…+2.3.) | C20: =SUM(C21:C23) -> 0
A21: 2.1. | B21: Elvonások és befizetések bevételei
A22: 2.2. | B22: Visszatérítendő támogatások, kölcsönök visszatérülése ÁH-n belülről
A23: 2.3. | B23: Egyéb működési célú támogatások bevételei államháztartáson belülről
A24: 2.4. | B24: 2.3-ból EU támogatás
A25: 3. | B25: Közhatalmi bevételek
A26: 4. | B26: Felhalmozási célú támogatások államháztartáson belülről (4.1.+…+4.3.) | C26: =+C27+C28+C29 -> 0
A27: 4.1. | B27: Felhalmozási célú önkormányzati támogatások
A28: 4.2. | B28: Visszatérítendő támogatások, kölcsönök visszatérülése ÁH-n belülről
A29: 4.3. | B29: Egyéb felhalmozási célú támogatások bevételei államháztartáson belülről
A30: 4.4. | B30: 4.3.-ból EU-s támogatás
A31: 5. | B31: Felhalmozási bevételek (5.1.+…+5.3.) | C31: =+C32+C33+C34 -> 0
A32: 5.1. | B32: Immateriális javak értékesítése
A33: 5.2. | B33: Ingatlanok értékesítése
A34: 5.3. | B34: Egyéb tárgyi eszközök értékesítése
A35: 6. | B35: Működési célú átvett pénzeszközök
A36: 7. | B36: Felhalmozási célú átvett pénzeszközök
A37: 8. | B37: Költségvetési bevételek összesen (1.+…+7.) | C37: =+C8+C20+C25+C26+C31+C35+C36 -> 0
A38: 9. | B38: Finanszírozási bevételek (9.1.+…+9.3.) | C38: =+C39+C40+C41 -> 0
A39: 9.1. | B39: Költségvetési maradvány igénybevétele
A40: 9.2. | B40: Vállalkozási maradvány igénybevétele
A41: 9.3. | B41: Irányító szervi (önkormányzati) támogatás (intézményfinanszírozás)
A42: 10. | B42: BEVÉTELEK ÖSSZESEN: (8.+9.) | C42: =+C37+C38 -> 0
B45: Kiadások
A46: 1. | B46: Működési költségvetés kiadásai (1.1+…+1.5.) | C46: =SUM(C47:C51) -> 0
A47: 1.1. | B47: Személyi juttatások
A48: 1.2. | B48: Munkaadókat terhelő járulékok és szociális hozzájárulási adó
A49: 1.3. | B49: Dologi kiadások
A50: 1.4. | B50: Ellátottak pénzbeli juttatásai
A51: 1.5. | B51: Egyéb működési célú kiadások
A52: 2. | B52: Felhalmozási költségvetés kiadásai (2.1.+…+2.3.) | C52: =SUM(C53:C55) -> 0
A53: 2.1. | B53: Beruházások
A54: 2.2. | B54: Felújítások
A55: 2.3. | B55: Egyéb fejlesztési célú kiadások
A56: 2.4. | B56: 2.3.-ból EU-s támogatásból megvalósuló programok, projektek kiadása
A57: 3. | B57: Finanszírozási kiadások
A58: 4. | B58: KIADÁSOK ÖSSZESEN: (1.+2.+3.) | C58: =+C46+C52+C57 -> 0
A60: Éves tervezett létszám előirányzat (fő)
A61: Közfoglalkoztatottak létszáma (fő)

Sheet 9.2.1. sz. mell
C1: =+CONCATENATE("9.2.1. melléklet a ……/",LEFT(ÖSSZEFÜGGÉSEK!A5,4),". (….) önkormányzati rendelethez") -> 9.2.1. melléklet a ……/2021. (….) önkormányzati rendelethez
A2: Költségvetési szerv megnevezése | B2: Polgármesteri /közös/ hivatal | C2: 02
A3: Feladat megnevezése | B3: Kötelező feladatok bevételei, kiadásai | C3: 02
C4: Ezer forintban !
A5: Száma | B5: Előirányzat-csoport, kiemelt előirányzat megnevezése | C5: Előirányzat
A6: A | B6: B | C6: C
B7: Bevételek
A8: 1. | B8: Működési bevételek (1.1.+…+1.11.) | C8: =SUM(C9:C19) -> 0
A9: 1.1. | B9: Készletértékesítés ellenértéke
A10: 1.2. | B10: Szolgáltatások ellenértéke
A11: 1.3. | B11: Közvetített szolgáltatások értéke
A12: 1.4. | B12: Tulajdonosi bevételek
A13: 1.5. | B13: Ellátási díjak
A14: 1.6. | B14: Kiszámlázott általános forgalmi adó
A15: 1.7. | B15: Általános forgalmi adó visszatérülése
A16: 1.8. | B16: Kamatbevételek
A17: 1.9. | B17: Egyéb pénzügyi műveletek bevételei
A18: 1.10. | B18: Biztosító által fizetett kártérítés
A19: 1.11. | B19: Egyéb működési bevételek
A20: 2. | B20: Működési célú támogatások államháztartáson belülről (2.1.+…+2.3.) | C20: =SUM(C21:C23) -> 0
A21: 2.1. | B21: Elvonások és befizetések bevételei
A22: 2.2. | B22: Visszatérítendő támogatások, kölcsönök visszatérülése ÁH-n belülről
A23: 2.3. | B23: Egyéb működési célú támogatások bevételei államháztartáson belülről
A24: 2.4. | B24: 2.3-ból EU támogatás
A25: 3. | B25: Közhatalmi bevételek
A26: 4. | B26: Felhalmozási célú támogatások államháztartáson belülről (4.1.+…+4.3.) | C26: =+C27+C28+C29 -> 0
A27: 4.1. | B27: Felhalmozási célú önkormányzati támogatások
A28: 4.2. | B28: Visszatérítendő támogatások, kölcsönök visszatérülése ÁH-n belülről
A29: 4.3. | B29: Egyéb felhalmozási célú támogatások bevételei államháztartáson belülről
A30: 4.4. | B30: 4.3.-ból EU-s támogatás
A31: 5. | B31: Felhalmozási bevételek (5.1.+…+5.3.) | C31: =+C32+C33+C34 -> 0
A32: 5.1. | B32: Immateriális javak értékesítése
A33: 5.2. | B33: Ingatlanok értékesítése
A34: 5.3. | B34: Egyéb tárgyi eszközök értékesítése
A35: 6. | B35: Működési célú átvett pénzeszközök
A36: 7. | B36: Felhalmozási célú átvett pénzeszközök
A37: 8. | B37: Költségvetési bevételek összesen (1.+…+7.) | C37: =+C8+C20+C25+C26+C31+C35+C36 -> 0
A38: 9. | B38: Finanszírozási bevételek (9.1.+…+9.3.) | C38: =+C39+C40+C41 -> 0
A39: 9.1. | B39: Költségvetési maradvány igénybevétele
A40: 9.2. | B40: Vállalkozási maradvány igénybevétele
A41: 9.3. | B41: Irányító szervi (önkormányzati) támogatás (intézményfinanszírozás)
A42: 10. | B42: BEVÉTELEK ÖSSZESEN: (8.+9.) | C42: =+C37+C38 -> 0
B45: Kiadások
A46: 1. | B46: Működési költségvetés kiadásai (1.1+…+1.5.) | C46: =SUM(C47:C51) -> 0
A47: 1.1. | B47: Személyi juttatások
A48: 1.2. | B48: Munkaadókat terhelő járulékok és szociális hozzájárulási adó
A49: 1.3. | B49: Dologi kiadások
A50: 1.4. | B50: Ellátottak pénzbeli juttatásai
A51: 1.5. | B51: Egyéb működési célú kiadások
A52: 2. | B52: Felhalmozási költségvetés kiadásai (2.1.+…+2.3.) | C52: =SUM(C53:C55) -> 0
A53: 2.1. | B53: Beruházások
A54: 2.2. | B54: Felújítások
A55: 2.3. | B55: Egyéb fejlesztési célú kiadások
A56: 2.4. | B56: 2.3.-ból EU-s támogatásból megvalósuló programok, projektek kiadása
A57: 3. | B57: Finanszírozási kiadások
A58: 4. | B58: KIADÁSOK ÖSSZESEN: (1.+2.+3.) | C58: =+C46+C52+C57 -> 0
A60: Éves tervezett létszám előirányzat (fő)
A61: Közfoglalkoztatottak létszáma (fő)

Sheet 9.2.2. sz.  mell
C1: =+CONCATENATE("9.2.2. melléklet a ……/",LEFT(ÖSSZEFÜGGÉSEK!A5,4),". (….) önkormányzati rendelethez") -> 9.2.2. melléklet a ……/2021. (….) önkormányzati rendelethez
A2: Költségvetési szerv megnevezése | B2: Polgármesteri /közös/ hivatal | C2: 02
A3: Feladat megnevezése | B3: Önként vállalt feladatok bevételei, kiadásai | C3: 03
C4: Ezer forintban !
A5: Száma | B5: Előirányzat-csoport, kiemelt előirányzat megnevezése | C5: Előirányzat
A6: A | B6: B | C6: C
B7: Bevételek
A8: 1. | B8: Működési bevételek (1.1.+…+1.11.) | C8: =SUM(C9:C19) -> 0
A9: 1.1. | B9: Készletértékesítés ellenértéke
A10: 1.2. | B10: Szolgáltatások ellenértéke
A11: 1.3. | B11: Közvetített szolgáltatások értéke
A12: 1.4. | B12: Tulajdonosi bevételek
A13: 1.5. | B13: Ellátási díjak
A14: 1.6. | B14: Kiszámlázott általános forgalmi adó
A15: 1.7. | B15: Általános forgalmi adó visszatérülése
A16: 1.8. | B16: Kamatbevételek
A17: 1.9. | B17: Egyéb pénzügyi műveletek bevételei
A18: 1.10. | B18: Biztosító által fizetett kártérítés
A19: 1.11. | B19: Egyéb működési bevételek
A20: 2. | B20: Működési célú támogatások államháztartáson belülről (2.1.+…+2.3.) | C20: =SUM(C21:C23) -> 0
A21: 2.1. | B21: Elvonások és befizetések bevételei
A22: 2.2. | B22: Visszatérítendő támogatások, kölcsönök visszatérülése ÁH-n belülről
A23: 2.3. | B23: Egyéb működési célú támogatások bevételei államháztartáson belülről
A24: 2.4. | B24: 2.3-ból EU támogatás
A25: 3. | B25: Közhatalmi bevételek
A26: 4. | B26: Felhalmozási célú támogatások államháztartáson belülről (4.1.+…+4.3.) | C26: =+C27+C28+C29 -> 0
A27: 4.1. | B27: Felhalmozási célú önkormányzati támogatások
A28: 4.2. | B28: Visszatérítendő támogatások, kölcsönök visszatérülése ÁH-n belülről
A29: 4.3. | B29: Egyéb felhalmozási célú támogatások bevételei államháztartáson belülről
A30: 4.4. | B30: 4.3.-ból EU-s támogatás
A31: 5. | B31: Felhalmozási bevételek (5.1.+…+5.3.) | C31: =+C32+C33+C34 -> 0
A32: 5.1. | B32: Immateriális javak értékesítése
A33: 5.2. | B33: Ingatlanok értékesítése
A34: 5.3. | B34: Egyéb tárgyi eszközök értékesítése
A35: 6. | B35: Működési célú átvett pénzeszközök
A36: 7. | B36: Felhalmozási célú átvett pénzeszközök
A37: 8. | B37: Költségvetési bevételek összesen (1.+…+7.) | C37: =+C8+C20+C25+C26+C31+C35+C36 -> 0
A38: 9. | B38: Finanszírozási bevételek (9.1.+…+9.3.) | C38: =+C39+C40+C41 -> 0
A39: 9.1. | B39: Költségvetési maradvány igénybevétele
A40: 9.2. | B40: Vállalkozási maradvány igénybevétele
A41: 9.3. | B41: Irányító szervi (önkormányzati) támogatás (intézményfinanszírozás)
A42: 10. | B42: BEVÉTELEK ÖSSZESEN: (8.+9.) | C42: =+C37+C38 -> 0
B45: Kiadások
A46: 1. | B46: Működési költségvetés kiadásai (1.1+…+1.5.) | C46: =SUM(C47:C51) -> 0
A47: 1.1. | B47: Személyi juttatások
A48: 1.2. | B48: Munkaadókat terhelő járulékok és szociális hozzájárulási adó
A49: 1.3. | B49: Dologi kiadások
A50: 1.4. | B50: Ellátottak pénzbeli juttatásai
A51: 1.5. | B51: Egyéb működési célú kiadások
A52: 2. | B52: Felhalmozási költségvetés kiadásai (2.1.+…+2.3.) | C52: =SUM(C53:C55) -> 0
A53: 2.1. | B53: Beruházások
A54: 2.2. | B54: Felújítások
A55: 2.3. | B55: Egyéb fejlesztési célú kiadások
A56: 2.4. | B56: 2.3.-ból EU-s támogatásból megvalósuló programok, projektek kiadása
A57: 3. | B57: Finanszírozási kiadások
A58: 4. | B58: KIADÁSOK ÖSSZESEN: (1.+2.+3.) | C58: =+C46+C52+C57 -> 0
A60: Éves tervezett létszám előirányzat (fő)
A61: Közfoglalkoztatottak létszáma (fő)

Sheet 9.2.3. sz. mell
C1: =+CONCATENATE("9.2.3. melléklet a ……/",LEFT(ÖSSZEFÜGGÉSEK!A5,4),". (….) önkormányzati rendelethez") -> 9.2.3. melléklet a ……/2021. (….) önkormányzati rendelethez
A2: Költségvetési szerv megnevezése | B2: Polgármesteri /közös/ hivatal | C2: 02
A3: Feladat megnevezése | B3: Államigazgatási feladatok bevételei, kiadásai | C3: 04
C4: Ezer forintban !
A5: Száma | B5: Előirányzat-csoport, kiemelt előirányzat megnevezése | C5: Előirányzat
A6: A | B6: B | C6: C
B7: Bevételek
A8: 1. | B8: Működési bevételek (1.1.+…+1.11.) | C8: =SUM(C9:C19) -> 0
A9: 1.1. | B9: Készletértékesítés ellenértéke
A10: 1.2. | B10: Szolgáltatások ellenértéke
A11: 1.3. | B11: Közvetített szolgáltatások értéke
A12: 1.4. | B12: Tulajdonosi bevételek
A13: 1.5. | B13: Ellátási díjak
A14: 1.6. | B14: Kiszámlázott általános forgalmi adó
A15: 1.7. | B15: Általános forgalmi adó visszatérülése
A16: 1.8. | B16: Kamatbevételek
A17: 1.9. | B17: Egyéb pénzügyi műveletek bevételei
A18: 1.10. | B18: Biztosító által fizetett kártérítés
A19: 1.11. | B19: Egyéb működési bevételek
A20: 2. | B20: Működési célú támogatások államháztartáson belülről (2.1.+…+2.3.) | C20: =SUM(C21:C23) -> 0
A21: 2.1. | B21: Elvonások és befizetések bevételei
A22: 2.2. | B22: Visszatérítendő támogatások, kölcsönök visszatérülése ÁH-n belülről
A23: 2.3. | B23: Egyéb működési célú támogatások bevételei államháztartáson belülről
A24: 2.4. | B24: 2.3-ból EU támogatás
A25: 3. | B25: Közhatalmi bevételek
A26: 4. | B26: Felhalmozási célú támogatások államháztartáson belülről (4.1.+…+4.3.) | C26: =+C27+C28+C29 -> 0
A27: 4.1. | B27: Felhalmozási célú önkormányzati támogatások
A28: 4.2. | B28: Visszatérítendő támogatások, kölcsönök visszatérülése ÁH-n belülről
A29: 4.3. | B29: Egyéb felhalmozási célú támogatások bevételei államháztartáson belülről
A30: 4.4. | B30: 4.3.-ból EU-s támogatás
A31: 5. | B31: Felhalmozási bevételek (5.1.+…+5.3.) | C31: =+C32+C33+C34 -> 0
A32: 5.1. | B32: Immateriális javak értékesítése
A33: 5.2. | B33: Ingatlanok értékesítése
A34: 5.3. | B34: Egyéb tárgyi eszközök értékesítése
A35: 6. | B35: Működési célú átvett pénzeszközök
A36: 7. | B36: Felhalmozási célú átvett pénzeszközök
A37: 8. | B37: Költségvetési bevételek összesen (1.+…+7.) | C37: =+C8+C20+C25+C26+C31+C35+C36 -> 0
A38: 9. | B38: Finanszírozási bevételek (9.1.+…+9.3.) | C38: =+C39+C40+C41 -> 0
A39: 9.1. | B39: Költségvetési maradvány igénybevétele
A40: 9.2. | B40: Vállalkozási maradvány igénybevétele
A41: 9.3. | B41: Irányító szervi (önkormányzati) támogatás (intézményfinanszírozás)
A42: 10. | B42: BEVÉTELEK ÖSSZESEN: (8.+9.) | C42: =+C37+C38 -> 0
B45: Kiadások
A46: 1. | B46: Működési költségvetés kiadásai (1.1+…+1.5.) | C46: =SUM(C47:C51) -> 0
A47: 1.1. | B47: Személyi juttatások
A48: 1.2. | B48: Munkaadókat terhelő járulékok és szociális hozzájárulási adó
A49: 1.3. | B49: Dologi kiadások
A50: 1.4. | B50: Ellátottak pénzbeli juttatásai
A51: 1.5. | B51: Egyéb működési célú kiadások
A52: 2. | B52: Felhalmozási költségvetés kiadásai (2.1.+…+2.3.) | C52: =SUM(C53:C55) -> 0
A53: 2.1. | B53: Beruházások
A54: 2.2. | B54: Felújítások
A55: 2.3. | B55: Egyéb fejlesztési célú kiadások
A56: 2.4. | B56: 2.3.-ból EU-s támogatásból megvalósuló programok, projektek kiadása
A57: 3. | B57: Finanszírozási kiadások
A58: 4. | B58: KIADÁSOK ÖSSZESEN: (1.+2.+3.) | C58: =+C46+C52+C57 -> 0
A60: Éves tervezett létszám előirányzat (fő)
A61: Közfoglalkoztatottak létszáma (fő)

Sheet 9.3. sz. mell
C1: =+CONCATENATE("9.3. melléklet a ../",LEFT(ÖSSZEFÜGGÉSEK!A5,4),". (………..) önkormányzati rendelethez") -> 9.3. melléklet a ../2021. (………..) önkormányzati rendelethez
A2: Költségvetési szerv megnevezése | B2: Hencidai Napközi Otthonos Óvoda és Konyha | C2: 03
A3: Feladat megnevezése | B3: Összes bevétel, kiadás | C3: 01
C4: Forintban !
A5: Száma | B5: Előirányzat-csoport, kiemelt előirányzat megnevezése | C5: Előirányzat
A6: A | B6: B | C6: C
B7: Bevételek
A8: 1. | B8: Önkormányzat működési támogatásai (1.1.+…+.1.6.) | C8: =+C9+C10+C11+C12+C13+C14 -> 0
A9: 1.1. | B9: Helyi önkormányzatok működésének általános támogatása
A10: 1.2. | B10: Önkormányzatok egyes köznevelési feladatainak támogatása
A11: 1.3. | B11: Önkormányzatok szociális és gyermekjóléti feladatainak támogatása
A12: 1.4. | B12: Önkormányzatok kulturális feladatainak támogatása
A13: 1.5. | B13: Működési célú kvi támogatások és kiegészítő támogatások
A14: 1.6. | B14: Elszámolásból származó bevételek
A15: 2. | B15: Működési célú támogatások államháztartáson belülről (2.1.+…+.2.5.) | C15: =+C16+C17+C18+C19+C20 -> 0
A16: 2.1. | B16: Elvonások és befizetések bevételei
A17: 2.2. | B17: Működési célú garancia- és kezességvállalásból megtérülések
A18: 2.3. | B18: Működési célú visszatérítendő támogatások, kölcsönök visszatérülése
A19: 2.4. | B19: Működési célú visszatérítendő támogatások, kölcsönök igénybevétele
A20: 2.5. | B20: Egyéb működési célú támogatások bevételei
A21: 2.6. | B21: 2.5.-ből EU-s támogatás
A22: 3. | B22: Felhalmozási célú támogatások államháztartáson belülről (3.1.+…+3.5.) | C22: =+C23+C24+C25+C26+C27 -> 0
A23: 3.1. | B23: Felhalmozási célú önkormányzati támogatások
A24: 3.2. | B24: Felhalmozási célú garancia- és kezességvállalásból megtérülések
A25: 3.3. | B25: Felhalmozási célú visszatérítendő támogatások, kölcsönök visszatérülése
A26: 3.4. | B26: Felhalmozási célú visszatérítendő támogatások, kölcsönök igénybevétele
A27: 3.5. | B27: Egyéb felhalmozási célú támogatások bevételei
A28: 3.6. | B28: 3.5.-ből EU-s támogatás
A29: 4. | B29: Közhatalmi bevételek (4.1.+4.2.+4.3.+4.4.) | C29: =+C30+C34+C35+C36 -> 0
A30: 4.1. | B30: Helyi adók (4.1.1.+…+4.1.3.) | C30: =+C31+C32+C33 -> 0
A31: 4.1.1. | B31: - Vagyoni típusú adók
A32: 4.1.2. | B32: - Termékek és szolgáltatások adói
A33: 4.1.3. | B33: - Értékesítési és forgalmi adók (iparűzési adó)
A34: 4.2. | B34: Gépjárműadó
A35: 4.3. | B35: Egyéb áruhasználati és szolgáltatási adók
A36: 4.4. | B36: Egyéb közhatalmi bevételek
A37: 5. | B37: Működési bevételek (5.1.+…+ 5.11.) | C37: =SUM(C38:C48) -> 14430250
A38: 5.1. | B38: Készletértékesítés ellenértéke
A39: 5.2. | B39: Szolgáltatások ellenértéke
A40: 5.3. | B40: Közvetített szolgáltatások értéke
A41: 5.4. | B41: Tulajdonosi bevételek
A42: 5.5. | B42: Ellátási díjak (térítési díjak) | C42: 14428250
A43: 5.6. | B43: Kiszámlázott általános forgalmi adó
A44: 5.7. | B44: Általános forgalmi adó visszatérítése
A45: 5.8. | B45: Kamatbevételek | C45: 2000
A46: 5.9. | B46: Egyéb pénzügyi műveletek bevételei
A47: 5.10. | B47: Biztosító által fizetett kártérítés
A48: 5.11. | B48: Egyéb működési bevételek
A49: 6. | B49: Felhalmozási bevételek (6.1.+…+6.5.) | C49: =SUM(C50:C54) -> 0
A50: 6.1. | B50: Immateriális javak értékesítése
A51: 6.2. | B51: Ingatlanok értékesítése
A52: 6.3. | B52: Egyéb tárgyi eszközök értékesítése
A53: 6.4. | B53: Részesedések értékesítése
A54: 6.5. | B54: Részesedések megszűnéséhez kapcsolódó bevételek
A55: 7. | B55: Működési célú átvett pénzeszközök (7.1. + … + 7.3.) | C55: =SUM(C56:C58) -> 0
A56: 7.1. | B56: Működési célú garancia- és kezességvállalásból megtérülések ÁH-n kívülről
A57: 7.2. | B57: Működési célú visszatérítendő támogatások, kölcsönök visszatér. ÁH-n kívülről
A58: 7.3. | B58: Egyéb működési célú átvett pénzeszköz
A59: 7.4. | B59: 7.3.-ból EU-s támogatás (közvetlen)
A60: 8. | B60: Felhalmozási célú átvett pénzeszközök (8.1.+8.2.+8.3.) | C60: =SUM(C61:C63) -> 0
A61: 8.1. | B61: Felhalm. célú garancia- és kezességvállalásból megtérülések ÁH-n kívülről
A62: 8.2. | B62: Felhalm. célú visszatérítendő támogatások, kölcsönök visszatér. ÁH-n kívülről
A63: 8.3. | B63: Egyéb felhalmozási célú átvett pénzeszköz
A64: 8.4. | B64: 8.3.-ból EU-s támogatás (közvetlen)
A65: 9. | B65: KÖLTSÉGVETÉSI BEVÉTELEK ÖSSZESEN: (1+…+8) | C65: =+C8+C15+C22+C29+C37+C49+C55+C60 -> 14430250
A66: 10. | B66: Hitel-, kölcsönfelvétel államháztartáson kívülről (10.1.+10.3.) | C66: =SUM(C67:C69) -> 0
A67: 10.1. | B67: Hosszú lejáratú hitelek, kölcsönök felvétele
A68: 10.2. | B68: Likviditási célú hitelek, kölcsönök felvétele pénzügyi vállalkozástól
A69: 10.3. | B69: Rövid lejáratú hitelek, kölcsönök felvétele
A70: 11. | B70: Belföldi értékpapírok bevételei (11.1. +…+ 11.4.) | C70: =SUM(C71:C74) -> 0
A71: 11.1. | B71: Forgatási célú belföldi értékpapírok beváltása, értékesítése
A72: 11.2. | B72: Forgatási célú belföldi értékpapírok kibocsátása
A73: 11.3. | B73: Befektetési célú belföldi értékpapírok beváltása, értékesítése
A74: 11.4. | B74: Befektetési célú belföldi értékpapírok kibocsátása
A75: 12. | B75: Maradvány igénybevétele (12.1. + 12.2.) | C75: =SUM(C76:C77) -> 92921
A76: 12.1. | B76: Előző év költségvetési maradványának igénybevétele | C76: 92921
A77: 12.2. | B77: Előző év vállalkozási maradványának igénybevétele
A78: 13. | B78: Belföldi finanszírozás bevételei (13.1. + … + 13.3.) | C78: =SUM(C79:C82) -> 54780801
A79: 13.1. | B79: Államháztartáson belüli megelőlegezések
A80: 13.2. | B80: Államháztartáson belüli megelőlegezések törlesztése
A81: 13.3. | B81: Központi, irányító szervi támogatás | C81: 54780801
A82: 13.4. | B82: Betétek megszüntetése
A83: 14. | B83: Külföldi finanszírozás bevételei (14.1.+…14.4.) | C83: =SUM(C84:C87) -> 0
A84: 14.1. | B84: Forgatási célú külföldi értékpapírok beváltása, értékesítése
A85: 14.2. | B85: Befektetési célú külföldi értékpapírok beváltása, értékesítése
A86: 14.3. | B86: Külföldi értékpapírok kibocsátása
A87: 14.4. | B87: Külföldi hitelek, kölcsönök felvétele
A88: 15. | B88: Váltóbevételek
A89: 16. | B89: Adóssághoz nem kapcsolódó származékos ügyletek bevételei
A90: 17. | B90: FINANSZÍROZÁSI BEVÉTELEK ÖSSZESEN: (10. + … +16.) | C90: =+C66+C70+C75+C78+C83+C89+C88 -> 54873722
A91: 18. | B91: BEVÉTELEK ÖSSZESEN: (9+17) | C91: =+C65+C90 -> 69303972
B93: Kiadások
A94: 1. | B94: Működési költségvetés kiadásai (1.1+…+1.5+1.18.) | C94: =+C95+C96+C97+C98+C99+C100 -> 69154366
A95: 1.1. | B95: Személyi juttatások | C95: 37170346
A96: 1.2. | B96: Munkaadókat terhelő járulékok és szociális hozzájárulási adó | C96: 5812654
A97: 1.3. | B97: Dologi kiadások | C97: 26171366
A98: 1.4. | B98: Ellátottak pénzbeli juttatásai
A99: 1.5 | B99: Egyéb működési célú kiadások
A100: 1.14. | B100: Tartalékok
A101: 1.15. | B101: az 1.18-ból: - Általános tartalék
...

Sheet 9.3.1. sz. mell
C1: =+CONCATENATE("9.3.1. melléklet a .../",LEFT(ÖSSZEFÜGGÉSEK!A5,4),". (…………..) önkormányzati rendelethez") -> 9.3.1. melléklet a .../2021. (…………..) önkormányzati rendelethez
A2: Költségvetési szerv megnevezése | B2: Hencidai Napközi Otthonos Óvoda és Konyha | C2: 03
A3: Feladat megnevezése | B3: Kötelező feladatok bevételei, kiadásai | C3: 01
C4: Forintban !
A5: Száma | B5: Előirányzat-csoport, kiemelt előirányzat megnevezése | C5: Előirányzat
A6: A | B6: B | C6: C
B7: Bevételek
A8: 1. | B8: Önkormányzat működési támogatásai (1.1.+…+.1.6.) | C8: =+C9+C10+C11+C12+C13+C14 -> 0
A9: 1.1. | B9: Helyi önkormányzatok működésének általános támogatása
A10: 1.2. | B10: Önkormányzatok egyes köznevelési feladatainak támogatása
A11: 1.3. | B11: Önkormányzatok szociális és gyermekjóléti feladatainak támogatása
A12: 1.4. | B12: Önkormányzatok kulturális feladatainak támogatása
A13: 1.5. | B13: Működési célú kvi támogatások és kiegészítő támogatások
A14: 1.6. | B14: Elszámolásból származó bevételek
A15: 2. | B15: Működési célú támogatások államháztartáson belülről (2.1.+…+.2.5.) | C15: =+C16+C17+C18+C19+C20 -> 0
A16: 2.1. | B16: Elvonások és befizetések bevételei
A17: 2.2. | B17: Működési célú garancia- és kezességvállalásból megtérülések
A18: 2.3. | B18: Működési célú visszatérítendő támogatások, kölcsönök visszatérülése
A19: 2.4. | B19: Működési célú visszatérítendő támogatások, kölcsönök igénybevétele
A20: 2.5. | B20: Egyéb működési célú támogatások bevételei
A21: 2.6. | B21: 2.5.-ből EU-s támogatás
A22: 3. | B22: Felhalmozási célú támogatások államháztartáson belülről (3.1.+…+3.5.) | C22: =+C23+C24+C25+C26+C27 -> 0
A23: 3.1. | B23: Felhalmozási célú önkormányzati támogatások
A24: 3.2. | B24: Felhalmozási célú garancia- és kezességvállalásból megtérülések
A25: 3.3. | B25: Felhalmozási célú visszatérítendő támogatások, kölcsönök visszatérülése
A26: 3.4. | B26: Felhalmozási célú visszatérítendő támogatások, kölcsönök igénybevétele
A27: 3.5. | B27: Egyéb felhalmozási célú támogatások bevételei
A28: 3.6. | B28: 3.5.-ből EU-s támogatás
A29: 4. | B29: Közhatalmi bevételek (4.1.+4.2.+4.3.+4.4.) | C29: =+C30+C34+C35+C36 -> 0
A30: 4.1. | B30: Helyi adók (4.1.1.+…+4.1.3.) | C30: =+C31+C32+C33 -> 0
A31: 4.1.1. | B31: - Vagyoni típusú adók
A32: 4.1.2. | B32: - Termékek és szolgáltatások adói
A33: 4.1.3. | B33: - Értékesítési és forgalmi adók (iparűzési adó)
A34: 4.2. | B34: Gépjárműadó
A35: 4.3. | B35: Egyéb áruhasználati és szolgáltatási adók
A36: 4.4. | B36: Egyéb közhatalmi bevételek
A37: 5. | B37: Működési bevételek (5.1.+…+ 5.11.) | C37: =SUM(C38:C48) -> 14430250
A38: 5.1. | B38: Készletértékesítés ellenértéke
A39: 5.2. | B39: Szolgáltatások ellenértéke
A40: 5.3. | B40: Közvetített szolgáltatások értéke
A41: 5.4. | B41: Tulajdonosi bevételek
A42: 5.5. | B42: Ellátási díjak (térítési díjak) | C42: ='9.3. sz. mell'!C42 -> 14428250
A43: 5.6. | B43: Kiszámlázott általános forgalmi adó
A44: 5.7. | B44: Általános forgalmi adó visszatérítése
A45: 5.8. | B45: Kamatbevételek | C45: ='9.3. sz. mell'!C45 -> 2000
A46: 5.9. | B46: Egyéb pénzügyi műveletek bevételei
A47: 5.10. | B47: Biztosító által fizetett kártérítés
A48: 5.11. | B48: Egyéb működési bevételek
A49: 6. | B49: Felhalmozási bevételek (6.1.+…+6.5.) | C49: =SUM(C50:C54) -> 0
A50: 6.1. | B50: Immateriális javak értékesítése
A51: 6.2. | B51: Ingatlanok értékesítése
A52: 6.3. | B52: Egyéb tárgyi eszközök értékesítése
A53: 6.4. | B53: Részesedések értékesítése
A54: 6.5. | B54: Részesedések megszűnéséhez kapcsolódó bevételek
A55: 7. | B55: Működési célú átvett pénzeszközök (7.1. + … + 7.3.) | C55: =SUM(C56:C58) -> 0
A56: 7.1. | B56: Működési célú garancia- és kezességvállalásból megtérülések ÁH-n kívülről
A57: 7.2. | B57: Működési célú visszatérítendő támogatások, kölcsönök visszatér. ÁH-n kívülről
A58: 7.3. | B58: Egyéb működési célú átvett pénzeszköz | C58: ='9.3. sz. mell'!C58 -> 0
A59: 7.4. | B59: 7.3.-ból EU-s támogatás (közvetlen)
A60: 8. | B60: Felhalmozási célú átvett pénzeszközök (8.1.+8.2.+8.3.) | C60: =SUM(C61:C63) -> 0
A61: 8.1. | B61: Felhalm. célú garancia- és kezességvállalásból megtérülések ÁH-n k.
A62: 8.2. | B62: Felhalm. célú visszatérítendő támogatások, kölcsönök visszatér. ÁH-n kívülről
A63: 8.3. | B63: Egyéb felhalmozási célú átvett pénzeszköz
A64: 8.4. | B64: 8.3.-ból EU-s támogatás (közvetlen)
A65: 9. | B65: KÖLTSÉGVETÉSI BEVÉTELEK ÖSSZESEN: (1+…+8) | C65: =+C8+C15+C22+C29+C37+C49+C55+C60 -> 14430250
A66: 10. | B66: Hitel-, kölcsönfelvétel államháztartáson kívülről (10.1.+10.3.) | C66: =SUM(C67:C69) -> 0
A67: 10.1. | B67: Hosszú lejáratú hitelek, kölcsönök felvétele
A68: 10.2. | B68: Likviditási célú hitelek, kölcsönök felvétele pénzügyi vállalkozástól
A69: 10.3. | B69: Rövid lejáratú hitelek, kölcsönök felvétele
A70: 11. | B70: Belföldi értékpapírok bevételei (11.1. +…+ 11.4.) | C70: =SUM(C71:C74) -> 0
A71: 11.1. | B71: Forgatási célú belföldi értékpapírok beváltása, értékesítése
A72: 11.2. | B72: Forgatási célú belföldi értékpapírok kibocsátása
A73: 11.3. | B73: Befektetési célú belföldi értékpapírok beváltása, értékesítése
A74: 11.4. | B74: Befektetési célú belföldi értékpapírok kibocsátása
A75: 12. | B75: Maradvány igénybevétele (12.1. + 12.2.) | C75: =SUM(C76:C77) -> 92921
A76: 12.1. | B76: Előző év költségvetési maradványának igénybevétele | C76: ='9.3. sz. mell'!C76 -> 92921
A77: 12.2. | B77: Előző év vállalkozási maradványának igénybevétele
A78: 13. | B78: Belföldi finanszírozás bevételei (13.1. + … + 13.3.) | C78: =SUM(C79:C82) -> 54780801
A79: 13.1. | B79: Államháztartáson belüli megelőlegezések
A80: 13.2. | B80: Államháztartáson belüli megelőlegezések törlesztése
A81: 13.3. | B81: Központi, irányító szervi támogatás | C81: ='9.3. sz. mell'!C81 -> 54780801
A82: 13.4. | B82: Betétek megszüntetése
A83: 14. | B83: Külföldi finanszírozás bevételei (14.1.+…14.4.) | C83: =SUM(C84:C87) -> 0
A84: 14.1. | B84: Forgatási célú külföldi értékpapírok beváltása, értékesítése
A85: 14.2. | B85: Befektetési célú külföldi értékpapírok beváltása, értékesítése
A86: 14.3. | B86: Külföldi értékpapírok kibocsátása
A87: 14.4. | B87: Külföldi hitelek, kölcsönök felvétele
A88: 15. | B88: Váltóbevételek
A89: 16. | B89: Adóssághoz nem kapcsolódó származékos ügyletek bevételei
A90: 17. | B90: FINANSZÍROZÁSI BEVÉTELEK ÖSSZESEN: (10. + … +16.) | C90: =+C66+C70+C75+C78+C83+C89+C88 -> 54873722
A91: 18. | B91: BEVÉTELEK ÖSSZESEN: (9+17) | C91: =+C65+C90 -> 69303972
B93: Kiadások
A94: 1. | B94: Működési költségvetés kiadásai (1.1+…+1.5+1.18.) | C94: =+C95+C96+C97+C98+C99+C100 -> 69154366
A95: 1.1. | B95: Személyi juttatások | C95: ='9.3. sz. mell'!C95 -> 37170346
A96: 1.2. | B96: Munkaadókat terhelő járulékok és szociális hozzájárulási adó | C96: ='9.3. sz. mell'!C96 -> 5812654
A97: 1.3. | B97: Dologi kiadások | C97: ='9.3. sz. mell'!C97 -> 26171366
A98: 1.4. | B98: Ellátottak pénzbeli juttatásai | C98: ='9.3. sz. mell'!C98 -> 0
A99: 1.5 | B99: Egyéb működési célú kiadások | C99: ='9.3. sz. mell'!C99 -> 0
A100: 1.14. | B100: Tartalékok
A101: 1.15. | B101: az 1.18-ból: - Általános tartalék
...

Sheet 9.3.2. sz. mell
C1: =+CONCATENATE("9.3.2. melléklet a ……./",LEFT(ÖSSZEFÜGGÉSEK!A5,4),". (II…...) önkormányzati rendelethez") -> 9.3.2. melléklet a ……./2021. (II…...) önkormányzati rendelethez
A2: Költségvetési szerv megnevezése | B2: Szentpéterszeg Mesevilág Óvoda | C2: 03
A3: Feladat megnevezése | B3: Önként vállalt feladatok bevételei, kiadásai | C3: 03
C4: Ezer forintban !
A5: Száma | B5: Előirányzat-csoport, kiemelt előirányzat megnevezése | C5: Előirányzat
A6: A | B6: B | C6: C
B7: Bevételek
A8: 1. | B8: Működési bevételek (1.1.+…+1.11.) | C8: =SUM(C9:C19) -> 0
A9: 1.1. | B9: Készletértékesítés ellenértéke
A10: 1.2. | B10: Szolgáltatások ellenértéke
A11: 1.3. | B11: Közvetített szolgáltatások értéke
A12: 1.4. | B12: Tulajdonosi bevételek
A13: 1.5. | B13: Ellátási díjak
A14: 1.6. | B14: Kiszámlázott általános forgalmi adó
A15: 1.7. | B15: Általános forgalmi adó visszatérülése
A16: 1.8. | B16: Kamatbevételek
A17: 1.9. | B17: Egyéb pénzügyi műveletek bevételei
A18: 1.10. | B18: Biztosító által fizetett kártérítés
A19: 1.11. | B19: Egyéb működési bevételek
A20: 2. | B20: Működési célú támogatások államháztartáson belülről (2.1.+…+2.3.) | C20: =SUM(C21:C23) -> 0
A21: 2.1. | B21: Elvonások és befizetések bevételei
A22: 2.2. | B22: Visszatérítendő támogatások, kölcsönök visszatérülése ÁH-n belülről
A23: 2.3. | B23: Egyéb működési célú támogatások bevételei államháztartáson belülről
A24: 2.4. | B24: 2.3.-ból EU támogatás
A25: 3. | B25: Közhatalmi bevételek
A26: 4. | B26: Felhalmozási célú támogatások államháztartáson belülről (4.1.+4.2.) | C26: =+C27+C28 -> 0
A27: 4.1. | B27: Visszatérítendő támogatások, kölcsönök visszatérülése ÁH-n belülről
A28: 4.2. | B28: Egyéb felhalmozási célú támogatások bevételei államháztartáson belülről
A29: 4.3. | B29: 4.2.-ből EU-s támogatás
A30: 5. | B30: Felhalmozási bevételek (5.1.+…+5.3.) | C30: =+C31+C32+C33 -> 0
A31: 5.1. | B31: Immateriális javak értékesítése
A32: 5.2. | B32: Ingatlanok értékesítése
A33: 5.3. | B33: Egyéb tárgyi eszközök értékesítése
A34: 6. | B34: Működési célú átvett pénzeszközök
A35: 7. | B35: Felhalmozási célú átvett pénzeszközök
A36: 8. | B36: KÖLTSÉGVETÉSI BEVÉTELEK ÖSSZESEN (1.+…+7.) | C36: =+C8+C20+C25+C26+C30+C34+C35 -> 0
A37: 9. | B37: Finanszírozási bevételek (9.1.+…+9.3.) | C37: =+C38+C39+C40 -> 0
A38: 9.1. | B38: Költségvetési maradvány igénybevétele
A39: 9.2. | B39: Vállalkozási maradvány igénybevétele
A40: 9.3. | B40: Irányító szervi (önkormányzati) támogatás (intézményfinanszírozás)
A41: 10. | B41: BEVÉTELEK ÖSSZESEN: (8.+9.) | C41: =+C36+C37 -> 0
B44: Kiadások
A45: 1. | B45: Működési költségvetés kiadásai (1.1+…+1.5.) | C45: =SUM(C46:C50) -> 0
A46: 1.1. | B46: Személyi juttatások
A47: 1.2. | B47: Munkaadókat terhelő járulékok és szociális hozzájárulási adó
A48: 1.3. | B48: Dologi kiadások
A49: 1.4. | B49: Ellátottak pénzbeli juttatásai
A50: 1.5. | B50: Egyéb működési célú kiadások
A51: 2. | B51: Felhalmozási költségvetés kiadásai (2.1.+…+2.3.) | C51: =SUM(C52:C54) -> 0
A52: 2.1. | B52: Beruházások
A53: 2.2. | B53: Felújítások
A54: 2.3. | B54: Egyéb fejlesztési célú kiadások
A55: 2.4. | B55: 2.3.-ból EU-s támogatásból megvalósuló programok, projektek kiadása
A56: 3. | B56: Finanszírozási kiadások
A57: 4. | B57: KIADÁSOK ÖSSZESEN: (1.+2.+3.) | C57: =+C45+C51+C56 -> 0
A59: Éves tervezett létszám előirányzat (fő)
A60: Közfoglalkoztatottak létszáma (fő)

Sheet 9.3.3. sz. mell
C1: =+CONCATENATE("9.3.3. melléklet a ……/",LEFT(ÖSSZEFÜGGÉSEK!A5,4),". (….) önkormányzati rendelethez") -> 9.3.3. melléklet a ……/2021. (….) önkormányzati rendelethez
A2: Költségvetési szerv megnevezése | B2: Költségvetési szerv I. | C2: 03
A3: Feladat megnevezése | B3: Államigazgatási feladatok bevételei, kiadásai | C3: 04
C4: Ezer forintban !
A5: Száma | B5: Előirányzat-csoport, kiemelt előirányzat megnevezése | C5: Előirányzat
A6: A | B6: B | C6: C
B7: Bevételek
A8: 1. | B8: Működési bevételek (1.1.+…+1.11.) | C8: =SUM(C9:C19) -> 0
A9: 1.1. | B9: Készletértékesítés ellenértéke
A10: 1.2. | B10: Szolgáltatások ellenértéke
A11: 1.3. | B11: Közvetített szolgáltatások értéke
A12: 1.4. | B12: Tulajdonosi bevételek
A13: 1.5. | B13: Ellátási díjak
A14: 1.6. | B14: Kiszámlázott általános forgalmi adó
A15: 1.7. | B15: Általános forgalmi adó visszatérülése
A16: 1.8. | B16: Kamatbevételek
A17: 1.9. | B17: Egyéb pénzügyi műveletek bevételei
A18: 1.10. | B18: Biztosító által fizetett kártérítés
A19: 1.11. | B19: Egyéb működési bevételek
A20: 2. | B20: Működési célú támogatások államháztartáson belülről (2.1.+…+2.3.) | C20: =SUM(C21:C23) -> 0
A21: 2.1. | B21: Elvonások és befizetések bevételei
A22: 2.2. | B22: Visszatérítendő támogatások, kölcsönök visszatérülése ÁH-n belülről
A23: 2.3. | B23: Egyéb működési célú támogatások bevételei államháztartáson belülről
A24: 2.4. | B24: 2.3.-ból EU támogatás
A25: 3. | B25: Közhatalmi bevételek
A26: 4. | B26: Felhalmozási célú támogatások államháztartáson belülről (4.1.+4.2.) | C26: =+C27+C28 -> 0
A27: 4.1. | B27: Visszatérítendő támogatások, kölcsönök visszatérülése ÁH-n belülről
A28: 4.2. | B28: Egyéb felhalmozási célú támogatások bevételei államháztartáson belülről
A29: 4.3. | B29: 4.2.-ből EU-s támogatás
A30: 5. | B30: Felhalmozási bevételek (5.1.+…+5.3.) | C30: =+C31+C32+C33 -> 0
A31: 5.1. | B31: Immateriális javak értékesítése
A32: 5.2. | B32: Ingatlanok értékesítése
A33: 5.3. | B33: Egyéb tárgyi eszközök értékesítése
A34: 6. | B34: Működési célú átvett pénzeszközök
A35: 7. | B35: Felhalmozási célú átvett pénzeszközök
A36: 8. | B36: KÖLTSÉGVETÉSI BEVÉTELEK ÖSSZESEN (1.+…+7.) | C36: =+C8+C20+C25+C26+C30+C34+C35 -> 0
A37: 9. | B37: Finanszírozási bevételek (9.1.+…+9.3.) | C37: =+C38+C39+C40 -> 0
A38: 9.1. | B38: Költségvetési maradvány igénybevétele
A39: 9.2. | B39: Vállalkozási maradvány igénybevétele
A40: 9.3. | B40: Irányító szervi (önkormányzati) támogatás (intézményfinanszírozás)
A41: 10. | B41: BEVÉTELEK ÖSSZESEN: (8.+9.) | C41: =+C36+C37 -> 0
B44: Kiadások
A45: 1. | B45: Működési költségvetés kiadásai (1.1+…+1.5.) | C45: =SUM(C46:C50) -> 0
A46: 1.1. | B46: Személyi juttatások
A47: 1.2. | B47: Munkaadókat terhelő járulékok és szociális hozzájárulási adó
A48: 1.3. | B48: Dologi kiadások
A49: 1.4. | B49: Ellátottak pénzbeli juttatásai
A50: 1.5. | B50: Egyéb működési célú kiadások
A51: 2. | B51: Felhalmozási költségvetés kiadásai (2.1.+…+2.3.) | C51: =SUM(C52:C54) -> 0
A52: 2.1. | B52: Beruházások
A53: 2.2. | B53: Felújítások
A54: 2.3. | B54: Egyéb fejlesztési célú kiadások
A55: 2.4. | B55: 2.3.-ból EU-s támogatásból megvalósuló programok, projektek kiadása
A56: 3. | B56: Finanszírozási kiadások
A57: 4. | B57: KIADÁSOK ÖSSZESEN: (1.+2.+3.) | C57: =+C45+C51+C56 -> 0
A59: Éves tervezett létszám előirányzat (fő)
A60: Közfoglalkoztatottak létszáma (fő)

Sheet 10.sz.mell
A1: Adatszolgáltatás az elismert tartozásállományról
A3: Költségvetési szerv neve: Hencida Község Önkormányzata
A5: Költségvetési szerv számlaszáma: 11738046-15373003
A7: Éves eredeti kiadási előirányzat: 333.836.768 Ft
A8: ,
A9: 30 napon túli elismert tartozásállomány összesen: .- Ft
A12: Sor-szám | B12: Tartozásállomány megnevezése | C12: 30 nap alatti állomány | D12: 30-60 nap közötti állomány | E12: 60 napon túli állomány | F12: Át-ütemezett | G12: Összesen:
A13: 1. | B13: Állammal szembeni tartozások | G13: =SUM(C13:F13) -> 0
A14: 2. | B14: Központi költségvetéssel szemben fennálló tartozás | G14: =SUM(C14:F14) -> 0
A15: 3. | B15: Elkülönített állami pénzalapokkal szembeni tartozás | G15: =SUM(C15:F15) -> 0
A16: 4. | B16: TB alapokkal szembeni tartozás | G16: =SUM(C16:F16) -> 0
A17: 5. | B17: Tartozásállomány önkormányzatok és intézmények felé (Esztár, BÖTKT) | G17: =SUM(C17:F17) -> 0
A18: 6. | B18: Egyéb tartozásállomány | G18: =SUM(C18:F18) -> 0
A19: 7. | B19: Összesen: | C19: =SUM(C13:C18) -> 0 | D19: =SUM(D13:D18) -> 0 | E19: =SUM(E13:E18) -> 0 | F19: =SUM(F13:F18) -> 0 | G19: =SUM(C19:F19) -> 0
A23: =+CONCATENATE("Hencida, ",LEFT(ÖSSZEFÜGGÉSEK!A5,4),". ………………………….... nap") -> Hencida, 2021. ………………………….... nap
D27: költségvetési szerv vezetője s.k.

Sheet 1. sz tájékoztató t.
A1: B E V É T E L E K
A2: 1. sz. táblázat | C2: Forintban
A3: Sor- szám | B3: Bevételi jogcím | C3: =+'1.1.sz.mell.'!C3 -> 2021. évi eredeti előirányzat
A4: A | B4: B | C4: E
A5: 1. | B5: Önkormányzat működési támogatásai (1.1.+…+.1.6.) | C5: =+C6+C7+C8+C9+C10+C11 -> 174040585
A6: 1.1. | B6: Helyi önkormányzatok működésének általános támogatása | C6: ='1.1.sz.mell.'!C6 -> 71105274
A7: 1.2. | B7: Önkormányzatok egyes köznevelési feladatainak támogatása | C7: ='1.1.sz.mell.'!C7 -> 54780801
A8: 1.3. | B8: Önkormányzatok szociális és gyermekjóléti feladatainak támogatása | C8: ='1.1.sz.mell.'!C8 -> 45544000
A9: 1.4. | B9: Önkormányzatok kulturális feladatainak támogatása | C9: ='1.1.sz.mell.'!C9 -> 2610510
A10: 1.5. | B10: Működési célú kvi támogatások és kiegészítő támogatások | C10: ='1.1.sz.mell.'!C10 -> 0
A11: 1.6. | B11: Elszámolásból származó bevételek | C11: ='1.1.sz.mell.'!C11 -> 0
A12: 2. | B12: Működési célú támogatások államháztartáson belülről (2.1.+…+.2.5.) | C12: =+C13+C14+C15+C16+C17 -> 0
A13: 2.1. | B13: Elvonások és befizetések bevételei
A14: 2.2. | B14: Működési célú garancia- és kezességvállalásból megtérülések
A15: 2.3. | B15: Működési célú visszatérítendő támogatások, kölcsönök visszatérülése
A16: 2.4. | B16: Működési célú visszatérítendő támogatások, kölcsönök igénybevétele
A17: 2.5. | B17: Egyéb működési célú támogatások bevételei | C17: ='1.1.sz.mell.'!C17 -> 0
A18: 2.6. | B18: 2.5.-ből EU-s támogatás
A19: 3. | B19: Felhalmozási célú támogatások államháztartáson belülről (3.1.+…+3.5.) | C19: =+C20+C21+C22+C23+C24 -> 0
A20: 3.1. | B20: Felhalmozási célú önkormányzati támogatások
A21: 3.2. | B21: Felhalmozási célú garancia- és kezességvállalásból megtérülések
A22: 3.3. | B22: Felhalmozási célú visszatérítendő támogatások, kölcsönök visszatérülése
A23: 3.4. | B23: Felhalmozási célú visszatérítendő támogatások, kölcsönök igénybevétele
A24: 3.5. | B24: Egyéb felhalmozási célú támogatások bevételei
A25: 3.6. | B25: 3.5.-ből EU-s támogatás
A26: 4. | B26: Közhatalmi bevételek (4.1.+4.2.+4.3.+4.4.) | C26: =+C27+C31+C32+C33 -> 10414500
A27: 4.1. | B27: Helyi adók (4.1.1.+...+4.1.3.) | C27: =C30 -> 10414500
A28: 4.1.1. | B28: - Vagyoni típusú adók
A29: 4.1.2. | B29: - Termékek és szolgáltatások adói
A30: 4.1.3. | B30: - Értékesítési és forgalmi adók (iparűzési adó) | C30: ='1.1.sz.mell.'!C30 -> 10414500
A31: 4.2. | B31: Gépjárműadó | C31: ='1.1.sz.mell.'!C31 -> 0
A32: 4.3. | B32: Egyéb áruhasználati és szolgáltatási adók
A33: 4.4. | B33: Egyéb közhatalmi bevételek
A34: 5. | B34: Működési bevételek (5.1.+…+ 5.11.) | C34: =SUM(C35:C45) -> 24639817
A35: 5.1. | B35: Készletértékesítés ellenértéke
A36: 5.2. | B36: Szolgáltatások ellenértéke | C36: ='1.1.sz.mell.'!C36 -> 7980000
A37: 5.3. | B37: Közvetített szolgáltatások értéke
A38: 5.4. | B38: Tulajdonosi bevételek | C38: ='1.1.sz.mell.'!C38 -> 1753990
A39: 5.5. | B39: Ellátási díjak | C39: ='1.1.sz.mell.'!C39 -> 14428250
A40: 5.6. | B40: Kiszámlázott általános forgalmi adó | C40: ='1.1.sz.mell.'!C40 -> 473577
A41: 5.7. | B41: Általános forgalmi adó visszatérítése
A42: 5.8. | B42: Kamatbevételek | C42: ='1.1.sz.mell.'!C42 -> 4000
A43: 5.9. | B43: Egyéb pénzügyi műveletek bevételei
A44: 5.10. | B44: Biztosító által fizetett kártérítés
A45: 5.11. | B45: Egyéb működési bevételek | C45: ='1.1.sz.mell.'!C33 -> 0
A46: 6. | B46: Felhalmozási bevételek (6.1.+…+6.5.) | C46: =SUM(C47:C51) -> 0
A47: 6.1. | B47: Immateriális javak értékesítése
A48: 6.2. | B48: Ingatlanok értékesítése
A49: 6.3. | B49: Egyéb tárgyi eszközök értékesítése
A50: 6.4. | B50: Részesedések értékesítése
A51: 6.5. | B51: Részesedések megszűnéséhez kapcsolódó bevételek
A52: 7. | B52: Működési célú átvett pénzeszközök (7.1. + … + 7.3.) | C52: =SUM(C53:C55) -> 92245156
A53: 7.1. | B53: Működési célú garancia- és kezességvállalásból megtérülések ÁH-n kívülről
A54: 7.2. | B54: Működési célú visszatérítendő támogatások, kölcsönök visszatér. ÁH-n kívülről
A55: 7.3. | B55: Egyéb működési célú átvett pénzeszköz | C55: ='1.1.sz.mell.'!C55 -> 92245156
A56: 7.4. | B56: 7.3.-ból EU-s támogatás (közvetlen)
A57: 8. | B57: Felhalmozási célú átvett pénzeszközök (8.1.+8.2.+8.3.) | C57: =SUM(C58:C60) -> 0
A58: 8.1. | B58: Felhalm. célú garancia- és kezességvállalásból megtérülések ÁH-n kívülről
A59: 8.2. | B59: Felhalm. célú visszatérítendő támogatások, kölcsönök visszatér. ÁH-n kívülről
A60: 8.3. | B60: Egyéb felhalmozási célú átvett pénzeszköz | C60: ='1.1.sz.mell.'!C60 -> 0
A61: 8.4. | B61: 8.3.-ból EU-s támogatás (közvetlen)
A62: 9. | B62: KÖLTSÉGVETÉSI BEVÉTELEK ÖSSZESEN: (1+…+8) | C62: =+C5+C12+C19+C26+C34+C46+C52+C57 -> 301340058
A63: 10. | B63: Hitel-, kölcsönfelvétel államháztartáson kívülről (10.1.+…+10.3.) | C63: =SUM(C64:C66) -> 0
A64: 10.1. | B64: Hosszú lejáratú hitelek, kölcsönök felvétele
A65: 10.2. | B65: Likviditási célú hitelek, kölcsönök felvétele pénzügyi vállalkozástól
A66: 10.3. | B66: Rövid lejáratú hitelek, kölcsönök felvétele
A67: 11. | B67: Belföldi értékpapírok bevételei (11.1. +…+ 11.4.) | C67: =SUM(C68:C71) -> 0
A68: 11.1. | B68: Forgatási célú belföldi értékpapírok beváltása, értékesítése
A69: 11.2. | B69: Forgatási célú belföldi értékpapírok kibocsátása
A70: 11.3. | B70: Befektetési célú belföldi értékpapírok beváltása, értékesítése
A71: 11.4. | B71: Befektetési célú belföldi értékpapírok kibocsátása
A72: 12. | B72: Maradvány igénybevétele (12.1. + 12.2.) | C72: =SUM(C73:C74) -> 32496710
A73: 12.1. | B73: Előző év költségvetési maradványának igénybevétele | C73: ='1.1.sz.mell.'!C73 -> 32496710
A74: 12.2. | B74: Előző év vállalkozási maradványának igénybevétele
A75: 13. | B75: Belföldi finanszírozás bevételei (13.1. + … + 13.3.) | C75: =SUM(C76:C79) -> 0
A76: 13.1. | B76: Államháztartáson belüli megelőlegezések
A77: 13.2. | B77: Államháztartáson belüli megelőlegezések törlesztése
A78: 13.3. | B78: Intézményfinanszírozás | C78: ='1.1.sz.mell.'!C78 -> 0
A79: 14. | B79: Külföldi finanszírozás bevételei (14.1.+…14.4.) | C79: =SUM(C80:C83) -> 0
A80: 14.1. | B80: Forgatási célú külföldi értékpapírok beváltása, értékesítése
A81: 14.2. | B81: Befektetési célú külföldi értékpapírok beváltása, értékesítése
A82: 14.3. | B82: Külföldi értékpapírok kibocsátása
A83: 14.4. | B83: Külföldi hitelek, kölcsönök felvétele
A84: 15. | B84: Váltóbevételek
A85: 16. | B85: Adóssághoz nem kapcsolódó származékos ügyletek bevételei
A86: 17. | B86: FINANSZÍROZÁSI BEVÉTELEK ÖSSZESEN: (10. + … +16.) | C86: =+C63+C67+C72+C75+C79+C85+C84 -> 32496710
A87: 18. | B87: KÖLTSÉGVETÉSI ÉS FINANSZÍROZÁSI BEVÉTELEK ÖSSZESEN: (9+17) | C87: =+C62+C86 -> 333836768
A89: K I A D Á S O K
A90: 2. sz. táblázat | C90: Forintban
A91: Sor-szám | B91: Kiadási jogcímek | C91: =+C3 -> 2021. évi eredeti előirányzat
A92: A | B92: B | C92: E
A93: 1. | B93: Működési költségvetés kiadásai (1.1+…+1.5.+1.18.) | C93: =+C94+C95+C96+C97+C98+C105 -> 325147433
A94: 1.1. | B94: Személyi juttatások | C94: ='1.1.sz.mell.'!C96 -> 160619351
A95: 1.2. | B95: Munkaadókat terhelő járulékok és szociális hozzájárulási adó | C95: ='1.1.sz.mell.'!C97 -> 21422158
A96: 1.3. | B96: Dologi kiadások | C96: ='1.1.sz.mell.'!C98 -> 96209560
A97: 1.4. | B97: Ellátottak pénzbeli juttatásai | C97: ='1.1.sz.mell.'!C99 -> 36599000
A98: 1.5 | B98: Egyéb működési célú kiadások | C98: ='1.1.sz.mell.'!C100 -> 10297364
A99: 1.6. | B99: - az 1.5-ből: - Előző évi elszámolásból származó befizetések | C99: ='1.1.sz.mell.'!C101 -> 0
A100: 1.10. | B100: -Visszatérítendő támogatások, kölcsönök nyújtása ÁH-n belülre | C100: ='1.1.sz.mell.'!C105 -> 1960000
A101: 1.11. | B101: - Visszatérítendő támogatások, kölcsönök törlesztése ÁH-n belülre
...

Sheet 2. sz tájékoztató t
A1: Többéves kihatással járó döntések számszerűsítése évenkénti bontásban és összesítve célok szerint
I2: Forintban !
A3: Sor- szám | B3: Kötelezettség jogcíme | C3: Köt. váll. éve | D3: =+CONCATENATE(LEFT(ÖSSZEFÜGGÉSEK!A5,4)," előtti kifizetés") -> 2021 előtti kifizetés | E3: Kiadás vonzata évenként | I3: Összesen
E4: =+CONCATENATE(LEFT(ÖSSZEFÜGGÉSEK!A5,4),".") -> 2021. | F4: =+CONCATENATE(LEFT(ÖSSZEFÜGGÉSEK!A5,4)+1,".") -> 2022. | G4: =+CONCATENATE(LEFT(ÖSSZEFÜGGÉSEK!A5,4)+2,".") -> 2023. | H4: =+CONCATENATE(LEFT(ÖSSZEFÜGGÉSEK!A5,4)+2,".",CHAR(10)," után") -> 2023. után
A5: A | B5: B | C5: C | D5: D | E5: E | F5: F | G5: G | H5: H | I5: I=(D+E+F+G+H)
A6: 1. | B6: Működési célú finanszírozási kiadások (hiteltörlesztés, értékpapír vásárlás, stb.) | D6: =+D7+D8 -> 0 | E6: =+E7+E8 -> 0 | F6: =+F7+F8 -> 0 | G6: =+G7+G8 -> 0 | H6: =+H7+H8 -> 0 | I6: =SUM(D6:H6) -> 0
A7: 2. | B7: ............................ | I7: =SUM(D7:H7) -> 0 | J7: 2. tájékoztató tábla a ../……….... (…………...) önkorm. Rendelethez
A8: 3. | B8: ............................ | I8: =SUM(D8:H8) -> 0
A9: 4. | B9: Felhalmozási célú finanszírozási kiadások (hiteltörlesztés, értékpapír vásárlás, stb.) | D9: =+D10+D11 -> 0 | E9: =+E10+E11 -> #VALUE! | F9: =+F10+F11 -> 0 | G9: =+G10+G11 -> 0 | H9: =+H10+H11 -> 0 | I9: =SUM(D9:H9) -> #VALUE!
A10: 5. | B10: ............................ | I10: =SUM(D10:H10) -> 0
A11: 6. | B11: ............................ | E11: NEMLEGES | I11: =SUM(D11:H11) -> 0
A12: 7. | B12: Beruházási kiadások beruházásonként | C12: =+C13+C14+C15 -> 0 | D12: =+D13+D14+D15 -> 0 | E12: =+E13+E14+E15 -> 0 | F12: =+F13+F14+F15 -> 0 | G12: =+G13 -> 0 | H12: =+H13 -> 0 | I12: =SUM(D12:H12) -> 0
A13: 8. | B13: Konyhafelújítás pályázat eszközbeszerzés Óvodába | D13: 0 | I13: =SUM(D13:H13) -> 0
A14: 9. | B14: Kisértékű tárgyi eszköz beszerzés (Vízműtől vásárolt eszk.) | I14: =SUM(D14:H14) -> 0
A15: 10. | B15: Iparterület fejlesztés (TOP-1.1.1-15) építés | I15: =SUM(D15:H15) -> 0
A16: 11. | B16: Felújítási kiadások felújításonként | D16: =+D17 -> 0 | G16: =+G17 -> 0 | H16: =+H17 -> 0 | I16: =SUM(D16:H16) -> 0
A17: 12. | B17: Konyhafelújítás pályázat épületfelújítás Óvodába | I17: =SUM(D17:H17) -> 0
A18: 13. | B18: Egyéb (Pl.: garancia és kezességvállalás, stb.) | D18: =+D19 -> 0 | E18: =+E19 -> 0 | F18: =+F19 -> 0 | G18: =+G19 -> 0 | H18: =+H19 -> 0 | I18: =SUM(D18:H18) -> 0
A19: 14. | B19: ............................ | I19: =SUM(D19:H19) -> 0
A20: Összesen (1+4+7+9+11) | D20: =+D6+D9+D12+D16+D18 -> 0 | E20: =+E6+E9+E12+E16+E18 -> #VALUE! | F20: =+F6+F9+F12+F16+F18 -> 0 | G20: =+G6+G9+G12+G16+G18 -> 0 | H20: =+H6+H9+H12+H16+H18 -> 0 | I20: =+I6+I9+I12+I16+I18 -> #VALUE!

Sheet 3. sz tájékoztató t.
B1: Az önkormányzat által adott közvetett támogatások (kedvezmények)
D2: Forintban !
A3: Sor-szám | B3: Bevételi jogcím | C3: Kedvezmény nélkül elérhető bevétel | D3: Kedvezmények összege
A4: A | B4: B | C4: C | D4: D
A5: 1. | B5: Ellátottak térítési díjának méltányosságból történő elengedése
A6: 2. | B6: Ellátottak kártérítésének méltányosságból történő elengedése
A7: 3. | B7: Lakosság részére lakásépítéshez nyújtott kölcsön elengedése
A8: 4. | B8: Lakosság részére lakásfelújításhoz nyújtott kölcsön elengedése
A9: 5. | B9: Helyi adóból biztosított kedvezmény, mentesség összesen
A10: 6. | B10: -ebből: Építményadó
A11: 7. | B11: Telekadó
A12: 9. | B12: Magánszemélyek kommunális adója
A13: 10. | B13: Idegenforgalmi adó tartózkodás után
A14: 11. | B14: Idegenforgalmi adó épület után
A15: 12. | B15: Iparűzési adó állandó jelleggel végzett iparűzési tevékenység után | C15: 150001 | D15: 150000
A16: 13. | B16: Gépjárműadóból biztosított kedvezmény, mentesség
A17: 14. | B17: Helyiségek hasznosítása utáni kedvezmény, mentesség
A18: 15. | B18: Eszközök hasznosítása utáni kedvezmény, mentesség
A19: 16. | B19: Egyéb kedvezmény
A20: 17. | B20: Egyéb kölcsön elengedése
A21: 18.
A22: 19.
A23: 20.
A24: 21.
A25: 22.
A26: 23.
A27: 24.
A28: 25.
A29: 26.
A30: 27. | B30: Összesen: | C30: =+C5+C6+C7+C8+C9+C16+C17+C18+C19+C20+C21+C22+C23+C24+C25+C26+C27+C28+C29 -> 0 | D30: =+D5+D6+D7+D8+D9+D16+D17+D18+D19+D20+D21+D22+D23+D24+D25+D26+D27+D28+D29 -> 0

Sheet 4.sz tájékoztató t.
A1: =+CONCATENATE("Előirányzat-felhasználási terv",CHAR(10),LEFT(ÖSSZEFÜGGÉSEK!A5,4),". évre") -> Előirányzat-felhasználási terv 2021. évre
O2: Forintban !
A3: Sor-szám | B3: Megnevezés | C3: Január | D3: Február | E3: Március | F3: Április | G3: Május | H3: Június | I3: Július | J3: Auguszt. | K3: Szept. | L3: Okt. | M3: Nov. | N3: Dec. | O3: Összesen:
A4: 1. | B4: Bevételek
A5: 2. | B5: Önkormányzatok működési támogatásai | C5: =$O5/12 -> 14503382 | D5: =$O5/12 -> 14503382 | E5: =$O5/12 -> 14503382 | F5: =$O5/12 -> 14503382 | G5: =$O5/12 -> 14503382 | H5: =$O5/12 -> 14503382 | I5: =$O5/12 -> 14503382 | J5: =$O5/12 -> 14503382 | ... N5: =$O5/12 -> 14503382 | O5: ='1.1.sz.mell.'!C5 -> 174040585
A6: 3. | B6: Működési célú támogatások ÁH-on belül | C6: =$O6/12 -> 0 | D6: =$O6/12 -> 0 | E6: =$O6/12 -> 0 | F6: =$O6/12 -> 0 | G6: =$O6/12 -> 0 | H6: =$O6/12 -> 0 | I6: =$O6/12 -> 0 | J6: =$O6/12 -> 0 | ... N6: =$O6/12 -> 0 | O6: ='1.1.sz.mell.'!C12 -> 0
A7: 4. | B7: Felhalmozási célú támogatások ÁH-on belül | C7: =$O7/12 -> 0 | O7: ='1.1.sz.mell.'!C19 -> 0
A8: 5. | B8: Közhatalmi bevételek | E8: =O8/2 -> 5207250 | K8: =E8 -> 5207250 | O8: ='1.1.sz.mell.'!C26 -> 10414500
A9: 6. | B9: Működési bevételek | C9: =$O9/12 -> 2053318.1 | D9: =$O9/12 -> 2053318.1 | E9: =$O9/12 -> 2053318.1 | F9: =$O9/12 -> 2053318.1 | G9: =$O9/12 -> 2053318.1 | H9: =$O9/12 -> 2053318.1 | I9: =$O9/12 -> 2053318.1 | J9: =$O9/12 -> 2053318.1 | ... N9: =$O9/12 -> 2053318.1 | O9: ='1.1.sz.mell.'!C34 -> 24639817
A10: 7. | B10: Felhalmozási bevételek | O10: ='1.1.sz.mell.'!C46 -> 0
A11: 8. | B11: Működési célú átvett pénzeszközök | C11: =$O11/12 -> 7687096.3 | D11: =$O11/12 -> 7687096.3 | E11: =$O11/12 -> 7687096.3 | F11: =$O11/12 -> 7687096.3 | G11: =$O11/12 -> 7687096.3 | H11: =$O11/12 -> 7687096.3 | I11: =$O11/12 -> 7687096.3 | J11: =$O11/12 -> 7687096.3 | ... N11: =$O11/12 -> 7687096.3 | O11: ='1.1.sz.mell.'!C52 -> 92245156
A12: 9. | B12: Felhalmozási célú átvett pénzeszközök | I12: =O12 -> 0 | O12: ='1.1.sz.mell.'!C57 -> 0
A13: 10. | B13: Finanszírozási bevételek | C13: ='1. sz tájékoztató t.'!C86 -> 32496710 | O13: =SUM(C13:N13) -> 32496710
A14: 11. | B14: Bevételek összesen: | C14: =SUM(C5:C13) -> 56740506 | D14: =SUM(D5:D13) -> 24243796 | E14: =SUM(E5:E13) -> 29451046 | F14: =SUM(F5:F13) -> 24243796 | G14: =SUM(G5:G13) -> 24243796 | H14: =SUM(H5:H13) -> 24243796 | I14: =SUM(I5:I13) -> 24243796 | J14: =SUM(J5:J13) -> 24243796 | ... O14: =SUM(O5:O13) -> 333836768
A15: 12. | B15: Kiadások
A16: 13. | B16: Személyi juttatások | C16: =$O16/12 -> 13384946 | D16: =$O16/12 -> 13384946 | E16: =$O16/12 -> 13384946 | F16: =$O16/12 -> 13384946 | G16: =$O16/12 -> 13384946 | H16: =$O16/12 -> 13384946 | I16: =$O16/12 -> 13384946 | J16: =$O16/12 -> 13384946 | ... N16: =$O16/12 -> 13384946 | O16: ='1.1.sz.mell.'!C96 -> 160619351
A17: 14. | B17: Munkaadókat terhelő járulékok és szociális hozzájárulási adó | C17: =$O17/12 -> 1785179.8 | D17: =$O17/12 -> 1785179.8 | E17: =$O17/12 -> 1785179.8 | F17: =$O17/12 -> 1785179.8 | G17: =$O17/12 -> 1785179.8 | H17: =$O17/12 -> 1785179.8 | I17: =$O17/12 -> 1785179.8 | J17: =$O17/12 -> 1785179.8 | ... N17: =$O17/12 -> 1785179.8 | O17: ='1.1.sz.mell.'!C97 -> 21422158
A18: 15. | B18: Dologi kiadások | C18: =$O18/12 -> 8017463.3 | D18: =$O18/12 -> 8017463.3 | E18: =$O18/12 -> 8017463.3 | F18: =$O18/12 -> 8017463.3 | G18: =$O18/12 -> 8017463.3 | H18: =$O18/12 -> 8017463.3 | I18: =$O18/12 -> 8017463.3 | J18: =$O18/12 -> 8017463.3 | ... N18: =$O18/12 -> 8017463.3 | O18: ='1.1.sz.mell.'!C98 -> 96209560
A19: 16. | B19: Ellátottak pénzbeli juttatásai | C19: =$O19/12 -> 3049916.7 | D19: =$O19/12 -> 3049916.7 | E19: =$O19/12 -> 3049916.7 | F19: =$O19/12 -> 3049916.7 | G19: =$O19/12 -> 3049916.7 | H19: =$O19/12 -> 3049916.7 | I19: =$O19/12 -> 3049916.7 | J19: =$O19/12 -> 3049916.7 | ... N19: =$O19/12 -> 3049916.7 | O19: ='1.1.sz.mell.'!C99 -> 36599000
A20: 17. | B20: Egyéb működési célú kiadások | C20: =$O20/12 -> 858113.67 | D20: =$O20/12 -> 858113.67 | E20: =$O20/12 -> 858113.67 | F20: =$O20/12 -> 858113.67 | G20: =$O20/12 -> 858113.67 | H20: =$O20/12 -> 858113.67 | I20: =$O20/12 -> 858113.67 | J20: =$O20/12 -> 858113.67 | ... N20: =$O20/12 -> 858113.67 | O20: ='1.1.sz.mell.'!C100 -> 10297364
A21: 18. | B21: Beruházások | E21: =O21 -> 149606 | O21: ='1.1.sz.mell.'!C117 -> 149606
A22: 19. | B22: Felújítások | E22: =O22 -> 3540408 | O22: ='1.1.sz.mell.'!C119 -> 3540408
A23: 20. | B23: Egyéb felhalmozási kiadások | E23: =O23 -> 4999321 | O23: ='1.1.sz.mell.'!C121 -> 4999321
A24: 21. | B24: Finanszírozási kiadások | O24: ='1.1.sz.mell.'!C104 -> 0
A25: 22. | B25: Kiadások összesen: | C25: =SUM(C16:C24) -> 27095619 | D25: =SUM(D16:D24) -> 27095619 | E25: =SUM(E16:E24) -> 35784954 | F25: =SUM(F16:F24) -> 27095619 | G25: =SUM(G16:G24) -> 27095619 | H25: =SUM(H16:H24) -> 27095619 | I25: =SUM(I16:I24) -> 27095619 | J25: =SUM(J16:J24) -> 27095619 | ... O25: =SUM(O16:O24) -> 333836768
A26: 23. | B26: Egyenleg | C26: =C14-C25 -> 29644887 | D26: =D14-D25 -> -2851822.9 | E26: =E14-E25 -> -6333907.9 | F26: =F14-F25 -> -2851822.9 | G26: =G14-G25 -> -2851822.9 | H26: =H14-H25 -> -2851822.9 | I26: =I14-I25 -> -2851822.9 | J26: =J14-J25 -> -2851822.9 | ... O26: =O14-O25 -> 0

Sheet 5.sz tájékoztató t.
A1: Hencida Község Önkormányzata 2021. évi Állami támogatása jogcímenként
A3: Működési költségvetési támogatás összesen: | B3: =B4+B23+B40+B48 -> 174040585
A4: I. A HELYI ÖNKORMÁNYZATOK MŰKÖDÉSÉNEK ÁLTALÁNOS TÁMOGATÁSA | B4: =B5 -> 71105274
A5: I.1. A települési önkormányzatok működésének támogatása | B5: =B6+B9+B18+B20+B21+B22 -> 71105274
A6: I.1.a) Önkormányzati hivatal működésének támogatása | B6: =B7 -> 49869115
A7: I.1.a)-V Önkormányzati hivatal működésének támogatása | B7: 49869115
A8: I.1.b) Település-üzemeltetéshez kapcsolódó feladatellátás támogatása összesen | B8: =B9 -> 13231059
A9: I.1.b) - V. Támogatás összesen - beszámítás után | B9: =B10+B12+B14+B16 -> 13231059
A10: I.1.ba) A zöldterület-gazdálkodással kapcsolatos feladatok ellátásának támogatása | B10: =B11 -> 3366720
A11: I.1.ba) - V. A zöldterület-gazdálkodással kapcsolatos feladatok ellátásának támogatása - beszámítás után | B11: 3366720
A12: I.1.bb) Közvilágítás fenntartásának támogatása | B12: =B13 -> 4032000
A13: I.1.bb) - V. Közvilágítás fenntartásának támogatása - beszámítás után | B13: 4032000
A14: I.1.bc) Köztemető fenntartással kapcsolatos feladatok támogatása | B14: =B15 -> 2499525
A15: I.1.bc) - V. Köztemető fenntartással kapcsolatos feladatok támogatása - beszámítás után | B15: 2499525
A16: I.1.bd) Közutak fenntartásának támogatása | B16: =B17 -> 3332814
A17: I.1.bd) - V. Közutak fenntartásának támogatása - beszámítás után | B17: 3332814
A18: I.1.c) Egyéb önkormányzati feladatok támogatása | B18: =B19 -> 8000000
A19: I.1.c) - V. Egyéb önkormányzati feladatok támogatása - beszámítás után | B19: 8000000
A20: I.1.d) Lakott külterülettel kapcsolatos feladatok támogatása | B20: 5100
A21: V. I.1. kiegészítés I.1. jogcímekhez kapcsolódó kiegészítés
A22: I A helyi önkormányzatok kműködésének általános támogatása összesen
A23: II. A TELEPÜLÉSI ÖNKORMÁNYZATOK EGYES KÖZNEVELÉSI FELADATAINAK TÁMOGATÁSA | B23: =B25+B28+B32+B37+B24 -> 35339200
A24: II.1. Óvodapedagógusok, és az óvodapedagógusok nevelő munkáját közvetlenül segítők bértámogatása
A25: 2020. évben 8 hónapra | B25: =B26+B27 -> 4870000
A26: II.1. (1) 1 óvodapedagógusok elismert létszáma | B26: 4870000
A27: II.1. (2) 1 óvodapedagógusok nevelő munkáját közvetlenül segítők száma a Köznev. tv. 2. melléklete szerint
A28: 2020. évben 4 hónapra | B28: =B29+B30+B31 -> 24631200
A29: II.1. (1) 2 óvodapedagógusok elismert létszáma | B29: 23335200
A30: II.1. (2) 2 óvodapedagógusok nevelő munkáját közvetlenül segítők száma a Köznev. tv. 2. melléklete szerint | B30: 1296000
A31: II.1. (12) 2 óvodapedagógusok nevelő munkáját közvetlenül segítők száma a Köznev. tv. 2.melléklet szerint
A32: II.2. Óvodaműködtetési támogatás | B32: =B34+B36 -> 5838000
A33: 2020. évben 8 hónapra
A34: II.2. (1) 1 gyermekek nevelése a napi 8 órát eléri vagy meghaladja | B34: 5838000
A35: 2020. évben 4 hónapra
A36: II.2. (1) 2 gyermekek nevelése a napi 8 órát eléri vagy meghaladja
A37: II.4. Kiegészítő támogatás az óvodapedagógusok minősítéséből adódó többletkiadásokhoz | B37: =B38+B39 -> 0
A38: II.4.a (1) Pedagógus II. kategóriába sorolt óvodapedagógusok kiegészítő támogatása
A39: II.4.a (1) Pedagógus II. kategóriába sorolt óvodapedagógusok kiegészítő támogatásab
A40: III. A TELEPÜLÉSI ÖNKORMÁNYZATOK SZOCIÁLIS, GYERMEKJÓLÉTI ÉS GYERMEKÉTKEZTETÉSI FELADATAINAK TÁMOGATÁSA | B40: =B41+B42+B43 -> 64985601
A41: III.2. A települési önkormányzatok szociális feladatainak egyéb támogatása | B41: 36599000
A42: III.3.a Család- és gyermekjóléti szólgélat | B42: 4100000
A43: III.5. Gyermekétkeztetés támogatása | B43: =B44+B45+B46+B47 -> 24286601
A44: III.5.a) A finanszírozás szempontjából elismert dolgozók bértámogatása | B44: 10216800
A45: III.5.b) Gyermekétkeztetés üzemeltetési támogatása | B45: 9224801
A46: III.6. A rászoruló gyermekekszünidei étkeztetésienek támogatásaGyermekétkeztetés üzemeltetési támogatása | B46: 4845000
A48: IV.A települési önkormányzatok kulturális feladatainak támogatása | B48: =B49 -> 2610510
A49: IV.1.d. Könyvtári, közművelődési feladatok támogatása | B49: 2610510

Sheet 6.sz tájékoztató t.
A1: =+CONCATENATE("K I M U T A T Á S",CHAR(10),"a ",LEFT(ÖSSZEFÜGGÉSEK!A5,4),". évben céljelleggel juttatott támogatásokról") -> K I M U T A T Á S a 2021. évben céljelleggel juttatott támogatásokról
C3: Forintban !
A4: Sor- szám | B4: Támogatott szervezet neve | C4: Támogatás célja | D4: Támogatás összge
A5: 1. | B5: Hencidai Sport Egyesület | C5: Folyamatos müködés elősegitésére | D5: 200000
A6: 2. | B6: Hencida Polgárőregyesület | C6: Folyamatos müködés elősegitésére | D6: 200000
A7: 3. | B7: Hencda Községért Alapítvány | C7: Folyamatos müködés elősegitésére | D7: 100000
A8: 4. | B8: Mujib Bt | C8: Folyamatos müködés elősegitésére | D8: 900000
A9: 5. | B9: Együtt Egymnásért Egyesület | C9: Folyamatos müködés elősegitésére | D9: 100000
A10: 6. | B10: Hencida Fejlődéséért Alapítvány | C10: Folyamatos müködés elősegitésére | D10: 100000
A11: 7.
A12: 8.
A13: 9.
A14: 10.
A15: 11.
A16: 12.
A17: 13.
A18: 14.
A19: 15.
A20: 16.
A21: 17.
A22: 18.
... A38: 34.
A39: Összesen: | D39: =SUM(D5:D38) -> 1600000
A40: Nem kötelező!

Sheet 7. sz tájékoztató t.
A3: B E V É T E L E K
A4: 1. sz. táblázat | E4: Forintban
A5: Sor- szám | B5: Bevételi jogcím | C5: =+CONCATENATE(LEFT(ÖSSZEFÜGGÉSEK!A5,4)+1,". évi") -> 2022. évi | D5: =+CONCATENATE(LEFT(ÖSSZEFÜGGÉSEK!A5,4)+2,". évi") -> 2023. évi | E5: =+CONCATENATE(LEFT(ÖSSZEFÜGGÉSEK!A5,4)+3,". évi") -> 2024. évi
A6: A | B6: B | C6: C | D6: D | E6: E
A7: 1. | B7: Önkormányzat működési támogatásai | C7: ='1.1.sz.mell.'!C5 -> 174040585 | D7: =C7*1.02 -> 1.775214e+08 | E7: =D7*1.02 -> 1.8107182e+08
A8: 2. | B8: Működési célú támogatások államháztartáson belülről | C8: ='1.1.sz.mell.'!C12*1.05 -> 0 | D8: =C8*1.05 -> 0 | E8: =D8*1.05 -> 0
A9: 3. | B9: Felhalmozási célú támogatások államháztartáson belülről | D9: =C9*1.05 -> 0 | E9: =D9*1.05 -> 0
A10: 4. | B10: Közhatalmi bevételek (4.1.+4.2.+4.3.+4.4.) | C10: ='1. sz tájékoztató t.'!C26 -> 10414500 | D10: =C10 -> 10414500 | E10: =D10 -> 10414500
A11: 4.1. | B11: Helyi adók (4.1.1.+...+4.1.3.) | C11: ='1. sz tájékoztató t.'!C27 -> 10414500 | D11: =C11 -> 10414500 | E11: =D11 -> 10414500
A12: 4.1.1. | B12: - Vagyoni típusú adók | C12: ='1. sz tájékoztató t.'!C28 -> 0 | E12: =C12 -> 0
A13: 4.1.2. | B13: - Termékek és szolgáltatások adói | C13: ='1. sz tájékoztató t.'!C29 -> 0 | D13: ='1. sz tájékoztató t.'!D29 -> 0
A14: 4.1.3. | B14: - Értékesítési és forgalmi adók (iparűzési adó) | C14: ='1. sz tájékoztató t.'!C30 -> 10414500 | D14: =C14 -> 10414500 | E14: =D14 -> 10414500
A15: 4.2. | B15: Gépjárműadó | C15: ='1. sz tájékoztató t.'!C31 -> 0 | D15: =C15 -> 0 | E15: =D15 -> 0
A16: 4.3. | B16: Egyéb áruhasználati és szolgáltatási adók | C16: ='1. sz tájékoztató t.'!C32 -> 0
A17: 4.4. | B17: Egyéb közhatalmi bevételek
A18: 5. | B18: Működési bevételek | C18: =('1. sz tájékoztató t.'!C34)*1.05 -> 25871808 | D18: =C18*1.05 -> 27165398 | E18: =D18*1.05 -> 28523668
A19: 6. | B19: Felhalmozási bevételek
A20: 7. | B20: Működési célú átvett pénzeszközök | C20: ='1. sz tájékoztató t.'!C52 -> 92245156 | D20: =C20*1.02 -> 94090059 | E20: =D20*1.02 -> 95971860
A21: 8. | B21: Felhalmozási célú átvett pénzeszközök
A22: 9. | B22: KÖLTSÉGVETÉSI BEVÉTELEK ÖSSZESEN: (1+…+8) | C22: =+C7+C8+C9+C10+C18+C19+C20+C21 -> 3.0257205e+08 | D22: =+D7+D8+D9+D10+D18+D19+D20+D21 -> 3.0919135e+08 | E22: =+E7+E8+E9+E10+E18+E19+E20+E21 -> 3.1598185e+08
A23: 10. | B23: FINANSZÍROZÁSI BEVÉTELEK ÖSSZESEN: | C23: ='1.1.sz.mell.'!C87 -> 32496710 | D23: =C23*1.05 -> 34121546 | E23: =D23*1.05 -> 35827623
A24: 11. | B24: KÖLTSÉGVETÉSI ÉS FINANSZÍROZÁSI BEVÉTELEK ÖSSZESEN: (9+10) | C24: =+C22+C23 -> 3.3506876e+08 | D24: =+D22+D23 -> 3.433129e+08 | E24: =+E22+E23 -> 3.5180948e+08
A26: K I A D Á S O K
A27: 2. sz. táblázat | E27: Forintban
A28: Sor-szám | B28: Kiadási jogcímek | C28: =+C5 -> 2022. évi | D28: =+D5 -> 2023. évi | E28: =+E5 -> 2024. évi
A29: A | B29: B | C29: C | D29: D | E29: E
A30: 1. | B30: Működési költségvetés kiadásai | C30: =C24 -> 3.3506876e+08 | D30: =D24 -> 3.433129e+08 | E30: =E24 -> 3.5180948e+08
A31: 2. | B31: Felhalmozási költségvetés kiadásai (2.1.+2.2.+2.3.) | D31: =+D32+D33+D34 -> 0 | E31: =+E32+E33+E34 -> 0
A32: 2.1. | B32: Beruházások | D32: =C32*1.05 -> 0 | E32: =D32*1.05 -> 0
A33: 2.2. | B33: Felújítások | D33: =C33*1.05 -> 0 | E33: =D33*1.05 -> 0
A34: 2.3. | B34: Egyéb felhalmozási kiadások
A35: 3. | B35: KÖLTSÉGVETÉSI KIADÁSOK ÖSSZESEN (1+2) | C35: =+C30+C31 -> 3.3506876e+08 | D35: =+D30+D31 -> 3.433129e+08 | E35: =+E30+E31 -> 3.5180948e+08
A36: 4. | B36: FINANSZÍROZÁSI KIADÁSOK ÖSSZESEN:
A37: 5. | B37: KIADÁSOK ÖSSZESEN: (3.+4.) | C37: =+C35+C36 -> 3.3506876e+08 | D37: =+D35+D36 -> 3.433129e+08 | E37: =+E35+E36 -> 3.5180948e+08
